BEGIN:VCALENDAR
VERSION:2.0
PRODID:-//CurlManitoba - ECPv6.15.17.1//NONSGML v1.0//EN
CALSCALE:GREGORIAN
METHOD:PUBLISH
X-ORIGINAL-URL:https://curlmanitoba.org
X-WR-CALDESC:Events for CurlManitoba
REFRESH-INTERVAL;VALUE=DURATION:PT1H
X-Robots-Tag:noindex
X-PUBLISHED-TTL:PT1H
BEGIN:VTIMEZONE
TZID:America/Winnipeg
BEGIN:DAYLIGHT
TZOFFSETFROM:-0600
TZOFFSETTO:-0500
TZNAME:CDT
DTSTART:20230312T080000
END:DAYLIGHT
BEGIN:STANDARD
TZOFFSETFROM:-0500
TZOFFSETTO:-0600
TZNAME:CST
DTSTART:20231105T070000
END:STANDARD
BEGIN:DAYLIGHT
TZOFFSETFROM:-0600
TZOFFSETTO:-0500
TZNAME:CDT
DTSTART:20240310T080000
END:DAYLIGHT
BEGIN:STANDARD
TZOFFSETFROM:-0500
TZOFFSETTO:-0600
TZNAME:CST
DTSTART:20241103T070000
END:STANDARD
BEGIN:DAYLIGHT
TZOFFSETFROM:-0600
TZOFFSETTO:-0500
TZNAME:CDT
DTSTART:20250309T080000
END:DAYLIGHT
BEGIN:STANDARD
TZOFFSETFROM:-0500
TZOFFSETTO:-0600
TZNAME:CST
DTSTART:20251102T070000
END:STANDARD
END:VTIMEZONE
BEGIN:VEVENT
DTSTART;TZID=America/Winnipeg:20241108T170000
DTEND;TZID=America/Winnipeg:20241110T190000
DTSTAMP:20260425T062335
CREATED:20240516T172542Z
LAST-MODIFIED:20240516T172542Z
UID:11583-1731085200-1731265200@curlmanitoba.org
SUMMARY:Viterra Berth Bonspiel
DESCRIPTION:Up to 2 berths (dependent on number of entries) will be awarded for the 2025 Viterra Championship being held in Portage\, MB. \nCost $225\nDeadline to enter is October 24\, 2024 \nSee our Electronic entry page or click here to enter. \nCompetitive Team Fees must be paid prior to playing in your first CurlManitoba qualifying event.  When entering your team\, please use the Add-On box to pay your fees.
URL:https://curlmanitoba.org/event/viterra-berth-bonspiel-3/
LOCATION:Carman Curling Club\, 4 Ave SW\, Carman\, Manitoba\, R0G 0J0\, Canada
END:VEVENT
BEGIN:VEVENT
DTSTART;TZID=America/Winnipeg:20241108T170000
DTEND;TZID=America/Winnipeg:20241110T190000
DTSTAMP:20260425T062335
CREATED:20240516T173015Z
LAST-MODIFIED:20240516T174546Z
UID:11584-1731085200-1731265200@curlmanitoba.org
SUMMARY:RME Berth Bonspiel
DESCRIPTION:One berth will be awarded for the 2025 RME Women of the Rings Championship presented by Case IH being held in Pilot Mound\, MB. \nCost $225\nDeadline to enter is October 24\, 2024. \nSee our Electronic entry page or click here to enter. \nCompetitive Team Fees must be paid prior to playing in your first CurlManitoba qualifying event.  When entering your team\, please use the Add-On box to pay your fees.
URL:https://curlmanitoba.org/event/rme-berth-bonspiel/
LOCATION:Carman Curling Club\, 4 Ave SW\, Carman\, Manitoba\, R0G 0J0\, Canada
END:VEVENT
END:VCALENDAR