BEGIN:VCALENDAR
VERSION:2.0
PRODID:-//CurlManitoba - ECPv6.15.17.1//NONSGML v1.0//EN
CALSCALE:GREGORIAN
METHOD:PUBLISH
X-WR-CALNAME:CurlManitoba
X-ORIGINAL-URL:https://curlmanitoba.org
X-WR-CALDESC:Events for CurlManitoba
REFRESH-INTERVAL;VALUE=DURATION:PT1H
X-Robots-Tag:noindex
X-PUBLISHED-TTL:PT1H
BEGIN:VTIMEZONE
TZID:America/Winnipeg
BEGIN:DAYLIGHT
TZOFFSETFROM:-0600
TZOFFSETTO:-0500
TZNAME:CDT
DTSTART:20210314T080000
END:DAYLIGHT
BEGIN:STANDARD
TZOFFSETFROM:-0500
TZOFFSETTO:-0600
TZNAME:CST
DTSTART:20211107T070000
END:STANDARD
BEGIN:DAYLIGHT
TZOFFSETFROM:-0600
TZOFFSETTO:-0500
TZNAME:CDT
DTSTART:20220313T080000
END:DAYLIGHT
BEGIN:STANDARD
TZOFFSETFROM:-0500
TZOFFSETTO:-0600
TZNAME:CST
DTSTART:20221106T070000
END:STANDARD
BEGIN:DAYLIGHT
TZOFFSETFROM:-0600
TZOFFSETTO:-0500
TZNAME:CDT
DTSTART:20230312T080000
END:DAYLIGHT
BEGIN:STANDARD
TZOFFSETFROM:-0500
TZOFFSETTO:-0600
TZNAME:CST
DTSTART:20231105T070000
END:STANDARD
BEGIN:DAYLIGHT
TZOFFSETFROM:-0600
TZOFFSETTO:-0500
TZNAME:CDT
DTSTART:20240310T080000
END:DAYLIGHT
BEGIN:STANDARD
TZOFFSETFROM:-0500
TZOFFSETTO:-0600
TZNAME:CST
DTSTART:20241103T070000
END:STANDARD
END:VTIMEZONE
BEGIN:VEVENT
DTSTART;TZID=America/Winnipeg:20230204T170000
DTEND;TZID=America/Winnipeg:20230205T170000
DTSTAMP:20260425T180540
CREATED:20220923T164116Z
LAST-MODIFIED:20221005T152107Z
UID:9428-1675530000-1675616400@curlmanitoba.org
SUMMARY:East St. Paul Mixed Doubles - Presented by PhysioGO Mobile Services
DESCRIPTION:Entry Fee is $250\nU25 Entry fee is $1200 \nPurse is $3000 \nContact for entry; \nSteven Michaleski\n204-803-1288\nmbmdtour@protonmail.com
URL:https://curlmanitoba.org/event/east-st-paul-mixed-doubles/
LOCATION:East St. Paul Curling Club\, 260 Hoddinott Rd\, East Saint Paul\, Manitoba\, R2E 0H7\, Canada
ORGANIZER;CN="Stevem Michaleske":MAILTO:mbmdtour@protonmail.com
END:VEVENT
BEGIN:VEVENT
DTSTART;TZID=America/Winnipeg:20230204T080000
DTEND;TZID=America/Winnipeg:20230204T210000
DTSTAMP:20260425T180540
CREATED:20221019T165933Z
LAST-MODIFIED:20221019T165938Z
UID:9497-1675497600-1675544400@curlmanitoba.org
SUMMARY:La Salle Mickey Bonspiel
DESCRIPTION:
URL:https://curlmanitoba.org/event/la-salle-mickey-bonspiel/
LOCATION:La Salle Curling Club
ORGANIZER;CN="La Salle Curling Club":MAILTO:lasallecurlingclubmb@gmail.com
END:VEVENT
BEGIN:VEVENT
DTSTART;TZID=America/Winnipeg:20230203T170000
DTEND;TZID=America/Winnipeg:20230205T170000
DTSTAMP:20260425T180540
CREATED:20230110T200650Z
LAST-MODIFIED:20230110T200656Z
UID:9732-1675443600-1675616400@curlmanitoba.org
SUMMARY:Clearwater Men's Bonspiel
DESCRIPTION:
URL:https://curlmanitoba.org/event/clearwater-mens-bonspiel/
LOCATION:Clearwater Crling Club
END:VEVENT
BEGIN:VEVENT
DTSTART;TZID=America/Winnipeg:20230203T170000
DTEND;TZID=America/Winnipeg:20230205T170000
DTSTAMP:20260425T180540
CREATED:20221215T211446Z
LAST-MODIFIED:20221215T211450Z
UID:9646-1675443600-1675616400@curlmanitoba.org
SUMMARY:Winnipeg Beach Ladies "Cocktails & Curling" Bonspiel
DESCRIPTION:
URL:https://curlmanitoba.org/event/winnipeg-beach-ladies-cocktails-curling-bonspiel/
LOCATION:Winnipeg Beach Curling Club
END:VEVENT
BEGIN:VEVENT
DTSTART;TZID=America/Winnipeg:20230203T170000
DTEND;TZID=America/Winnipeg:20230205T170000
DTSTAMP:20260425T180540
CREATED:20221110T173247Z
LAST-MODIFIED:20221110T173251Z
UID:9547-1675443600-1675616400@curlmanitoba.org
SUMMARY:Springfield Mixed Bonspiel (Dugald\, MB)
DESCRIPTION:
URL:https://curlmanitoba.org/event/springfield-mixed-bonspiel-dugald-mb/
LOCATION:Springfield Curling Club – Dugald
ORGANIZER;CN="Brad Ellis":MAILTO:fridaymixedcurling@gmail.com
END:VEVENT
BEGIN:VEVENT
DTSTART;TZID=America/Winnipeg:20230203T170000
DTEND;TZID=America/Winnipeg:20230204T170000
DTSTAMP:20260425T180540
CREATED:20230116T205240Z
LAST-MODIFIED:20230116T205257Z
UID:9883-1675443600-1675530000@curlmanitoba.org
SUMMARY:Swan Lake Doubles Bonspiel
DESCRIPTION:
URL:https://curlmanitoba.org/event/swan-lake-doubles-bonspiel/
LOCATION:Swan Lake Curling Club\, Swan Lake\, Manitoba\, R0G 2S0\, Canada
ORGANIZER;CN="Christine Gundrum":MAILTO:cgundrum15@hotmail.com
END:VEVENT
BEGIN:VEVENT
DTSTART;TZID=America/Winnipeg:20230203T120000
DTEND;TZID=America/Winnipeg:20230205T170000
DTSTAMP:20260425T180540
CREATED:20221229T194011Z
LAST-MODIFIED:20230102T213536Z
UID:9675-1675425600-1675616400@curlmanitoba.org
SUMMARY:Ironman 22nd Annual Outdoor Curling Bonspiel
DESCRIPTION:
URL:https://curlmanitoba.org/event/ironman-22nd-annual-outdoor-curling-bonspiel/
LOCATION:On the Red River at the Redboine Boat Club
ORGANIZER;CN="Ironman Committee":MAILTO:info@ironmancurling.com
END:VEVENT
BEGIN:VEVENT
DTSTART;TZID=America/Winnipeg:20230203T080000
DTEND;TZID=America/Winnipeg:20230205T170000
DTSTAMP:20260425T180540
CREATED:20221108T205014Z
LAST-MODIFIED:20221108T205020Z
UID:9542-1675411200-1675616400@curlmanitoba.org
SUMMARY:Stonewall Junior Bonspiel (U15 & U18)
DESCRIPTION:
URL:https://curlmanitoba.org/event/stonewall-junior-bonspiel-u15-u18/
LOCATION:Access Curling Club – Stonewall\, 500 Main Street\, Stonewall\, Manitoba\, R0C 2Z0\, Canada
ORGANIZER;CN="Stu Brown":MAILTO:sjbrown@mts.net
END:VEVENT
BEGIN:VEVENT
DTSTART;TZID=America/Winnipeg:20230127T170000
DTEND;TZID=America/Winnipeg:20230129T190000
DTSTAMP:20260425T180540
CREATED:20221219T214902Z
LAST-MODIFIED:20221219T214907Z
UID:9659-1674838800-1675018800@curlmanitoba.org
SUMMARY:Portage Men's Bonspiel
DESCRIPTION:
URL:https://curlmanitoba.org/event/portage-mens-bonspiel/
LOCATION:Portage Curling Club\, 2401 Saskatchewan Ave W\, Portage la Prairie\, Manitoba\, R1N 3B7\, Canada
ORGANIZER;CN="Portage Curling CLub Manager":MAILTO:manager@portagecurlingclub.com
END:VEVENT
BEGIN:VEVENT
DTSTART;TZID=America/Winnipeg:20230127T170000
DTEND;TZID=America/Winnipeg:20230129T170000
DTSTAMP:20260425T180540
CREATED:20221130T161040Z
LAST-MODIFIED:20221130T161045Z
UID:9596-1674838800-1675011600@curlmanitoba.org
SUMMARY:Victoria Beach Ladies Bonspiel 2023
DESCRIPTION:
URL:https://curlmanitoba.org/event/victoria-beach-ladies-bonspiel-2023/
LOCATION:Victoria Beach Curling Club
ORGANIZER;CN="Tiffanie Lauze":MAILTO:htiffanie25@yahoo.com
END:VEVENT
BEGIN:VEVENT
DTSTART;TZID=America/Winnipeg:20230127T170000
DTEND;TZID=America/Winnipeg:20230129T170000
DTSTAMP:20260425T180540
CREATED:20221116T191618Z
LAST-MODIFIED:20221116T191631Z
UID:9569-1674838800-1675011600@curlmanitoba.org
SUMMARY:Neepawa Men's Bonspiel
DESCRIPTION:
URL:https://curlmanitoba.org/event/neepawa-mens-bonspiel/
LOCATION:Neepawa Curling Club
END:VEVENT
BEGIN:VEVENT
DTSTART;TZID=America/Winnipeg:20230127T170000
DTEND;TZID=America/Winnipeg:20230128T220000
DTSTAMP:20260425T180540
CREATED:20221106T215926Z
LAST-MODIFIED:20221106T215931Z
UID:9531-1674838800-1674943200@curlmanitoba.org
SUMMARY:Beausejour 2-Person Stick Bonspiel
DESCRIPTION:
URL:https://curlmanitoba.org/event/beausejour-2-person-stick-bonspiel-2/
LOCATION:Beausejour Curling Club\, 360 Veteran's Lane\, Beausejour\, Manitoba\, R0E 0C0\, Canada
ORGANIZER;CN="Gary":MAILTO:srossing@mymts.net
END:VEVENT
BEGIN:VEVENT
DTSTART;TZID=America/Winnipeg:20230127T170000
DTEND;TZID=America/Winnipeg:20230128T170000
DTSTAMP:20260425T180540
CREATED:20230110T200427Z
LAST-MODIFIED:20230110T200432Z
UID:9728-1674838800-1674925200@curlmanitoba.org
SUMMARY:Clearwater Ladies Bonspiel
DESCRIPTION:
URL:https://curlmanitoba.org/event/clearwater-ladies-bonspiel/
LOCATION:Clearwater Crling Club
END:VEVENT
BEGIN:VEVENT
DTSTART;VALUE=DATE:20230127
DTEND;VALUE=DATE:20230130
DTSTAMP:20260425T180540
CREATED:20220602T134713Z
LAST-MODIFIED:20221201T200332Z
UID:9301-1674777600-1675036799@curlmanitoba.org
SUMMARY:Neil Andrews Legends Classic Senior Men's Bonspiel with a Berth
DESCRIPTION:Entry fee $280 per team \nEntry deadline:  January 13th\, 2023 \nPlease contact:  Cory Lawson @ 204-761-8595 or cory@cancaderestoration.com OR Crystal Lawson @ 204-570-0171 or lawsoncrystal10@gmail.com
URL:https://curlmanitoba.org/event/neil-andrews-legends-classic-senior-mens-bonspiel-with-a-berth/
LOCATION:Brandon Curling Club\, 1175 18th St\, Brandon\, Brandon\, R7A7C5\, Canada
ORGANIZER;CN="Crystal Lawsom":MAILTO:mailto:lawsoncrystal10@gmail.com
END:VEVENT
BEGIN:VEVENT
DTSTART;VALUE=DATE:20230124
DTEND;VALUE=DATE:20230130
DTSTAMP:20260425T180540
CREATED:20210608T174019Z
LAST-MODIFIED:20220601T213632Z
UID:8551-1674518400-1675036799@curlmanitoba.org
SUMMARY:Scotties Tournament of Hearts Provincial Championship
DESCRIPTION:
URL:https://curlmanitoba.org/event/scotties-tournament-of-hearts-provincial-championship/
LOCATION:East St Paul  Recreation Complex
END:VEVENT
BEGIN:VEVENT
DTSTART;TZID=America/Winnipeg:20230121T080000
DTEND;TZID=America/Winnipeg:20230121T220000
DTSTAMP:20260425T180540
CREATED:20221219T155716Z
LAST-MODIFIED:20221219T155723Z
UID:9651-1674288000-1674338400@curlmanitoba.org
SUMMARY:Springfield 2-Person Stick Bonspiel
DESCRIPTION:
URL:https://curlmanitoba.org/event/springfield-2-person-stick-bonspiel/
LOCATION:Springfield Curling Club – Dugald
END:VEVENT
BEGIN:VEVENT
DTSTART;TZID=America/Winnipeg:20230120T170000
DTEND;TZID=America/Winnipeg:20230122T170000
DTSTAMP:20260425T180540
CREATED:20230111T203410Z
LAST-MODIFIED:20230111T203416Z
UID:9741-1674234000-1674406800@curlmanitoba.org
SUMMARY:Lac du Bonnet Women's Bonspiel
DESCRIPTION:
URL:https://curlmanitoba.org/event/lac-du-bonnet-womens-bonspiel/
LOCATION:Lac du Bonnet Curling Club
ORGANIZER;CN="Cheri":MAILTO:cbdwaite@hotmail.ca
END:VEVENT
BEGIN:VEVENT
DTSTART;TZID=America/Winnipeg:20230120T170000
DTEND;TZID=America/Winnipeg:20230122T170000
DTSTAMP:20260425T180540
CREATED:20221201T213100Z
LAST-MODIFIED:20221201T213128Z
UID:9613-1674234000-1674406800@curlmanitoba.org
SUMMARY:Whiteshell Ladies Bonspiel
DESCRIPTION:
URL:https://curlmanitoba.org/event/whiteshell-ladies-bonspiel/
LOCATION:Whiteshell Curlng Club
ORGANIZER;CN="Janet Arbottle":MAILTO:mothership@mymts.net
END:VEVENT
BEGIN:VEVENT
DTSTART;VALUE=DATE:20230117
DTEND;VALUE=DATE:20230122
DTSTAMP:20260425T180540
CREATED:20210608T174338Z
LAST-MODIFIED:20220921T144740Z
UID:8554-1673913600-1674345599@curlmanitoba.org
SUMMARY:TELUS Junior Men's & Women's Open Provincial Championship
DESCRIPTION:
URL:https://curlmanitoba.org/event/telus-junior-mens-womens-provincial-championship/
LOCATION:Portage Curling Club\, 2401 Saskatchewan Ave W\, Portage la Prairie\, Manitoba\, R1N 3B7\, Canada
END:VEVENT
BEGIN:VEVENT
DTSTART;TZID=America/Winnipeg:20230113T170000
DTEND;TZID=America/Winnipeg:20230115T170000
DTSTAMP:20260425T180540
CREATED:20221116T191317Z
LAST-MODIFIED:20221116T191322Z
UID:9564-1673629200-1673802000@curlmanitoba.org
SUMMARY:Neepawa Ladies Bonspiel
DESCRIPTION:
URL:https://curlmanitoba.org/event/neepawa-ladies-bonspiel/
LOCATION:Neepawa Curling Club
END:VEVENT
BEGIN:VEVENT
DTSTART;VALUE=DATE:20230113
DTEND;VALUE=DATE:20230116
DTSTAMP:20260425T180540
CREATED:20210608T191016Z
LAST-MODIFIED:20220601T212835Z
UID:8568-1673568000-1673827199@curlmanitoba.org
SUMMARY:Manitoba HALFspiel
DESCRIPTION:
URL:https://curlmanitoba.org/event/manitoba-halfspiel/
LOCATION:Various Manitoba Clubs
END:VEVENT
BEGIN:VEVENT
DTSTART;VALUE=DATE:20230112
DTEND;VALUE=DATE:20230117
DTSTAMP:20260425T180540
CREATED:20210608T190727Z
LAST-MODIFIED:20220601T212952Z
UID:8567-1673481600-1673913599@curlmanitoba.org
SUMMARY:Manitoba Open
DESCRIPTION:
URL:https://curlmanitoba.org/event/manitoba-open/
LOCATION:Various Manitoba Clubs
END:VEVENT
BEGIN:VEVENT
DTSTART;TZID=America/Winnipeg:20230107T080000
DTEND;TZID=America/Winnipeg:20230107T170000
DTSTAMP:20260425T180540
CREATED:20221219T221013Z
LAST-MODIFIED:20221219T221018Z
UID:9661-1673078400-1673110800@curlmanitoba.org
SUMMARY:Stonewall Stick Bonspiel
DESCRIPTION:
URL:https://curlmanitoba.org/event/stonewall-stick-bonspiel-2/
LOCATION:Access Curling Club – Stonewall\, 500 Main Street\, Stonewall\, Manitoba\, R0C 2Z0\, Canada
ORGANIZER;CN="Judy Kitching":MAILTO:kitchingjudy@gmail.com
END:VEVENT
BEGIN:VEVENT
DTSTART;TZID=America/Winnipeg:20230106T170000
DTEND;TZID=America/Winnipeg:20230108T210000
DTSTAMP:20260425T180540
CREATED:20221125T181459Z
LAST-MODIFIED:20221125T181505Z
UID:9584-1673024400-1673211600@curlmanitoba.org
SUMMARY:Brandon Men's Bonspiel with a Berth
DESCRIPTION:
URL:https://curlmanitoba.org/event/brandon-mens-bonspiel-with-a-berth-2/
LOCATION:Brandon Curling Club\, 1175 18th St\, Brandon\, Brandon\, R7A7C5\, Canada
ORGANIZER;CN="Brandon Curlig Club":MAILTO:brandoncurls@wcgwave.ca
END:VEVENT
BEGIN:VEVENT
DTSTART;TZID=America/Winnipeg:20230106T170000
DTEND;TZID=America/Winnipeg:20230108T170000
DTSTAMP:20260425T180540
CREATED:20221201T213950Z
LAST-MODIFIED:20221201T214003Z
UID:9617-1673024400-1673197200@curlmanitoba.org
SUMMARY:Winnipeg Beach Men's Bonspiel
DESCRIPTION:
URL:https://curlmanitoba.org/event/winnipeg-beach-mens-bonspiel/
LOCATION:Brandon Curling Club\, 1175 18th St\, Brandon\, Brandon\, R7A7C5\, Canada
END:VEVENT
BEGIN:VEVENT
DTSTART;TZID=America/Winnipeg:20230106T170000
DTEND;TZID=America/Winnipeg:20230108T170000
DTSTAMP:20260425T180540
CREATED:20220914T163241Z
LAST-MODIFIED:20221123T155945Z
UID:9406-1673024400-1673197200@curlmanitoba.org
SUMMARY:Beausejour Men's Bonspiel
DESCRIPTION:
URL:https://curlmanitoba.org/event/beausejour-mens-bonspiel/
LOCATION:Beausejour Curling Club\, 360 Veteran's Lane\, Beausejour\, Manitoba\, R0E 0C0\, Canada
ORGANIZER;CN="Justin":MAILTO:justinrichter@me.com
END:VEVENT
BEGIN:VEVENT
DTSTART;TZID=America/Winnipeg:20230105T170000
DTEND;TZID=America/Winnipeg:20230108T170000
DTSTAMP:20260425T180540
CREATED:20221201T215133Z
LAST-MODIFIED:20221201T215149Z
UID:9623-1672938000-1673197200@curlmanitoba.org
SUMMARY:Arden Lansdowne Men's Bonspiel
DESCRIPTION:
URL:https://curlmanitoba.org/event/arden-lansdowne-mens-bonspiel/
LOCATION:Arden Curling Club
END:VEVENT
BEGIN:VEVENT
DTSTART;VALUE=DATE:20230103
DTEND;VALUE=DATE:20230106
DTSTAMP:20260425T180540
CREATED:20220602T134541Z
LAST-MODIFIED:20220602T143741Z
UID:9299-1672704000-1672963199@curlmanitoba.org
SUMMARY:Brandon Master Men's Bonspiel with a Berth
DESCRIPTION:
URL:https://curlmanitoba.org/event/brandon-master-mens-bonspiel-with-a-berth/
END:VEVENT
BEGIN:VEVENT
DTSTART;VALUE=DATE:20221227
DTEND;VALUE=DATE:20230101
DTSTAMP:20260425T180540
CREATED:20220601T211408Z
LAST-MODIFIED:20220601T211408Z
UID:9294-1672099200-1672531199@curlmanitoba.org
SUMMARY:Asham U18 Men's & Women's Open Championship
DESCRIPTION:
URL:https://curlmanitoba.org/event/asham-u18-mens-womens-open-championship/
END:VEVENT
BEGIN:VEVENT
DTSTART;TZID=America/Winnipeg:20221226T080000
DTEND;TZID=America/Winnipeg:20221226T210000
DTSTAMP:20260425T180540
CREATED:20221116T191446Z
LAST-MODIFIED:20221116T191451Z
UID:9567-1672041600-1672088400@curlmanitoba.org
SUMMARY:Neepawa Boxing Day Bonspiel
DESCRIPTION:
URL:https://curlmanitoba.org/event/neepawa-boxing-day-bonspiel/
LOCATION:Neepawa Curling Club
END:VEVENT
END:VCALENDAR