BEGIN:VCALENDAR
VERSION:2.0
PRODID:-//CurlManitoba - ECPv6.15.17.1//NONSGML v1.0//EN
CALSCALE:GREGORIAN
METHOD:PUBLISH
X-WR-CALNAME:CurlManitoba
X-ORIGINAL-URL:https://curlmanitoba.org
X-WR-CALDESC:Events for CurlManitoba
REFRESH-INTERVAL;VALUE=DURATION:PT1H
X-Robots-Tag:noindex
X-PUBLISHED-TTL:PT1H
BEGIN:VTIMEZONE
TZID:America/Winnipeg
BEGIN:DAYLIGHT
TZOFFSETFROM:-0600
TZOFFSETTO:-0500
TZNAME:CDT
DTSTART:20230312T080000
END:DAYLIGHT
BEGIN:STANDARD
TZOFFSETFROM:-0500
TZOFFSETTO:-0600
TZNAME:CST
DTSTART:20231105T070000
END:STANDARD
BEGIN:DAYLIGHT
TZOFFSETFROM:-0600
TZOFFSETTO:-0500
TZNAME:CDT
DTSTART:20240310T080000
END:DAYLIGHT
BEGIN:STANDARD
TZOFFSETFROM:-0500
TZOFFSETTO:-0600
TZNAME:CST
DTSTART:20241103T070000
END:STANDARD
BEGIN:DAYLIGHT
TZOFFSETFROM:-0600
TZOFFSETTO:-0500
TZNAME:CDT
DTSTART:20250309T080000
END:DAYLIGHT
BEGIN:STANDARD
TZOFFSETFROM:-0500
TZOFFSETTO:-0600
TZNAME:CST
DTSTART:20251102T070000
END:STANDARD
END:VTIMEZONE
BEGIN:VEVENT
DTSTART;TZID=America/Winnipeg:20240315T170000
DTEND;TZID=America/Winnipeg:20240317T170000
DTSTAMP:20260421T024008
CREATED:20240109T173543Z
LAST-MODIFIED:20240109T173547Z
UID:10709-1710522000-1710694800@curlmanitoba.org
SUMMARY:Gimli Ladies Bonspiel
DESCRIPTION:
URL:https://curlmanitoba.org/event/gimli-ladies-bonspiel/
LOCATION:Gimili Curling Club
ORGANIZER;CN="Kara":MAILTO:peiluck@hotmail.com
END:VEVENT
BEGIN:VEVENT
DTSTART;TZID=America/Winnipeg:20240315T170000
DTEND;TZID=America/Winnipeg:20240317T170000
DTSTAMP:20260421T024008
CREATED:20231122T163157Z
LAST-MODIFIED:20231122T163210Z
UID:10573-1710522000-1710694800@curlmanitoba.org
SUMMARY:Wawanesa Open Bonspiel
DESCRIPTION:
URL:https://curlmanitoba.org/event/wawanesa-open-bonspiel-2/
LOCATION:Wawanesa Curling Club
END:VEVENT
BEGIN:VEVENT
DTSTART;TZID=America/Winnipeg:20240315T080000
DTEND;TZID=America/Winnipeg:20240317T170000
DTSTAMP:20260421T024008
CREATED:20231108T185039Z
LAST-MODIFIED:20231108T185044Z
UID:10507-1710489600-1710694800@curlmanitoba.org
SUMMARY:Lac du Bonnet Mixed Bonspiel
DESCRIPTION:
URL:https://curlmanitoba.org/event/lac-du-bonnet-mixed-bonspiel/
LOCATION:Lac du Bonnet Curling Club
END:VEVENT
BEGIN:VEVENT
DTSTART;TZID=America/Winnipeg:20240314T120000
DTEND;TZID=America/Winnipeg:20240317T210000
DTSTAMP:20260421T024008
CREATED:20230727T154922Z
LAST-MODIFIED:20230727T154922Z
UID:10286-1710417600-1710709200@curlmanitoba.org
SUMMARY:Chicken Chef Mixed Provincial Championship
DESCRIPTION:Cost $225\nEntry January 2 – March 2\, 2024 \nTo enter visit our Electronic Entry page or click on the following links for your region: \nChicken Chef Mixed Provincial Championship \nCompetitive Team Fees MUST be paid prior to playing in this event.  When entering your team\, please click the Add-On box in curling I/O.
URL:https://curlmanitoba.org/event/chicken-chef-mixed-provincial-championship/
LOCATION:Neepawa Curling Club
END:VEVENT
BEGIN:VEVENT
DTSTART;TZID=America/Winnipeg:20240312T170000
DTEND;TZID=America/Winnipeg:20240317T170000
DTSTAMP:20260421T024008
CREATED:20240115T211332Z
LAST-MODIFIED:20240115T211339Z
UID:10738-1710262800-1710694800@curlmanitoba.org
SUMMARY:124th Virden Men's Bonspiel
DESCRIPTION:
URL:https://curlmanitoba.org/event/124th-virden-mens-bonspiel/
LOCATION:Virden Curling Club
END:VEVENT
BEGIN:VEVENT
DTSTART;TZID=America/Winnipeg:20240309T080000
DTEND;TZID=America/Winnipeg:20240309T210000
DTSTAMP:20260421T024008
CREATED:20240122T163252Z
LAST-MODIFIED:20240122T163259Z
UID:11167-1709971200-1710018000@curlmanitoba.org
SUMMARY:Rivers 2nd Annual Junior Bonspiel
DESCRIPTION:
URL:https://curlmanitoba.org/event/rivers-2nd-annual-junior-bonspiel/
LOCATION:Rivers Curling Club\, 101 Main Street\, Rivers\, Manitoba\, R0K 1X0\, Canada
ORGANIZER;CN="champ22_2@hotmail.cm":MAILTO:champ22_2@hotmail.com
END:VEVENT
BEGIN:VEVENT
DTSTART;TZID=America/Winnipeg:20240308T170000
DTEND;TZID=America/Winnipeg:20240310T170000
DTSTAMP:20260421T024008
CREATED:20240216T170655Z
LAST-MODIFIED:20240216T170659Z
UID:11388-1709917200-1710090000@curlmanitoba.org
SUMMARY:Treherne Open Bonspiel
DESCRIPTION:
URL:https://curlmanitoba.org/event/treherne-open-bonspiel/
LOCATION:Treherne Curling Club
END:VEVENT
BEGIN:VEVENT
DTSTART;TZID=America/Winnipeg:20240308T170000
DTEND;TZID=America/Winnipeg:20240310T170000
DTSTAMP:20260421T024008
CREATED:20240207T222325Z
LAST-MODIFIED:20240207T222331Z
UID:11312-1709917200-1710090000@curlmanitoba.org
SUMMARY:Dauphin "90's" Themed Bonspiel
DESCRIPTION:
URL:https://curlmanitoba.org/event/dauphin-90s-themed-bonspiel/
LOCATION:Dauphin Curling Club
END:VEVENT
BEGIN:VEVENT
DTSTART;TZID=America/Winnipeg:20240308T170000
DTEND;TZID=America/Winnipeg:20240310T170000
DTSTAMP:20260421T024008
CREATED:20240129T222042Z
LAST-MODIFIED:20240129T222149Z
UID:11233-1709917200-1710090000@curlmanitoba.org
SUMMARY:Pinawa - End of the Season Men's and Women's Simultaneous Bonspiel
DESCRIPTION:
URL:https://curlmanitoba.org/event/pinawa-end-of-the-season-mens-and-womens-simultaneous-bonspiel/
LOCATION:Pinawa Curling Club
END:VEVENT
BEGIN:VEVENT
DTSTART;TZID=America/Winnipeg:20240308T170000
DTEND;TZID=America/Winnipeg:20240310T170000
DTSTAMP:20260421T024008
CREATED:20231109T203038Z
LAST-MODIFIED:20240110T213051Z
UID:10517-1709917200-1710090000@curlmanitoba.org
SUMMARY:Stonewall Men's Bonspiel
DESCRIPTION:
URL:https://curlmanitoba.org/event/stonewall-mens-bonspiel-3/
LOCATION:Access Curling Club – Stonewall\, 500 Main Street\, Stonewall\, Manitoba\, R0C 2Z0\, Canada
ORGANIZER;CN="Matt Dulop":MAILTO:mdunlop1455@gmail.com
END:VEVENT
BEGIN:VEVENT
DTSTART;TZID=America/Winnipeg:20240308T170000
DTEND;TZID=America/Winnipeg:20240310T170000
DTSTAMP:20260421T024008
CREATED:20230824T172954Z
LAST-MODIFIED:20230824T173000Z
UID:10326-1709917200-1710090000@curlmanitoba.org
SUMMARY:Whiteshell Mixed Bonspiel
DESCRIPTION:
URL:https://curlmanitoba.org/event/whiteshell-mixed-bonspiel/
LOCATION:Whiteshell Curlng Club
ORGANIZER;CN="Janet Harbottle":MAILTO:mothership@mymts.net
END:VEVENT
BEGIN:VEVENT
DTSTART;TZID=America/Winnipeg:20240308T080000
DTEND;TZID=America/Winnipeg:20240309T170000
DTSTAMP:20260421T024008
CREATED:20230925T190618Z
LAST-MODIFIED:20230925T190647Z
UID:10404-1709884800-1710003600@curlmanitoba.org
SUMMARY:La Salle Ladies Bonspiel
DESCRIPTION:
URL:https://curlmanitoba.org/event/la-salle-ladies-bonspiel-2/
LOCATION:La Salle Curling Club
END:VEVENT
BEGIN:VEVENT
DTSTART;TZID=America/Winnipeg:20240307T180000
DTEND;TZID=America/Winnipeg:20240310T200000
DTSTAMP:20260421T024008
CREATED:20231211T180048Z
LAST-MODIFIED:20240220T180120Z
UID:10627-1709834400-1710100800@curlmanitoba.org
SUMMARY:Dynasty U20 Mixed Doubles Provincial Championship
DESCRIPTION:Dynasty U20 Mixed Doubles Provincial Championship\nCharleswood Curling Club\, Winnipeg\, MB \nEntry is $105\nDeadline to enter is Thursday\, February 22\, 2024 at 4:30pm. \nClick here to enter – Dynasty U20 Mixed Doubles Provincial Championship
URL:https://curlmanitoba.org/event/dynasty-u20-mixed-doubles-provincial-championship/
LOCATION:Charleswood Curling Club\, 4000 Grant Ave\, Winnipeg\, Manitoba\, R3R0L1\, Canada
END:VEVENT
BEGIN:VEVENT
DTSTART;TZID=America/Winnipeg:20240306T170000
DTEND;TZID=America/Winnipeg:20240310T170000
DTSTAMP:20260421T024008
CREATED:20240112T183236Z
LAST-MODIFIED:20240112T183241Z
UID:10731-1709744400-1710090000@curlmanitoba.org
SUMMARY:Virden Ladies Bonspiel
DESCRIPTION:
URL:https://curlmanitoba.org/event/virden-ladies-bonspiel/
LOCATION:Virden Curling Club
END:VEVENT
BEGIN:VEVENT
DTSTART;TZID=America/Winnipeg:20240305T080000
DTEND;TZID=America/Winnipeg:20240307T170000
DTSTAMP:20260421T024008
CREATED:20231107T150626Z
LAST-MODIFIED:20231107T150636Z
UID:10491-1709625600-1709830800@curlmanitoba.org
SUMMARY:Manitoba 55+ Games (Qualifying event for the Canada Senior Games)
DESCRIPTION:Click on the link below for event details: \nhttps://curlmanitoba.org/wp-content/uploads/2023/11/2024-Curling-Poster.pdf \n 
URL:https://curlmanitoba.org/event/manitoba-55-games-qualifying-event-for-the-canada-senior-games/
LOCATION:Brandon Curling Club\, 1175 18th St\, Brandon\, Brandon\, R7A7C5\, Canada
ORGANIZER;CN="www.activeagingmb.ca":MAILTO:manitoba55plusgames@gmail.com
END:VEVENT
BEGIN:VEVENT
DTSTART;TZID=America/Winnipeg:20240305T080000
DTEND;TZID=America/Winnipeg:20240306T170000
DTSTAMP:20260421T024008
CREATED:20231122T163951Z
LAST-MODIFIED:20231122T164021Z
UID:10579-1709625600-1709744400@curlmanitoba.org
SUMMARY:Rivers Senior Bonspiel
DESCRIPTION:
URL:https://curlmanitoba.org/event/rivers-senior-bonspiel/
LOCATION:Rivers Curling Club\, 101 Main Street\, Rivers\, Manitoba\, R0K 1X0\, Canada
END:VEVENT
BEGIN:VEVENT
DTSTART;TZID=America/Winnipeg:20240302T170000
DTEND;TZID=America/Winnipeg:20240303T170000
DTSTAMP:20260421T024008
CREATED:20240102T211537Z
LAST-MODIFIED:20240102T211546Z
UID:10680-1709398800-1709485200@curlmanitoba.org
SUMMARY:Burntwood Men's Open 63rd Annual Bonspiel (Thompson)
DESCRIPTION:
URL:https://curlmanitoba.org/event/burntwood-mens-open-63rd-annual-bonspiel-thompson/
LOCATION:Burntwood – Thompson
ORGANIZER;CN="Sam":MAILTO:antila@mymts.net
END:VEVENT
BEGIN:VEVENT
DTSTART;TZID=America/Winnipeg:20240301T170000
DTEND;TZID=America/Winnipeg:20240303T170000
DTSTAMP:20260421T024008
CREATED:20240209T193051Z
LAST-MODIFIED:20240209T193057Z
UID:11345-1709312400-1709485200@curlmanitoba.org
SUMMARY:Holland Open Bonspiel
DESCRIPTION:
URL:https://curlmanitoba.org/event/holland-open-bonspiel/
LOCATION:Holland Curling Club
END:VEVENT
BEGIN:VEVENT
DTSTART;TZID=America/Winnipeg:20240301T170000
DTEND;TZID=America/Winnipeg:20240303T170000
DTSTAMP:20260421T024008
CREATED:20240207T221917Z
LAST-MODIFIED:20240207T221923Z
UID:11310-1709312400-1709485200@curlmanitoba.org
SUMMARY:Dauphin Men's Bonspiel presented by Dauphin Clinic Pharmacy
DESCRIPTION:
URL:https://curlmanitoba.org/event/dauphin-mens-bonspiel-presented-by-dauphin-clinic-pharmacy/
LOCATION:Dauphin Curling Club
END:VEVENT
BEGIN:VEVENT
DTSTART;TZID=America/Winnipeg:20240301T170000
DTEND;TZID=America/Winnipeg:20240303T170000
DTSTAMP:20260421T024008
CREATED:20240129T221045Z
LAST-MODIFIED:20240129T221114Z
UID:11228-1709312400-1709485200@curlmanitoba.org
SUMMARY:Boissevain Open Bonspiel
DESCRIPTION:
URL:https://curlmanitoba.org/event/boissevain-open-bonspiel/
LOCATION:Boissevain Curling Club
END:VEVENT
BEGIN:VEVENT
DTSTART;TZID=America/Winnipeg:20240301T170000
DTEND;TZID=America/Winnipeg:20240303T170000
DTSTAMP:20260421T024008
CREATED:20240119T212948Z
LAST-MODIFIED:20240119T213006Z
UID:10817-1709312400-1709485200@curlmanitoba.org
SUMMARY:Fort Distributors Selkirk Men's Bonspiel
DESCRIPTION:
URL:https://curlmanitoba.org/event/fort-distributors-selkirk-mens-bonspiel/
LOCATION:Selkirk Curling club\, 381 Jemima Street\, Selkirk\, Manitoba\, R1A 0R2\, Canada
ORGANIZER;CN="Allan Typliski":MAILTO:atypliski@gmail.com
END:VEVENT
BEGIN:VEVENT
DTSTART;TZID=America/Winnipeg:20240301T170000
DTEND;TZID=America/Winnipeg:20240303T170000
DTSTAMP:20260421T024008
CREATED:20231221T172045Z
LAST-MODIFIED:20231221T172100Z
UID:10657-1709312400-1709485200@curlmanitoba.org
SUMMARY:Portage Ladies "Once Upon A Disney" Bonspiel
DESCRIPTION:
URL:https://curlmanitoba.org/event/portage-ladies-once-upon-a-disney-bonspiel/
LOCATION:Portage Curling Club\, 2401 Saskatchewan Ave W\, Portage la Prairie\, Manitoba\, R1N 3B7\, Canada
ORGANIZER;CN="Nicole":MAILTO:nicolelaramee4@gmail.com
END:VEVENT
BEGIN:VEVENT
DTSTART;TZID=America/Winnipeg:20240301T170000
DTEND;TZID=America/Winnipeg:20240303T170000
DTSTAMP:20260421T024008
CREATED:20231127T174022Z
LAST-MODIFIED:20231127T174028Z
UID:10593-1709312400-1709485200@curlmanitoba.org
SUMMARY:Teulon 100th Anniversary Open Bonspiel
DESCRIPTION:
URL:https://curlmanitoba.org/event/teulon-100th-anniversary-open-bonspiel/
LOCATION:Teulon Curling Club
ORGANIZER;CN="Lindsey Jack":MAILTO:lindseymjack@gmail.com
END:VEVENT
BEGIN:VEVENT
DTSTART;TZID=America/Winnipeg:20240301T170000
DTEND;TZID=America/Winnipeg:20240303T170000
DTSTAMP:20260421T024008
CREATED:20230925T190352Z
LAST-MODIFIED:20230925T190357Z
UID:10402-1709312400-1709485200@curlmanitoba.org
SUMMARY:La Salle Family Bonspiel
DESCRIPTION:
URL:https://curlmanitoba.org/event/la-salle-family-bonspiel-2/
LOCATION:La Salle Curling Club
END:VEVENT
BEGIN:VEVENT
DTSTART;TZID=America/Winnipeg:20240301T170000
DTEND;TZID=America/Winnipeg:20240302T170000
DTSTAMP:20260421T024008
CREATED:20231016T205435Z
LAST-MODIFIED:20231016T205510Z
UID:10439-1709312400-1709398800@curlmanitoba.org
SUMMARY:Curl Balmoral Open Bonspiel
DESCRIPTION:
URL:https://curlmanitoba.org/event/curl-balmoral-open-bonspiel/
LOCATION:Balmoral Curling Club
ORGANIZER;CN="Darrel Argan":MAILTO:darrelargan@yahoo.ca
END:VEVENT
BEGIN:VEVENT
DTSTART;TZID=America/Winnipeg:20240223T170000
DTEND;TZID=America/Winnipeg:20240225T170000
DTSTAMP:20260421T024008
CREATED:20240115T211634Z
LAST-MODIFIED:20240115T211752Z
UID:10740-1708707600-1708880400@curlmanitoba.org
SUMMARY:Springfield Men's Bonspiel
DESCRIPTION:
URL:https://curlmanitoba.org/event/springfield-mens-bonspiel-2/
LOCATION:Springfield Curling Club – Dugald
END:VEVENT
BEGIN:VEVENT
DTSTART;TZID=America/Winnipeg:20240223T170000
DTEND;TZID=America/Winnipeg:20240225T170000
DTSTAMP:20260421T024008
CREATED:20240102T211837Z
LAST-MODIFIED:20240102T211853Z
UID:10682-1708707600-1708880400@curlmanitoba.org
SUMMARY:Burntwood "Into the Wild" Ladies Bonspiel - Thompson
DESCRIPTION:
URL:https://curlmanitoba.org/event/burntwood-into-the-wild-ladies-bonspiel-thompson/
LOCATION:Burntwood – Thompson
END:VEVENT
BEGIN:VEVENT
DTSTART;TZID=America/Winnipeg:20240223T170000
DTEND;TZID=America/Winnipeg:20240225T170000
DTSTAMP:20260421T024008
CREATED:20231113T161543Z
LAST-MODIFIED:20231113T161556Z
UID:10521-1708707600-1708880400@curlmanitoba.org
SUMMARY:Arden Lansdowne Open Bonspiel
DESCRIPTION:
URL:https://curlmanitoba.org/event/arden-lansdowne-open-bonspiel-2/
LOCATION:Arden Curling Club
END:VEVENT
BEGIN:VEVENT
DTSTART;TZID=America/Winnipeg:20240223T170000
DTEND;TZID=America/Winnipeg:20240225T170000
DTSTAMP:20260421T024008
CREATED:20231109T202838Z
LAST-MODIFIED:20240103T184244Z
UID:10516-1708707600-1708880400@curlmanitoba.org
SUMMARY:Stonewall Ladies Bonspiel
DESCRIPTION:
URL:https://curlmanitoba.org/event/stonewall-ladies-bonspiel-2/
LOCATION:Access Curling Club – Stonewall\, 500 Main Street\, Stonewall\, Manitoba\, R0C 2Z0\, Canada
ORGANIZER;CN="Laurie Ellwood":MAILTO:ljellwood82@gmail.com
END:VEVENT
BEGIN:VEVENT
DTSTART;TZID=America/Winnipeg:20240223T170000
DTEND;TZID=America/Winnipeg:20240225T170000
DTSTAMP:20260421T024008
CREATED:20231020T172233Z
LAST-MODIFIED:20231020T172240Z
UID:10458-1708707600-1708880400@curlmanitoba.org
SUMMARY:Warren Men's Bonspiel
DESCRIPTION:
URL:https://curlmanitoba.org/event/warren-mens-bonspiel/
LOCATION:Warren Curling Club\, Warren\, Manitoba\, Canada
END:VEVENT
END:VCALENDAR