BEGIN:VCALENDAR
VERSION:2.0
PRODID:-//CurlManitoba - ECPv6.15.17.1//NONSGML v1.0//EN
CALSCALE:GREGORIAN
METHOD:PUBLISH
X-WR-CALNAME:CurlManitoba
X-ORIGINAL-URL:https://curlmanitoba.org
X-WR-CALDESC:Events for CurlManitoba
REFRESH-INTERVAL;VALUE=DURATION:PT1H
X-Robots-Tag:noindex
X-PUBLISHED-TTL:PT1H
BEGIN:VTIMEZONE
TZID:America/Winnipeg
BEGIN:DAYLIGHT
TZOFFSETFROM:-0600
TZOFFSETTO:-0500
TZNAME:CDT
DTSTART:20210314T080000
END:DAYLIGHT
BEGIN:STANDARD
TZOFFSETFROM:-0500
TZOFFSETTO:-0600
TZNAME:CST
DTSTART:20211107T070000
END:STANDARD
BEGIN:DAYLIGHT
TZOFFSETFROM:-0600
TZOFFSETTO:-0500
TZNAME:CDT
DTSTART:20220313T080000
END:DAYLIGHT
BEGIN:STANDARD
TZOFFSETFROM:-0500
TZOFFSETTO:-0600
TZNAME:CST
DTSTART:20221106T070000
END:STANDARD
BEGIN:DAYLIGHT
TZOFFSETFROM:-0600
TZOFFSETTO:-0500
TZNAME:CDT
DTSTART:20230312T080000
END:DAYLIGHT
BEGIN:STANDARD
TZOFFSETFROM:-0500
TZOFFSETTO:-0600
TZNAME:CST
DTSTART:20231105T070000
END:STANDARD
END:VTIMEZONE
BEGIN:VEVENT
DTSTART;TZID=America/Winnipeg:20221021T170000
DTEND;TZID=America/Winnipeg:20221023T170000
DTSTAMP:20260425T075241
CREATED:20221019T165529Z
LAST-MODIFIED:20221019T165534Z
UID:9493-1666371600-1666544400@curlmanitoba.org
SUMMARY:La Salle "Sweep off the Dust" Bonspiel
DESCRIPTION:
URL:https://curlmanitoba.org/event/la-salle-sweep-off-the-dust-bonspiel/
LOCATION:La Salle Curling Club
ORGANIZER;CN="La Salle Curling Club":MAILTO:lasallecurlingclubmb@gmail.com
END:VEVENT
BEGIN:VEVENT
DTSTART;TZID=America/Winnipeg:20221020T170000
DTEND;TZID=America/Winnipeg:20221023T200000
DTSTAMP:20260425T075241
CREATED:20220520T142454Z
LAST-MODIFIED:20220520T142454Z
UID:9271-1666285200-1666555200@curlmanitoba.org
SUMMARY:Granite Senior Men's Bonspiel with a Berth
DESCRIPTION:October 20 – 23\, 2022 \nEntry Fee:  $220.00 (Entry Fee payable to the Granite Curling Club) \n16 team limit \nENTRY DEADLINE: Wednesday\, October 12 at 4 pm. \nDouble knockout \nPlease email the completed registration form and send an e-transfer to curl@granitecurlingclub.ca or mail a cheque with the completed registration form to the Granite Curling Club\, One Granite Way\, Winnipeg\, MB   R3C 0Y9 \nRegistration form is on the GCC website under bonspiels: granitecurlingclub.ca \nContact Club Manager\, Jamie Hay at 204-775-8239 or curl@granitecurlingclub.ca to pay by Visa or MC.
URL:https://curlmanitoba.org/event/granite-senior-mens-bonspiel-with-a-berth-2/
LOCATION:Granite Curling Club\, 1 Granite Way\, Winnipeg\, Manitoba\, Canada
ORGANIZER;CN="Jamie Hay":MAILTO:curl@granitecurlingclub.ca
END:VEVENT
BEGIN:VEVENT
DTSTART;TZID=America/Winnipeg:20221014T170000
DTEND;TZID=America/Winnipeg:20221016T170000
DTSTAMP:20260425T075241
CREATED:20221002T191146Z
LAST-MODIFIED:20221002T191150Z
UID:9444-1665766800-1665939600@curlmanitoba.org
SUMMARY:Pembina Open Bonspiel
DESCRIPTION:
URL:https://curlmanitoba.org/event/pembina-open-bonspiel/
LOCATION:Pembina Curling Club\, 1341 Pembina Hwy\, Winnipeg\, Winnipeg\, R3T 2B6\, Canada
ORGANIZER;CN="Pembina Curling Club":MAILTO:pembinacurlingclub@gmail.com
END:VEVENT
BEGIN:VEVENT
DTSTART;TZID=America/Winnipeg:20221007T160000
DTEND;TZID=America/Winnipeg:20221010T210000
DTSTAMP:20260425T075241
CREATED:20220803T150433Z
LAST-MODIFIED:20220803T150433Z
UID:9371-1665158400-1665435600@curlmanitoba.org
SUMMARY:1st Annual Keystone Junior Tour Charleswood U25 Bonspiel
DESCRIPTION:Men’s & Women’s Bonspiels\nCharleswood Curling Club \n$420 per team \nCombined team age must be less than 100 at June 30\, 2022 \nEmail charleswoodccmgr@shaw.ca for your entry form \nEntry Deadline Tuesday\, September 27th\, 2022 4:00PM \nPresented by Hardline Curling
URL:https://curlmanitoba.org/event/1st-annual-keystone-junior-tour-charleswood-u25-bonspiel/
LOCATION:Charleswood Curling Club\, 4000 Grant Ave\, Winnipeg\, Manitoba\, R3R0L1\, Canada
END:VEVENT
BEGIN:VEVENT
DTSTART;TZID=America/Winnipeg:20221004T080000
DTEND;TZID=America/Winnipeg:20221007T170000
DTSTAMP:20260425T075241
CREATED:20220915T192859Z
LAST-MODIFIED:20220915T192859Z
UID:9412-1664870400-1665162000@curlmanitoba.org
SUMMARY:Bob Picken Valour Road Masters Bonspiel
DESCRIPTION:The Bonspiel runs October 4-7 and features a Pools format. You’ll play one game a day (except possibly on the playoffs day). The bonspiel is open to all Masters age (60+) competitors – men – women – mixed teams – 4-person stick teams. \nEntry fee is $ 160.00 -contact Brian Kushner by email (bkushner@mymts.net). \nAs in the past\, proceeds will go toward at least two Manitoba junior curling program $500 grants – details for this year will be announced at the bonspiel. \nYou can search and like us on Facebook at facebook.com/pickenlegacy
URL:https://curlmanitoba.org/event/bob-picken-valour-road-masters-bonspiel/
LOCATION:Thistle Curling Club\, 280 Burnell Street\, Winnipeg\, Winnipeg\, R3G 2A7\, Canada
ORGANIZER;CN="Brian Kushner":MAILTO:bkushner@mymts,net
END:VEVENT
BEGIN:VEVENT
DTSTART;TZID=America/Winnipeg:20220930T170000
DTEND;TZID=America/Winnipeg:20221002T170000
DTSTAMP:20260425T075241
CREATED:20220919T155346Z
LAST-MODIFIED:20220919T155346Z
UID:9420-1664557200-1664730000@curlmanitoba.org
SUMMARY:Morris Mixed Doubles
DESCRIPTION:Entry Fee is $300 \nPurse is $3000 \nContact for entry; \nSteven Michaleski\n204-803-1288\nmbmdtour@protonmail.com
URL:https://curlmanitoba.org/event/morris-mixed-doubles/
LOCATION:Morris Curling Club\, 215 Montreal Ave\, Morris\, Manitoba\, R0G1K0\, Canada
ORGANIZER;CN="Stevem Michaleske":MAILTO:mbmdtour@protonmail.com
END:VEVENT
BEGIN:VEVENT
DTSTART;TZID=America/Winnipeg:20220929T170000
DTEND;TZID=America/Winnipeg:20221002T210000
DTSTAMP:20260425T075241
CREATED:20220803T143809Z
LAST-MODIFIED:20220803T143809Z
UID:9370-1664470800-1664744400@curlmanitoba.org
SUMMARY:8th Annual Hardline Curling Larry Jones Junior Classic
DESCRIPTION:Junior Men’s & Junior Women’s Bonspiels \n$300 per team \nEmail stvitaljuniorcurling@gmail.com for your entry form \nEntry Deadline Friday\, September 16th\, 2022 4:00PM \nPresented by Dynasty Curling
URL:https://curlmanitoba.org/event/8th-annual-hardline-curling-larry-jones-junior-classic/
LOCATION:St. Vital Curling Club\, 286 Regal Ave\, Winnipeg\, Winnipeg\, R2M 3P5\, Canada
END:VEVENT
BEGIN:VEVENT
DTSTART;TZID=America/Winnipeg:20220922T170000
DTEND;TZID=America/Winnipeg:20220925T210000
DTSTAMP:20260425T075241
CREATED:20220803T154101Z
LAST-MODIFIED:20220803T154101Z
UID:9372-1663866000-1664139600@curlmanitoba.org
SUMMARY:1st Annual Keystone Junior Tour St. Vital U25 Bonspiel
DESCRIPTION:Men’s & Women’s Bonspiels\nAt the St. Vital Curling Club \n$420 per team \nCombined team age must be under 100 as of June 30\, 2022\nEmail stvitaljuniorcurling@gmail.com for your entry form \nEntry Deadline Friday\, September 8th\, 2022 4:00PM \nPresented by Hardline Curling
URL:https://curlmanitoba.org/event/1st-annual-keystone-junior-tour-st-vital-u25-bonspiel/
LOCATION:St. Vital Curling Club\, 286 Regal Ave\, Winnipeg\, Winnipeg\, R2M 3P5\, Canada
END:VEVENT
BEGIN:VEVENT
DTSTART;TZID=America/Winnipeg:20220915T170000
DTEND;TZID=America/Winnipeg:20220918T200000
DTSTAMP:20260425T075241
CREATED:20220519T150645Z
LAST-MODIFIED:20220519T150645Z
UID:9266-1663261200-1663531200@curlmanitoba.org
SUMMARY:2022 Mother Club Fall Curling Classic
DESCRIPTION:  \nSeptember 15 – 18\, 2022 \n\nEntree Fee : $500.00 per team\nEntry deadline 4 pm on September 7\, 2022\nMen’s and Women’s Divisions\nDraws run Thursday and Friday night\, as well as all day Saturday and Sunday\nRegistration form is on the GCC website under bonspiels: www.granitecurlingclub.ca\nPlease send cheque with the completed registration form to the Granite Curling Club\, One Granite Way\, Winnipeg\, MB   R3C 0Y9\ne-transfer to curl@granitecurlingclub.ca\nContact Club Manager\, Jamie Hay at 204-775-8239 or curl@granitecurlingclub.ca to pay by Visa or MC
URL:https://curlmanitoba.org/event/2022-mother-club-fall-curling-classic/
LOCATION:Granite Curling Club\, 1 Granite Way\, Winnipeg\, Manitoba\, Canada
ORGANIZER;CN="Jamie Hay":MAILTO:curl@granitecurlingclub.ca
END:VEVENT
END:VCALENDAR