BEGIN:VCALENDAR
VERSION:2.0
PRODID:-//CurlManitoba - ECPv6.15.17.1//NONSGML v1.0//EN
CALSCALE:GREGORIAN
METHOD:PUBLISH
X-WR-CALNAME:CurlManitoba
X-ORIGINAL-URL:https://curlmanitoba.org
X-WR-CALDESC:Events for CurlManitoba
REFRESH-INTERVAL;VALUE=DURATION:PT1H
X-Robots-Tag:noindex
X-PUBLISHED-TTL:PT1H
BEGIN:VTIMEZONE
TZID:America/Winnipeg
BEGIN:DAYLIGHT
TZOFFSETFROM:-0600
TZOFFSETTO:-0500
TZNAME:CDT
DTSTART:20230312T080000
END:DAYLIGHT
BEGIN:STANDARD
TZOFFSETFROM:-0500
TZOFFSETTO:-0600
TZNAME:CST
DTSTART:20231105T070000
END:STANDARD
BEGIN:DAYLIGHT
TZOFFSETFROM:-0600
TZOFFSETTO:-0500
TZNAME:CDT
DTSTART:20240310T080000
END:DAYLIGHT
BEGIN:STANDARD
TZOFFSETFROM:-0500
TZOFFSETTO:-0600
TZNAME:CST
DTSTART:20241103T070000
END:STANDARD
BEGIN:DAYLIGHT
TZOFFSETFROM:-0600
TZOFFSETTO:-0500
TZNAME:CDT
DTSTART:20250309T080000
END:DAYLIGHT
BEGIN:STANDARD
TZOFFSETFROM:-0500
TZOFFSETTO:-0600
TZNAME:CST
DTSTART:20251102T070000
END:STANDARD
END:VTIMEZONE
BEGIN:VEVENT
DTSTART;TZID=America/Winnipeg:20240214T170000
DTEND;TZID=America/Winnipeg:20240218T170000
DTSTAMP:20260425T081013
CREATED:20231016T205712Z
LAST-MODIFIED:20231016T205718Z
UID:10441-1707930000-1708275600@curlmanitoba.org
SUMMARY:Curl Balmoral Men's Bonspiel
DESCRIPTION:
URL:https://curlmanitoba.org/event/curl-balmoral-mens-bonspiel/
LOCATION:Balmoral Curling Club
ORGANIZER;CN="Kyle Loehmer":MAILTO:loehmer.k@gmail.com
END:VEVENT
BEGIN:VEVENT
DTSTART;VALUE=DATE:20240214
DTEND;VALUE=DATE:20240220
DTSTAMP:20260425T081013
CREATED:20230731T151231Z
LAST-MODIFIED:20230731T151231Z
UID:10292-1707868800-1708387199@curlmanitoba.org
SUMMARY:Manitoba's Credit Unions Master Men's Provincial Championship
DESCRIPTION:Sixteen teams will play to earn the right to represent Manitoba at the Canadian Master Championship in Quebec\, April 1-10\, 2024. \nThe event will be held at the Portage Curling Club in Portage La Prairie\, MB.
URL:https://curlmanitoba.org/event/manitobas-credit-unions-master-mens-provincial-championship/
LOCATION:Portage Curling Club\, 2401 Saskatchewan Ave W\, Portage la Prairie\, Manitoba\, R1N 3B7\, Canada
END:VEVENT
BEGIN:VEVENT
DTSTART;VALUE=DATE:20240214
DTEND;VALUE=DATE:20240220
DTSTAMP:20260425T081013
CREATED:20230727T153640Z
LAST-MODIFIED:20230727T153640Z
UID:10283-1707868800-1708387199@curlmanitoba.org
SUMMARY:Manitoba's Credit Unions Master Women's Provincial Championship
DESCRIPTION:Cost per team – $225\nDeadline to enter is January 25\, 2024 \nCompetitive Team Fees MUST be paid prior to playing in this event.  When entering your team\, please click on the Add-On box in Curling I/O. \nTo enter your team\, go to our Electronic Entry page or click the following links: \nManitoba’s Credit Unions Master Women’s Provincial Championship \nExact dates and draw format will be determined once the number of entries has been confirmed.
URL:https://curlmanitoba.org/event/manitobas-credit-unions-master-womens-provincial-championship/
LOCATION:Portage Curling Club\, 2401 Saskatchewan Ave W\, Portage la Prairie\, Manitoba\, R1N 3B7\, Canada
END:VEVENT
BEGIN:VEVENT
DTSTART;TZID=America/Winnipeg:20240209T170000
DTEND;TZID=America/Winnipeg:20240211T170000
DTSTAMP:20260425T081013
CREATED:20231108T184910Z
LAST-MODIFIED:20231108T184928Z
UID:10505-1707498000-1707670800@curlmanitoba.org
SUMMARY:Lac du Bonnet Men's Bonspiel
DESCRIPTION:
URL:https://curlmanitoba.org/event/lac-du-bonnet-mens-bonspiel/
LOCATION:Lac du Bonnet Curling Club
END:VEVENT
BEGIN:VEVENT
DTSTART;TZID=America/Winnipeg:20240209T170000
DTEND;TZID=America/Winnipeg:20240211T170000
DTSTAMP:20260425T081013
CREATED:20231025T183027Z
LAST-MODIFIED:20231025T183306Z
UID:10472-1707498000-1707670800@curlmanitoba.org
SUMMARY:Winkler Men's Bonspiel
DESCRIPTION:
URL:https://curlmanitoba.org/event/winkler-mens-bonspiel-2/
LOCATION:Winkler Curling Club
ORGANIZER;CN="Winkler Curling Club":MAILTO:winkler.curlingclub@gmail.com
END:VEVENT
BEGIN:VEVENT
DTSTART;TZID=America/Winnipeg:20240209T170000
DTEND;TZID=America/Winnipeg:20240210T210000
DTSTAMP:20260425T081013
CREATED:20230919T150823Z
LAST-MODIFIED:20231207T165122Z
UID:10373-1707498000-1707598800@curlmanitoba.org
SUMMARY:Beausejour Ladies Bonspiel
DESCRIPTION:
URL:https://curlmanitoba.org/event/beausejour-ladies-bonspiel-3/
LOCATION:Beausejour Curling Club\, 360 Veteran's Lane\, Beausejour\, Manitoba\, R0E 0C0\, Canada
ORGANIZER;CN="Tracey Ewasko":MAILTO:wtbjewasko@gmail.com
END:VEVENT
BEGIN:VEVENT
DTSTART;TZID=America/Winnipeg:20240208T170000
DTEND;TZID=America/Winnipeg:20240211T170000
DTSTAMP:20260425T081013
CREATED:20231107T181929Z
LAST-MODIFIED:20231107T181935Z
UID:10496-1707411600-1707670800@curlmanitoba.org
SUMMARY:Petersfield Ladies Bonspiel
DESCRIPTION:
URL:https://curlmanitoba.org/event/petersfield-ladies-bonspiel/
LOCATION:Petersfield Curling Club
ORGANIZER;CN="Robin Jackson":MAILTO:rjacksonsfc@yahoo.ca
END:VEVENT
BEGIN:VEVENT
DTSTART;VALUE=DATE:20240206
DTEND;VALUE=DATE:20240212
DTSTAMP:20260425T081013
CREATED:20230731T145323Z
LAST-MODIFIED:20230731T145323Z
UID:10290-1707177600-1707695999@curlmanitoba.org
SUMMARY:Viterra Championship
DESCRIPTION:Thirty-two teams will play to represent Manitoba at the Brier in Regina from March 1-10\, 2024. \nThis event will take place in the Veterans Memorial Sports Complex in Stonewall\, MB from February 7-11\, 2024.
URL:https://curlmanitoba.org/event/viterra-championship-2/
LOCATION:Veterans Memorial Sports Complex\, 550 Main St\, Stonewall\, Manitoba\, R0C 2Z0\, Canada
END:VEVENT
BEGIN:VEVENT
DTSTART;TZID=America/Winnipeg:20240205T090000
DTEND;TZID=America/Winnipeg:20240211T170000
DTSTAMP:20260425T081013
CREATED:20231207T210603Z
LAST-MODIFIED:20231207T211836Z
UID:10616-1707123600-1707670800@curlmanitoba.org
SUMMARY:Steinbach Bonspiel (Ladies\, Mens\, Mixed\, Seniors\, Stick and Juniors)
DESCRIPTION:
URL:https://curlmanitoba.org/event/steinbach-bonspiel-ladies-mens-mixed-seniors-stick-and-juniors/
LOCATION:Steinbach Curling Club
ORGANIZER;CN="Don Neufeld":MAILTO:d.n.zoomzoom@gmail.com
END:VEVENT
BEGIN:VEVENT
DTSTART;TZID=America/Winnipeg:20240203T080000
DTEND;TZID=America/Winnipeg:20240203T230000
DTSTAMP:20260425T081013
CREATED:20230925T190147Z
LAST-MODIFIED:20230925T190152Z
UID:10401-1706947200-1707001200@curlmanitoba.org
SUMMARY:La Sale "Mickey" Bonspiel
DESCRIPTION:
URL:https://curlmanitoba.org/event/la-sale-mickey-bonspiel/
LOCATION:La Salle Curling Club
ORGANIZER;CN="Dennis Gerbrandt":MAILTO:dennis.gerbrandt@masterbrand.com
END:VEVENT
BEGIN:VEVENT
DTSTART;TZID=America/Winnipeg:20240202T183000
DTEND;TZID=America/Winnipeg:20240204T170000
DTSTAMP:20260425T081013
CREATED:20240102T181353Z
LAST-MODIFIED:20240102T181434Z
UID:10676-1706898600-1707066000@curlmanitoba.org
SUMMARY:Ironman Outdoor Curling Bonspiel
DESCRIPTION:
URL:https://curlmanitoba.org/event/ironman-outdoor-curling-bonspiel/
LOCATION:Winnipeg Rowing Club\, 20 Lyndale Drive\, Winnipeg\, Manitoba\, Canada
ORGANIZER;CN="Adrian":MAILTO:2024@ironmancurling.com
END:VEVENT
BEGIN:VEVENT
DTSTART;TZID=America/Winnipeg:20240202T170000
DTEND;TZID=America/Winnipeg:20240204T200000
DTSTAMP:20260425T081013
CREATED:20231023T202828Z
LAST-MODIFIED:20231024T143341Z
UID:10466-1706893200-1707076800@curlmanitoba.org
SUMMARY:Neil Andrews Senior Men's Bonspiel with a Berth
DESCRIPTION:$300 entry fee \n$1000 first place prize \nEntry deadline January 25th\, 2024 \nTo enter call 204-761-8595 or email: cory@cancaderestoration.com OR lawsoncrystal10@gmail.com
URL:https://curlmanitoba.org/event/neil-andrews-senior-mens-bonspiel-with-a-berth/
LOCATION:Brandon Curling Club\, 1175 18th St\, Brandon\, Brandon\, R7A7C5\, Canada
END:VEVENT
BEGIN:VEVENT
DTSTART;TZID=America/Winnipeg:20240202T170000
DTEND;TZID=America/Winnipeg:20240204T170000
DTSTAMP:20260425T081013
CREATED:20231222T170546Z
LAST-MODIFIED:20231222T170554Z
UID:10668-1706893200-1707066000@curlmanitoba.org
SUMMARY:St. Adolphe Open Bonspiel
DESCRIPTION:
URL:https://curlmanitoba.org/event/st-adolphe-open-bonspiel-2/
LOCATION:St. Adolphe Curling Club
ORGANIZER;CN="Kerry":MAILTO:curlstadolphe@gmail.com
END:VEVENT
BEGIN:VEVENT
DTSTART;TZID=America/Winnipeg:20240202T170000
DTEND;TZID=America/Winnipeg:20240204T170000
DTSTAMP:20260425T081013
CREATED:20230824T172759Z
LAST-MODIFIED:20230824T172803Z
UID:10325-1706893200-1707066000@curlmanitoba.org
SUMMARY:Whiteshell Ladies Bonspiel
DESCRIPTION:
URL:https://curlmanitoba.org/event/whiteshell-ladies-bonspiel-2/
LOCATION:Whiteshell Curlng Club
ORGANIZER;CN="Janet Harbottle":MAILTO:mothership@mymts.net
END:VEVENT
BEGIN:VEVENT
DTSTART;TZID=America/Winnipeg:20240201T170000
DTEND;TZID=America/Winnipeg:20240204T170000
DTSTAMP:20260425T081013
CREATED:20231017T202950Z
LAST-MODIFIED:20231017T202955Z
UID:10453-1706806800-1707066000@curlmanitoba.org
SUMMARY:St. Adolphe Open Bonspiel
DESCRIPTION:
URL:https://curlmanitoba.org/event/st-adolphe-open-bonspiel/
LOCATION:St. Adolphe Curling Club
ORGANIZER;CN="Kerry":MAILTO:curlstadolphe@gmail.com
END:VEVENT
BEGIN:VEVENT
DTSTART;TZID=America/Winnipeg:20240127T170000
DTEND;TZID=America/Winnipeg:20240128T170000
DTSTAMP:20260425T081013
CREATED:20240102T212424Z
LAST-MODIFIED:20240102T212448Z
UID:10684-1706374800-1706461200@curlmanitoba.org
SUMMARY:Burntwood Annual Mixed/Open Bonspiel
DESCRIPTION:
URL:https://curlmanitoba.org/event/burntwood-annual-mixed-open-bonspiel/
LOCATION:Burntwood – Thompson
ORGANIZER;CN="Sam":MAILTO:antila@mymts.net
END:VEVENT
BEGIN:VEVENT
DTSTART;TZID=America/Winnipeg:20240126T170000
DTEND;TZID=America/Winnipeg:20240128T170000
DTSTAMP:20260425T081013
CREATED:20240104T195728Z
LAST-MODIFIED:20240104T195735Z
UID:10686-1706288400-1706461200@curlmanitoba.org
SUMMARY:Rivers Ladies Bonspiel
DESCRIPTION:
URL:https://curlmanitoba.org/event/rivers-ladies-bonspiel-2/
LOCATION:Rivers Curling Club\, 101 Main Street\, Rivers\, Manitoba\, R0K 1X0\, Canada
ORGANIZER;CN="Donna":MAILTO:dfalkevi@gmail.com
END:VEVENT
BEGIN:VEVENT
DTSTART;TZID=America/Winnipeg:20240126T170000
DTEND;TZID=America/Winnipeg:20240128T170000
DTSTAMP:20260425T081013
CREATED:20231219T170725Z
LAST-MODIFIED:20231219T170731Z
UID:10641-1706288400-1706461200@curlmanitoba.org
SUMMARY:Neepawa Men's & Women's Bonspiel
DESCRIPTION:
URL:https://curlmanitoba.org/event/neepawa-mens-womens-bonspiel/
LOCATION:Neepawa Curling Club
ORGANIZER;CN="Neepawa Curling Club":MAILTO:curlneepawa@gmail.com
END:VEVENT
BEGIN:VEVENT
DTSTART;TZID=America/Winnipeg:20240126T170000
DTEND;TZID=America/Winnipeg:20240128T170000
DTSTAMP:20260425T081013
CREATED:20231127T173322Z
LAST-MODIFIED:20231127T173331Z
UID:10589-1706288400-1706461200@curlmanitoba.org
SUMMARY:Teulon Men's Bonspiel
DESCRIPTION:
URL:https://curlmanitoba.org/event/teulon-mens-bonspiel/
LOCATION:Teulon Curling Club
ORGANIZER;CN="Taras Derbowka":MAILTO:tdk@mymts.net
END:VEVENT
BEGIN:VEVENT
DTSTART;TZID=America/Winnipeg:20240126T170000
DTEND;TZID=America/Winnipeg:20240128T170000
DTSTAMP:20260425T081013
CREATED:20231122T163654Z
LAST-MODIFIED:20231122T163702Z
UID:10577-1706288400-1706461200@curlmanitoba.org
SUMMARY:Rivers Ladies Bonspiel
DESCRIPTION:
URL:https://curlmanitoba.org/event/rivers-ladies-bonspiel/
LOCATION:Rivers Curling Club\, 101 Main Street\, Rivers\, Manitoba\, R0K 1X0\, Canada
END:VEVENT
BEGIN:VEVENT
DTSTART;TZID=America/Winnipeg:20240126T170000
DTEND;TZID=America/Winnipeg:20240128T170000
DTSTAMP:20260425T081013
CREATED:20231109T202652Z
LAST-MODIFIED:20231211T170308Z
UID:10514-1706288400-1706461200@curlmanitoba.org
SUMMARY:Stonewall Pharmacy U16 Junior Open Bonspiel
DESCRIPTION:  \nRegister a team at: \nhttps://stonewall.curling.io/en/competitions/
URL:https://curlmanitoba.org/event/stonewall-junior-bonspiel/
LOCATION:Access Curling Club – Stonewall\, 500 Main Street\, Stonewall\, Manitoba\, R0C 2Z0\, Canada
ORGANIZER;CN="Laurie Ellwood":MAILTO:ljellwood82@gmail.com
END:VEVENT
BEGIN:VEVENT
DTSTART;TZID=America/Winnipeg:20240126T170000
DTEND;TZID=America/Winnipeg:20240127T170000
DTSTAMP:20260425T081013
CREATED:20230919T150642Z
LAST-MODIFIED:20230919T150703Z
UID:10370-1706288400-1706374800@curlmanitoba.org
SUMMARY:Beausejour 2 Person Stick Bonspiel
DESCRIPTION:
URL:https://curlmanitoba.org/event/beausejour-2-person-stick-bonspiel/
LOCATION:Beausejour Curling Club\, 360 Veteran's Lane\, Beausejour\, Manitoba\, R0E 0C0\, Canada
ORGANIZER;CN="Gary":MAILTO:srossing@mymts.net
END:VEVENT
BEGIN:VEVENT
DTSTART;TZID=America/Winnipeg:20240124T170000
DTEND;TZID=America/Winnipeg:20240128T170000
DTSTAMP:20260425T081013
CREATED:20231222T171041Z
LAST-MODIFIED:20231222T171125Z
UID:10670-1706115600-1706461200@curlmanitoba.org
SUMMARY:Shoal Lake Men's and Ladies Bonspiel
DESCRIPTION:
URL:https://curlmanitoba.org/event/shoal-lake-mens-and-ladies-bonspiel/
LOCATION:Shoal Lake Curling Club
END:VEVENT
BEGIN:VEVENT
DTSTART;VALUE=DATE:20240123
DTEND;VALUE=DATE:20240129
DTSTAMP:20260425T081013
CREATED:20230731T144316Z
LAST-MODIFIED:20230731T144316Z
UID:10288-1705968000-1706486399@curlmanitoba.org
SUMMARY:Scotties Tournament of Hearts presented by RME
DESCRIPTION:Twelve teams will play to earn the right to represent Manitoba at the Scotties Tournament of Hearts in Calgary\, AB from February 16-25\, 2024. \nThe competition will take place in the Access Event Centre in Morden\, MB from January 24-28\, 2024.
URL:https://curlmanitoba.org/event/scotties-tournament-of-hearts-presented-by-rme/
LOCATION:Access Event Centre\, 111-D Gilmour St\, Morden\, Manitoba\, R6M 1N9
END:VEVENT
BEGIN:VEVENT
DTSTART;TZID=America/Winnipeg:20240120T080000
DTEND;TZID=America/Winnipeg:20240120T210000
DTSTAMP:20260425T081013
CREATED:20231204T172214Z
LAST-MODIFIED:20231204T172224Z
UID:10602-1705737600-1705784400@curlmanitoba.org
SUMMARY:Warren Ladies Bonspiel
DESCRIPTION:
URL:https://curlmanitoba.org/event/warren-ladies-bonspiel/
LOCATION:Warren Curling Club\, Warren\, Manitoba\, Canada
END:VEVENT
BEGIN:VEVENT
DTSTART;TZID=America/Winnipeg:20240119T183000
DTEND;TZID=America/Winnipeg:20240121T183000
DTSTAMP:20260425T081013
CREATED:20230911T210507Z
LAST-MODIFIED:20230911T210512Z
UID:10358-1705689000-1705861800@curlmanitoba.org
SUMMARY:Manitoba Open HalfSpiel
DESCRIPTION:
URL:https://curlmanitoba.org/event/manitoba-open-halfspiel/
LOCATION:Winnipeg Curling Clubs\, Winnipeg\, Manitoba\, Canada
END:VEVENT
BEGIN:VEVENT
DTSTART;TZID=America/Winnipeg:20240119T170000
DTEND;TZID=America/Winnipeg:20240121T170000
DTSTAMP:20260425T081013
CREATED:20231207T165502Z
LAST-MODIFIED:20231207T165508Z
UID:10614-1705683600-1705856400@curlmanitoba.org
SUMMARY:Selkirk Ladies Bonspiel
DESCRIPTION:
URL:https://curlmanitoba.org/event/selkirk-ladies-bonspiel/
LOCATION:Selkirk Curling club\, 381 Jemima Street\, Selkirk\, Manitoba\, R1A 0R2\, Canada
ORGANIZER;CN="Patty Freeman":MAILTO:flfreemans@hotmail.com
END:VEVENT
BEGIN:VEVENT
DTSTART;TZID=America/Winnipeg:20240119T170000
DTEND;TZID=America/Winnipeg:20240121T170000
DTSTAMP:20260425T081013
CREATED:20231122T163456Z
LAST-MODIFIED:20231122T163503Z
UID:10575-1705683600-1705856400@curlmanitoba.org
SUMMARY:Rivers Men's Bonspiel
DESCRIPTION:
URL:https://curlmanitoba.org/event/rivers-mens-bonspiel/
LOCATION:Rivers Curling Club\, 101 Main Street\, Rivers\, Manitoba\, R0K 1X0\, Canada
END:VEVENT
BEGIN:VEVENT
DTSTART;TZID=America/Winnipeg:20240119T170000
DTEND;TZID=America/Winnipeg:20240121T170000
DTSTAMP:20260425T081013
CREATED:20231108T184727Z
LAST-MODIFIED:20231108T184736Z
UID:10503-1705683600-1705856400@curlmanitoba.org
SUMMARY:Lac du Bonnet Women's Bonspiel
DESCRIPTION:
URL:https://curlmanitoba.org/event/lac-du-bonnet-womens-bonspiel-2/
LOCATION:Lac du Bonnet Curling Club
ORGANIZER;CN="Cheri Waite":MAILTO:cbdwaite@hotmail.ca
END:VEVENT
BEGIN:VEVENT
DTSTART;TZID=America/Winnipeg:20240119T170000
DTEND;TZID=America/Winnipeg:20240121T170000
DTSTAMP:20260425T081013
CREATED:20231107T181646Z
LAST-MODIFIED:20231107T181655Z
UID:10494-1705683600-1705856400@curlmanitoba.org
SUMMARY:Petersfield Open Bonspiel
DESCRIPTION:
URL:https://curlmanitoba.org/event/petersfield-open-bonspiel/
LOCATION:Petersfield Curling Club
ORGANIZER;CN="Gail or Tom Charlo":MAILTO:charlo@mts.net
END:VEVENT
END:VCALENDAR