BEGIN:VCALENDAR
VERSION:2.0
PRODID:-//CurlManitoba - ECPv6.15.17.1//NONSGML v1.0//EN
CALSCALE:GREGORIAN
METHOD:PUBLISH
X-WR-CALNAME:CurlManitoba
X-ORIGINAL-URL:https://curlmanitoba.org
X-WR-CALDESC:Events for CurlManitoba
REFRESH-INTERVAL;VALUE=DURATION:PT1H
X-Robots-Tag:noindex
X-PUBLISHED-TTL:PT1H
BEGIN:VTIMEZONE
TZID:America/Winnipeg
BEGIN:DAYLIGHT
TZOFFSETFROM:-0600
TZOFFSETTO:-0500
TZNAME:CDT
DTSTART:20220313T080000
END:DAYLIGHT
BEGIN:STANDARD
TZOFFSETFROM:-0500
TZOFFSETTO:-0600
TZNAME:CST
DTSTART:20221106T070000
END:STANDARD
BEGIN:DAYLIGHT
TZOFFSETFROM:-0600
TZOFFSETTO:-0500
TZNAME:CDT
DTSTART:20230312T080000
END:DAYLIGHT
BEGIN:STANDARD
TZOFFSETFROM:-0500
TZOFFSETTO:-0600
TZNAME:CST
DTSTART:20231105T070000
END:STANDARD
BEGIN:DAYLIGHT
TZOFFSETFROM:-0600
TZOFFSETTO:-0500
TZNAME:CDT
DTSTART:20240310T080000
END:DAYLIGHT
BEGIN:STANDARD
TZOFFSETFROM:-0500
TZOFFSETTO:-0600
TZNAME:CST
DTSTART:20241103T070000
END:STANDARD
BEGIN:DAYLIGHT
TZOFFSETFROM:-0600
TZOFFSETTO:-0500
TZNAME:CDT
DTSTART:20250309T080000
END:DAYLIGHT
BEGIN:STANDARD
TZOFFSETFROM:-0500
TZOFFSETTO:-0600
TZNAME:CST
DTSTART:20251102T070000
END:STANDARD
END:VTIMEZONE
BEGIN:VEVENT
DTSTART;TZID=America/Winnipeg:20240126T170000
DTEND;TZID=America/Winnipeg:20240128T170000
DTSTAMP:20260425T093804
CREATED:20231109T202652Z
LAST-MODIFIED:20231211T170308Z
UID:10514-1706288400-1706461200@curlmanitoba.org
SUMMARY:Stonewall Pharmacy U16 Junior Open Bonspiel
DESCRIPTION:  \nRegister a team at: \nhttps://stonewall.curling.io/en/competitions/
URL:https://curlmanitoba.org/event/stonewall-junior-bonspiel/
LOCATION:Access Curling Club – Stonewall\, 500 Main Street\, Stonewall\, Manitoba\, R0C 2Z0\, Canada
ORGANIZER;CN="Laurie Ellwood":MAILTO:ljellwood82@gmail.com
END:VEVENT
BEGIN:VEVENT
DTSTART;TZID=America/Winnipeg:20240126T170000
DTEND;TZID=America/Winnipeg:20240127T170000
DTSTAMP:20260425T093804
CREATED:20230919T150642Z
LAST-MODIFIED:20230919T150703Z
UID:10370-1706288400-1706374800@curlmanitoba.org
SUMMARY:Beausejour 2 Person Stick Bonspiel
DESCRIPTION:
URL:https://curlmanitoba.org/event/beausejour-2-person-stick-bonspiel/
LOCATION:Beausejour Curling Club\, 360 Veteran's Lane\, Beausejour\, Manitoba\, R0E 0C0\, Canada
ORGANIZER;CN="Gary":MAILTO:srossing@mymts.net
END:VEVENT
BEGIN:VEVENT
DTSTART;TZID=America/Winnipeg:20240124T170000
DTEND;TZID=America/Winnipeg:20240128T170000
DTSTAMP:20260425T093804
CREATED:20231222T171041Z
LAST-MODIFIED:20231222T171125Z
UID:10670-1706115600-1706461200@curlmanitoba.org
SUMMARY:Shoal Lake Men's and Ladies Bonspiel
DESCRIPTION:
URL:https://curlmanitoba.org/event/shoal-lake-mens-and-ladies-bonspiel/
LOCATION:Shoal Lake Curling Club
END:VEVENT
BEGIN:VEVENT
DTSTART;VALUE=DATE:20240123
DTEND;VALUE=DATE:20240129
DTSTAMP:20260425T093804
CREATED:20230731T144316Z
LAST-MODIFIED:20230731T144316Z
UID:10288-1705968000-1706486399@curlmanitoba.org
SUMMARY:Scotties Tournament of Hearts presented by RME
DESCRIPTION:Twelve teams will play to earn the right to represent Manitoba at the Scotties Tournament of Hearts in Calgary\, AB from February 16-25\, 2024. \nThe competition will take place in the Access Event Centre in Morden\, MB from January 24-28\, 2024.
URL:https://curlmanitoba.org/event/scotties-tournament-of-hearts-presented-by-rme/
LOCATION:Access Event Centre\, 111-D Gilmour St\, Morden\, Manitoba\, R6M 1N9
END:VEVENT
BEGIN:VEVENT
DTSTART;TZID=America/Winnipeg:20240120T080000
DTEND;TZID=America/Winnipeg:20240120T210000
DTSTAMP:20260425T093804
CREATED:20231204T172214Z
LAST-MODIFIED:20231204T172224Z
UID:10602-1705737600-1705784400@curlmanitoba.org
SUMMARY:Warren Ladies Bonspiel
DESCRIPTION:
URL:https://curlmanitoba.org/event/warren-ladies-bonspiel/
LOCATION:Warren Curling Club\, Warren\, Manitoba\, Canada
END:VEVENT
BEGIN:VEVENT
DTSTART;TZID=America/Winnipeg:20240119T183000
DTEND;TZID=America/Winnipeg:20240121T183000
DTSTAMP:20260425T093804
CREATED:20230911T210507Z
LAST-MODIFIED:20230911T210512Z
UID:10358-1705689000-1705861800@curlmanitoba.org
SUMMARY:Manitoba Open HalfSpiel
DESCRIPTION:
URL:https://curlmanitoba.org/event/manitoba-open-halfspiel/
LOCATION:Winnipeg Curling Clubs\, Winnipeg\, Manitoba\, Canada
END:VEVENT
BEGIN:VEVENT
DTSTART;TZID=America/Winnipeg:20240119T170000
DTEND;TZID=America/Winnipeg:20240121T170000
DTSTAMP:20260425T093804
CREATED:20231207T165502Z
LAST-MODIFIED:20231207T165508Z
UID:10614-1705683600-1705856400@curlmanitoba.org
SUMMARY:Selkirk Ladies Bonspiel
DESCRIPTION:
URL:https://curlmanitoba.org/event/selkirk-ladies-bonspiel/
LOCATION:Selkirk Curling club\, 381 Jemima Street\, Selkirk\, Manitoba\, R1A 0R2\, Canada
ORGANIZER;CN="Patty Freeman":MAILTO:flfreemans@hotmail.com
END:VEVENT
BEGIN:VEVENT
DTSTART;TZID=America/Winnipeg:20240119T170000
DTEND;TZID=America/Winnipeg:20240121T170000
DTSTAMP:20260425T093804
CREATED:20231122T163456Z
LAST-MODIFIED:20231122T163503Z
UID:10575-1705683600-1705856400@curlmanitoba.org
SUMMARY:Rivers Men's Bonspiel
DESCRIPTION:
URL:https://curlmanitoba.org/event/rivers-mens-bonspiel/
LOCATION:Rivers Curling Club\, 101 Main Street\, Rivers\, Manitoba\, R0K 1X0\, Canada
END:VEVENT
BEGIN:VEVENT
DTSTART;TZID=America/Winnipeg:20240119T170000
DTEND;TZID=America/Winnipeg:20240121T170000
DTSTAMP:20260425T093804
CREATED:20231108T184727Z
LAST-MODIFIED:20231108T184736Z
UID:10503-1705683600-1705856400@curlmanitoba.org
SUMMARY:Lac du Bonnet Women's Bonspiel
DESCRIPTION:
URL:https://curlmanitoba.org/event/lac-du-bonnet-womens-bonspiel-2/
LOCATION:Lac du Bonnet Curling Club
ORGANIZER;CN="Cheri Waite":MAILTO:cbdwaite@hotmail.ca
END:VEVENT
BEGIN:VEVENT
DTSTART;TZID=America/Winnipeg:20240119T170000
DTEND;TZID=America/Winnipeg:20240121T170000
DTSTAMP:20260425T093804
CREATED:20231107T181646Z
LAST-MODIFIED:20231107T181655Z
UID:10494-1705683600-1705856400@curlmanitoba.org
SUMMARY:Petersfield Open Bonspiel
DESCRIPTION:
URL:https://curlmanitoba.org/event/petersfield-open-bonspiel/
LOCATION:Petersfield Curling Club
ORGANIZER;CN="Gail or Tom Charlo":MAILTO:charlo@mts.net
END:VEVENT
BEGIN:VEVENT
DTSTART;TZID=America/Winnipeg:20240118T183000
DTEND;TZID=America/Winnipeg:20240122T210000
DTSTAMP:20260425T093804
CREATED:20230911T210348Z
LAST-MODIFIED:20230911T210354Z
UID:10355-1705602600-1705957200@curlmanitoba.org
SUMMARY:Manitoba Open
DESCRIPTION:
URL:https://curlmanitoba.org/event/manitoba-open-2/
LOCATION:Winnipeg Curling Clubs\, Winnipeg\, Manitoba\, Canada
ORGANIZER;CN="CurlManitoba":MAILTO:mca@curlmanitoba.org
END:VEVENT
BEGIN:VEVENT
DTSTART;TZID=America/Winnipeg:20240112T170000
DTEND;TZID=America/Winnipeg:20240114T170000
DTSTAMP:20260425T093804
CREATED:20231219T213147Z
LAST-MODIFIED:20231219T213151Z
UID:10644-1705078800-1705251600@curlmanitoba.org
SUMMARY:Portage Men's Bonspiel
DESCRIPTION:
URL:https://curlmanitoba.org/event/portage-mens-bonspiel-2/
LOCATION:Portage Curling Club\, 2401 Saskatchewan Ave W\, Portage la Prairie\, Manitoba\, R1N 3B7\, Canada
ORGANIZER;CN="Manager":MAILTO:manager@portagecurlingclub.com
END:VEVENT
BEGIN:VEVENT
DTSTART;TZID=America/Winnipeg:20240112T170000
DTEND;TZID=America/Winnipeg:20240114T170000
DTSTAMP:20260425T093804
CREATED:20231213T201953Z
LAST-MODIFIED:20231213T202339Z
UID:10632-1705078800-1705251600@curlmanitoba.org
SUMMARY:Pine Falls Ladies Bonspiel
DESCRIPTION:
URL:https://curlmanitoba.org/event/pine-falls-ladies-bonspiel/
LOCATION:Pine Falls Curling Club
END:VEVENT
BEGIN:VEVENT
DTSTART;TZID=America/Winnipeg:20240112T170000
DTEND;TZID=America/Winnipeg:20240113T210000
DTSTAMP:20260425T093804
CREATED:20231127T172909Z
LAST-MODIFIED:20231127T172909Z
UID:10587-1705078800-1705179600@curlmanitoba.org
SUMMARY:Teulon Ladies Bonspiel
DESCRIPTION:
URL:https://curlmanitoba.org/event/teulon-ladies-bonspiel-2/
LOCATION:Teulon Curling Club
ORGANIZER;CN="June McMahon":MAILTO:pjmcm@shaw.ca
END:VEVENT
BEGIN:VEVENT
DTSTART;TZID=America/Winnipeg:20240112T170000
DTEND;TZID=America/Winnipeg:20240113T170000
DTSTAMP:20260425T093804
CREATED:20231016T205248Z
LAST-MODIFIED:20231016T205255Z
UID:10437-1705078800-1705165200@curlmanitoba.org
SUMMARY:Curl Balmoral Ladies Bonspiel
DESCRIPTION:
URL:https://curlmanitoba.org/event/curl-balmoral-ladies-bonspiel/
LOCATION:Balmoral Curling Club
ORGANIZER;CN="Kezia Loehmer":MAILTO:klstoesz@gmail.com
END:VEVENT
BEGIN:VEVENT
DTSTART;TZID=America/Winnipeg:20240111T170000
DTEND;TZID=America/Winnipeg:20240114T170000
DTSTAMP:20260425T093804
CREATED:20230224T150852Z
LAST-MODIFIED:20230224T150905Z
UID:10122-1704992400-1705251600@curlmanitoba.org
SUMMARY:Brandon's Wheat City Classic
DESCRIPTION:
URL:https://curlmanitoba.org/event/brandons-wheat-city-classic/
LOCATION:Brandon Curling Club\, 1175 18th St\, Brandon\, Brandon\, R7A7C5\, Canada
ORGANIZER;CN="Wheat City Spiel Committee":MAILTO:wheatcityspiel@gmail.com
END:VEVENT
BEGIN:VEVENT
DTSTART;TZID=America/Winnipeg:20240105T170000
DTEND;TZID=America/Winnipeg:20240107T170000
DTSTAMP:20260425T093804
CREATED:20231219T222710Z
LAST-MODIFIED:20231219T222837Z
UID:10646-1704474000-1704646800@curlmanitoba.org
SUMMARY:Eriksdale Men's Bonspiel
DESCRIPTION:
URL:https://curlmanitoba.org/event/eriksdale-mens-bonspiel/
LOCATION:Eriksdale Curling Club
END:VEVENT
BEGIN:VEVENT
DTSTART;TZID=America/Winnipeg:20240105T170000
DTEND;TZID=America/Winnipeg:20240107T170000
DTSTAMP:20260425T093804
CREATED:20231117T161426Z
LAST-MODIFIED:20231117T161811Z
UID:10570-1704474000-1704646800@curlmanitoba.org
SUMMARY:BRANDON MEN’S COMPETITIVE BONSPIEL
DESCRIPTION:Please fill out form here
URL:https://curlmanitoba.org/event/brandon-mens-competitive-bonspiel/
LOCATION:Brandon Curling Club\, 1175 18th St\, Brandon\, Brandon\, R7A7C5\, Canada
END:VEVENT
BEGIN:VEVENT
DTSTART;TZID=America/Winnipeg:20240105T170000
DTEND;TZID=America/Winnipeg:20240107T170000
DTSTAMP:20260425T093804
CREATED:20230919T150025Z
LAST-MODIFIED:20231110T172904Z
UID:10369-1704474000-1704646800@curlmanitoba.org
SUMMARY:Beausejour Men's Bonspiel
DESCRIPTION:
URL:https://curlmanitoba.org/event/beausejour-mens-bonspiel-2/
LOCATION:Beausejour Curling Club\, 360 Veteran's Lane\, Beausejour\, Manitoba\, R0E 0C0\, Canada
ORGANIZER;CN="Justin Richter":MAILTO:justinrichter@me.com
END:VEVENT
BEGIN:VEVENT
DTSTART;TZID=America/Winnipeg:20240105T170000
DTEND;TZID=America/Winnipeg:20240106T170000
DTSTAMP:20260425T093804
CREATED:20231211T170108Z
LAST-MODIFIED:20231211T170114Z
UID:10623-1704474000-1704560400@curlmanitoba.org
SUMMARY:Swan Lake Doubles Curling Bonspiel
DESCRIPTION:
URL:https://curlmanitoba.org/event/swan-lake-doubles-curling-bonspiel/
LOCATION:Swan Lake Curling Club\, Swan Lake\, Manitoba\, R0G 2S0\, Canada
END:VEVENT
BEGIN:VEVENT
DTSTART;TZID=America/Winnipeg:20240105T170000
DTEND;TZID=America/Winnipeg:20240106T170000
DTSTAMP:20260425T093804
CREATED:20231109T160407Z
LAST-MODIFIED:20231109T160412Z
UID:10509-1704474000-1704560400@curlmanitoba.org
SUMMARY:Swan Lake Doubles Bonspiel
DESCRIPTION:
URL:https://curlmanitoba.org/event/swan-lake-doubles-bonspiel-2/
LOCATION:Swan Lake Curling Club\, Swan Lake\, Manitoba\, R0G 2S0\, Canada
ORGANIZER;CN="Christine Gundrum":MAILTO:cgundrum15@hotmail.com
END:VEVENT
BEGIN:VEVENT
DTSTART;TZID=America/Winnipeg:20240105T080000
DTEND;TZID=America/Winnipeg:20240107T170000
DTSTAMP:20260425T093804
CREATED:20231016T194828Z
LAST-MODIFIED:20231019T152300Z
UID:10433-1704441600-1704646800@curlmanitoba.org
SUMMARY:IG Wealth - Deprez & Associates Stonewall 2-Person Stick Bonspiel
DESCRIPTION:
URL:https://curlmanitoba.org/event/stonewall-2-person-stick-open-ladies-bonspiel/
LOCATION:Access Curling Club – Stonewall\, 500 Main Street\, Stonewall\, Manitoba\, R0C 2Z0\, Canada
ORGANIZER;CN="Ralph Nespor":MAILTO:rjnespor@hotmail.com
END:VEVENT
BEGIN:VEVENT
DTSTART;TZID=America/Winnipeg:20240104T170000
DTEND;TZID=America/Winnipeg:20240107T170000
DTSTAMP:20260425T093804
CREATED:20231113T161313Z
LAST-MODIFIED:20231113T161317Z
UID:10519-1704387600-1704646800@curlmanitoba.org
SUMMARY:Arden Lansdowne Men's Bonspiel
DESCRIPTION:
URL:https://curlmanitoba.org/event/arden-lansdowne-mens-bonspiel-2/
LOCATION:Arden Curling Club
END:VEVENT
BEGIN:VEVENT
DTSTART;TZID=America/Winnipeg:20240103T080000
DTEND;TZID=America/Winnipeg:20240104T170000
DTSTAMP:20260425T093804
CREATED:20231031T155852Z
LAST-MODIFIED:20231031T155918Z
UID:10479-1704268800-1704387600@curlmanitoba.org
SUMMARY:Compass Credit Union Brandon Masters Bonspiel
DESCRIPTION:
URL:https://curlmanitoba.org/event/compass-credit-union-brandon-masters-bonspiel/
LOCATION:Brandon Curling Club\, 1175 18th St\, Brandon\, Brandon\, R7A7C5\, Canada
ORGANIZER;CN="Rae Hainstock":MAILTO:hainstoc@mymts.net
END:VEVENT
BEGIN:VEVENT
DTSTART;VALUE=DATE:20240103
DTEND;VALUE=DATE:20240108
DTSTAMP:20260425T093804
CREATED:20230727T152934Z
LAST-MODIFIED:20230727T152934Z
UID:10280-1704240000-1704671999@curlmanitoba.org
SUMMARY:ASHAM U18 Men's and Women's Provincial Championships
DESCRIPTION:Cost per team – $225\nDeadline to enter is December 14\, 2023 \nCompetitive Team Fees MUST be paid prior to playing in this event.  When entering your team\, please click on the Add-On box in Curling I/O. \nTo enter your team\, go to our Electronic Entry page or click the following links: \nASHAM U18 Women’s Championship \nASHAM U18 Men’s Championship
URL:https://curlmanitoba.org/event/asham-u18-mens-and-womens-provincial-championships/
LOCATION:Selkirk Curling club\, 381 Jemima Street\, Selkirk\, Manitoba\, R1A 0R2\, Canada
END:VEVENT
BEGIN:VEVENT
DTSTART;TZID=America/Winnipeg:20231226T080000
DTEND;TZID=America/Winnipeg:20231226T170000
DTSTAMP:20260425T093804
CREATED:20231113T161903Z
LAST-MODIFIED:20231113T161943Z
UID:10525-1703577600-1703610000@curlmanitoba.org
SUMMARY:Arden Lansdowne Boxing Day Bonspiel
DESCRIPTION:
URL:https://curlmanitoba.org/event/arden-lansdowne-boxing-day-bonspiel-2/
LOCATION:Arden Curling Club
END:VEVENT
BEGIN:VEVENT
DTSTART;TZID=America/Winnipeg:20231216T080000
DTEND;TZID=America/Winnipeg:20231216T230000
DTSTAMP:20260425T093804
CREATED:20230925T185910Z
LAST-MODIFIED:20230925T185915Z
UID:10400-1702713600-1702767600@curlmanitoba.org
SUMMARY:La Salle "Beer Bash" Bonspiel
DESCRIPTION:
URL:https://curlmanitoba.org/event/la-salle-beer-bash-bonspiel-2/
LOCATION:La Salle Curling Club
ORGANIZER;CN="Dennis Gerbrandt":MAILTO:dennis.gerbrandt@masterbrand.com
END:VEVENT
BEGIN:VEVENT
DTSTART;TZID=America/Winnipeg:20231215T170000
DTEND;TZID=America/Winnipeg:20231217T200000
DTSTAMP:20260425T093804
CREATED:20230830T202518Z
LAST-MODIFIED:20230830T202518Z
UID:10342-1702659600-1702843200@curlmanitoba.org
SUMMARY:U18 Heather Winter MJCT
DESCRIPTION:Heather Curling Club \nDec 15-17\, 2023\nEntry deadline on Dec 8.\nEntry fee $250 \nEntry form available through https://mjct.ca/events/
URL:https://curlmanitoba.org/event/u18-heather-winter-mjct/
LOCATION:Heather Curling Club\, 120 Youville Street\, Winnipeg\, Manitoba\, R2H 2S1\, Canada
END:VEVENT
BEGIN:VEVENT
DTSTART;TZID=America/Winnipeg:20231215T170000
DTEND;TZID=America/Winnipeg:20231217T170000
DTSTAMP:20260425T093804
CREATED:20231031T185538Z
LAST-MODIFIED:20231031T203825Z
UID:10481-1702659600-1702832400@curlmanitoba.org
SUMMARY:Assiniboine Memorial Curling Club 2nd Annual "Ugly Sweater" Bonspiel
DESCRIPTION:
URL:https://curlmanitoba.org/event/assiniboine-memorial-curling-club-2nd-annual-ugly-sweater-bonspiel/
LOCATION:Assiniboine Memorial Curling Club\, 940 Vimy Road\, Winnipeg\, Manitoba\, R2Y0T8\, Canada
ORGANIZER;CN="Jason Paseska":MAILTO:jason.paseska@curlamcc.com
END:VEVENT
BEGIN:VEVENT
DTSTART;TZID=America/Winnipeg:20231214T170000
DTEND;TZID=America/Winnipeg:20231217T190000
DTSTAMP:20260425T093804
CREATED:20230725T184122Z
LAST-MODIFIED:20230725T184122Z
UID:10279-1702573200-1702839600@curlmanitoba.org
SUMMARY:Strathcona Trust Senior Men's Regional Qualifiers
DESCRIPTION:Cost $165\nEntry deadline is November 30\, 2023. \nTo enter go to our Electronic Entry page or click the following link for your region: \nWinnipeg (Fort Garry)\nEast (Springfield)\nSouth 1 (Baldur)\nSouth 2 (Baldur)\nWest 1 (Hamiota)\nWest 2 (Brandon)\nNorth (Burntwood) \nCompetitive Team Fees must be paid prior to playing this event. When entering your team\, please click on the Add-On box in Curling I/O.
URL:https://curlmanitoba.org/event/strathcona-trust-senior-mens-regional-qualifiers/
END:VEVENT
END:VCALENDAR