BEGIN:VCALENDAR
VERSION:2.0
PRODID:-//CurlManitoba - ECPv6.15.17.1//NONSGML v1.0//EN
CALSCALE:GREGORIAN
METHOD:PUBLISH
X-WR-CALNAME:CurlManitoba
X-ORIGINAL-URL:https://curlmanitoba.org
X-WR-CALDESC:Events for CurlManitoba
REFRESH-INTERVAL;VALUE=DURATION:PT1H
X-Robots-Tag:noindex
X-PUBLISHED-TTL:PT1H
BEGIN:VTIMEZONE
TZID:America/Winnipeg
BEGIN:DAYLIGHT
TZOFFSETFROM:-0600
TZOFFSETTO:-0500
TZNAME:CDT
DTSTART:20220313T080000
END:DAYLIGHT
BEGIN:STANDARD
TZOFFSETFROM:-0500
TZOFFSETTO:-0600
TZNAME:CST
DTSTART:20221106T070000
END:STANDARD
BEGIN:DAYLIGHT
TZOFFSETFROM:-0600
TZOFFSETTO:-0500
TZNAME:CDT
DTSTART:20230312T080000
END:DAYLIGHT
BEGIN:STANDARD
TZOFFSETFROM:-0500
TZOFFSETTO:-0600
TZNAME:CST
DTSTART:20231105T070000
END:STANDARD
BEGIN:DAYLIGHT
TZOFFSETFROM:-0600
TZOFFSETTO:-0500
TZNAME:CDT
DTSTART:20240310T080000
END:DAYLIGHT
BEGIN:STANDARD
TZOFFSETFROM:-0500
TZOFFSETTO:-0600
TZNAME:CST
DTSTART:20241103T070000
END:STANDARD
END:VTIMEZONE
BEGIN:VEVENT
DTSTART;TZID=America/Winnipeg:20230926T100000
DTEND;TZID=America/Winnipeg:20230929T170000
DTSTAMP:20260425T095014
CREATED:20230615T162613Z
LAST-MODIFIED:20230615T162613Z
UID:10237-1695722400-1696006800@curlmanitoba.org
SUMMARY:The Picken Open Masters Bonspiel
DESCRIPTION:Open to Men’s\, Women’s\, Mixed and Stick Teams/Players aged 60 and over \nEntry fee – $200/team – includes 3 games plus a Welcome Luncheon \nMaximum 28 entries will be accepted \nTo enter your team visit https://www.granitecurlingclub.ca/  and click on bonspiels \nSpecial Bonus for Men’s Teams – highest finishing eligible team in the bonspiel will earn a berth to the 2024 Manitoba’s Credit Unions Master Men’s Championship \nQuestions? Contact Bob Minaker at 204-791-3233 or Brian Kushner at 204-298-5214
URL:https://curlmanitoba.org/event/the-picken-open-masters-bonspiel/
LOCATION:Granite Curling Club\, 1 Granite Way\, Winnipeg\, Manitoba\, Canada
END:VEVENT
BEGIN:VEVENT
DTSTART;TZID=America/Winnipeg:20230925T170000
DTEND;TZID=America/Winnipeg:20231001T220000
DTSTAMP:20260425T095014
CREATED:20230724T131727Z
LAST-MODIFIED:20230724T131727Z
UID:10263-1695661200-1696197600@curlmanitoba.org
SUMMARY:Charleswood Curling Club 75th Anniversary Open Bonspiel
DESCRIPTION:Come celebrate the curling club’s 75th anniversary. \nOpen bonpsiel – all combinations welcome. \n$500 per team – banquet included\nPay per win \nTo enter email cwcc75th@gmail.com  \nPay for your entry via e-transfer at cwcc75th@gmail.com
URL:https://curlmanitoba.org/event/charleswood-curling-club-75th-anniversary-open-bonspiel/
LOCATION:Charleswood Curling Club\, 4000 Grant Ave\, Winnipeg\, Manitoba\, R3R0L1\, Canada
END:VEVENT
BEGIN:VEVENT
DTSTART;TZID=America/Winnipeg:20230921T170000
DTEND;TZID=America/Winnipeg:20230924T200000
DTSTAMP:20260425T095014
CREATED:20230612T190631Z
LAST-MODIFIED:20230612T190631Z
UID:10224-1695315600-1695585600@curlmanitoba.org
SUMMARY:Larry Jones Classic Junior Spiel
DESCRIPTION:Contact Guy Beaudry at stvitaljuniorcurling@gmail.com
URL:https://curlmanitoba.org/event/larry-jones-classic-junior-spiel/
LOCATION:St. Vital Curling Club\, 286 Regal Ave\, Winnipeg\, Winnipeg\, R2M 3P5\, Canada
ORGANIZER;CN="Guy Beaudry":MAILTO:guy.m.beaudry@gmail.com
END:VEVENT
BEGIN:VEVENT
DTSTART;VALUE=DATE:20230919
DTEND;VALUE=DATE:20230922
DTSTAMP:20260425T095014
CREATED:20230612T194749Z
LAST-MODIFIED:20230612T194749Z
UID:10229-1695081600-1695340799@curlmanitoba.org
SUMMARY:Manitoba Stick Spiel
DESCRIPTION:Contact Fred Spiring at 204-261-3912 or mbsticktour@gmail.com
URL:https://curlmanitoba.org/event/manitoba-stick-spiel/
LOCATION:St. Vital Curling Club\, 286 Regal Ave\, Winnipeg\, Winnipeg\, R2M 3P5\, Canada
ORGANIZER;CN="Fred Spiring":MAILTO:mbsticktour@gmail.com
END:VEVENT
BEGIN:VEVENT
DTSTART;TZID=America/Winnipeg:20230915T170000
DTEND;TZID=America/Winnipeg:20230917T200000
DTSTAMP:20260425T095014
CREATED:20230612T190402Z
LAST-MODIFIED:20230612T190402Z
UID:10223-1694797200-1694980800@curlmanitoba.org
SUMMARY:SVCC U20 Mixed Doubles Event
DESCRIPTION:Contact Guy Beaudry at stvitaljuniorcurling@gmail.com
URL:https://curlmanitoba.org/event/svcc-u20-mixed-doubles-event/
LOCATION:St. Vital Curling Club\, 286 Regal Ave\, Winnipeg\, Winnipeg\, R2M 3P5\, Canada
ORGANIZER;CN="Guy Beaudry":MAILTO:guy.m.beaudry@gmail.com
END:VEVENT
BEGIN:VEVENT
DTSTART;TZID=America/Winnipeg:20230915T170000
DTEND;TZID=America/Winnipeg:20230917T200000
DTSTAMP:20260425T095014
CREATED:20230612T190138Z
LAST-MODIFIED:20230612T190138Z
UID:10222-1694797200-1694980800@curlmanitoba.org
SUMMARY:CurlManitoba U13/15 Event
DESCRIPTION:U13 & U15 categories \nContact Guy Beaudry at stvitaljuniorcurling@gmail.com
URL:https://curlmanitoba.org/event/curlmanitoba-u13-15-event/
LOCATION:St. Vital Curling Club\, 286 Regal Ave\, Winnipeg\, Winnipeg\, R2M 3P5\, Canada
ORGANIZER;CN="Guy Beaudry":MAILTO:guy.m.beaudry@gmail.com
END:VEVENT
BEGIN:VEVENT
DTSTART;TZID=America/Winnipeg:20230914T170000
DTEND;TZID=America/Winnipeg:20230917T170000
DTSTAMP:20260425T095014
CREATED:20230413T203730Z
LAST-MODIFIED:20230511T154058Z
UID:10182-1694710800-1694970000@curlmanitoba.org
SUMMARY:2023 Mother Club Fall Curling Classic (Granite)
DESCRIPTION:
URL:https://curlmanitoba.org/event/2023-mother-club-fall-curling-classic-granite/
LOCATION:Granite Curling Club\, 1 Granite Way\, Winnipeg\, Manitoba\, Canada
ORGANIZER;CN="Jamie Hay":MAILTO:curl@granitecurlingclub.ca
END:VEVENT
BEGIN:VEVENT
DTSTART;TZID=America/Winnipeg:20230908T170000
DTEND;TZID=America/Winnipeg:20230910T170000
DTSTAMP:20260425T095014
CREATED:20230612T194524Z
LAST-MODIFIED:20230612T194524Z
UID:10227-1694192400-1694365200@curlmanitoba.org
SUMMARY:Manitoba Curling Tour Event
DESCRIPTION:Contact Justin Twiss at mbcurlingtour@gmail.com
URL:https://curlmanitoba.org/event/manitoba-curling-tour-event/
LOCATION:St. Vital Curling Club\, 286 Regal Ave\, Winnipeg\, Winnipeg\, R2M 3P5\, Canada
ORGANIZER;CN="Justin Twiss":MAILTO:mbcurlingtour@gmail.com
END:VEVENT
BEGIN:VEVENT
DTSTART;TZID=America/Winnipeg:20230825T170000
DTEND;TZID=America/Winnipeg:20230827T170000
DTSTAMP:20260425T095014
CREATED:20230615T161619Z
LAST-MODIFIED:20230615T161619Z
UID:10235-1692982800-1693155600@curlmanitoba.org
SUMMARY:CCTC Icebreaker Challenge (Men's and Women's Events)
DESCRIPTION:Entry fee $600\nRegister here: https://forms.gle/XeVj3vjg3ifg3QfK9
URL:https://curlmanitoba.org/event/cctc-icebreaker-challenge-mens-and-womens-events/
LOCATION:Morris Curling Club\, 215 Montreal Ave\, Morris\, Manitoba\, R0G1K0\, Canada
ORGANIZER;CN="Gabriel Brandt":MAILTO:morristrainingcentre@gmail.com
END:VEVENT
BEGIN:VEVENT
DTSTART;TZID=America/Winnipeg:20230824T080000
DTEND;TZID=America/Winnipeg:20230827T170000
DTSTAMP:20260425T095014
CREATED:20230612T193004Z
LAST-MODIFIED:20230612T193004Z
UID:10226-1692864000-1693155600@curlmanitoba.org
SUMMARY:SVCC MD Niso Classic
DESCRIPTION:WCT Mixed Doubles Event \nContact Steven Michaleski at mbmdtour@protonmail.com
URL:https://curlmanitoba.org/event/svcc-md-niso-classic/
LOCATION:St. Vital Curling Club\, 286 Regal Ave\, Winnipeg\, Winnipeg\, R2M 3P5\, Canada
ORGANIZER;CN="Steve Michaleski":MAILTO:Michaleski_@hotmail.com
END:VEVENT
BEGIN:VEVENT
DTSTART;VALUE=DATE:20230821
DTEND;VALUE=DATE:20230826
DTSTAMP:20260425T095014
CREATED:20230612T185825Z
LAST-MODIFIED:20230612T185825Z
UID:10221-1692576000-1693007999@curlmanitoba.org
SUMMARY:Summer Camp
DESCRIPTION:Ages 10-20 \nLunch Included \nContact Guy Beaudry at stvitaljuniorcurling@gmail.com \n  \n 
URL:https://curlmanitoba.org/event/summer-camp/
LOCATION:St. Vital Curling Club\, 286 Regal Ave\, Winnipeg\, Winnipeg\, R2M 3P5\, Canada
ORGANIZER;CN="Guy Beaudry":MAILTO:guy.m.beaudry@gmail.com
END:VEVENT
BEGIN:VEVENT
DTSTART;TZID=America/Winnipeg:20230818T170000
DTEND;TZID=America/Winnipeg:20230820T170000
DTSTAMP:20260425T095014
CREATED:20230615T161418Z
LAST-MODIFIED:20230615T161418Z
UID:10234-1692378000-1692550800@curlmanitoba.org
SUMMARY:CCTC Summer Classic (Men's and Women's U20 events)
DESCRIPTION:Aug. 18-20 \nEntry Fee – $300 \nRegister through MJCT – https://mjct.ca/events/ \n 
URL:https://curlmanitoba.org/event/cctc-summer-classic-mens-and-womens-u20-events/
LOCATION:Morris Curling Club\, 215 Montreal Ave\, Morris\, Manitoba\, R0G1K0\, Canada
ORGANIZER;CN="Gabriel Brandt":MAILTO:morristrainingcentre@gmail.com
END:VEVENT
BEGIN:VEVENT
DTSTART;TZID=America/Winnipeg:20230727T080000
DTEND;TZID=America/Winnipeg:20230727T170000
DTSTAMP:20260425T095014
CREATED:20230727T154519Z
LAST-MODIFIED:20230727T154519Z
UID:10285-1690444800-1690477200@curlmanitoba.org
SUMMARY:Dynasty Mixed Doubles Provincial Championship
DESCRIPTION:Cost per team – $125\nDeadline to enter is February 1\, 2024 \nTo enter your team\, go to our Electronic Entry page or click the following links: \nDynasty Mixed Doubles Provincials
URL:https://curlmanitoba.org/event/dynasty-mixed-doubles-provincial-championship-2/
LOCATION:Beausejour Curling Club\, 360 Veteran's Lane\, Beausejour\, Manitoba\, R0E 0C0\, Canada
END:VEVENT
BEGIN:VEVENT
DTSTART;TZID=America/Winnipeg:20230623T100000
DTEND;TZID=America/Winnipeg:20230623T170000
DTSTAMP:20260425T095014
CREATED:20230615T150457Z
LAST-MODIFIED:20230615T150457Z
UID:10232-1687514400-1687539600@curlmanitoba.org
SUMMARY:Morris Golf Tournament & Bonspiel
DESCRIPTION:Open and Stick mini bonspiel – runs approx 10am-5pm \nOption to play golf in the evening \nEntry fee for curling only is $40 per person for two 6 end games
URL:https://curlmanitoba.org/event/morris-golf-tournament-bonspiel/
LOCATION:Morris Curling Club\, 215 Montreal Ave\, Morris\, Manitoba\, R0G1K0\, Canada
ORGANIZER;CN="Gabriel Brandt":MAILTO:morristrainingcentre@gmail.com
END:VEVENT
BEGIN:VEVENT
DTSTART;TZID=America/Winnipeg:20230407T170000
DTEND;TZID=America/Winnipeg:20230409T170000
DTSTAMP:20260425T095014
CREATED:20221201T215604Z
LAST-MODIFIED:20221201T215608Z
UID:9625-1680886800-1681059600@curlmanitoba.org
SUMMARY:Ardern Lansdowne Mixed Bonspiel
DESCRIPTION:
URL:https://curlmanitoba.org/event/ardern-lansdowne-mixed-bonspiel/
LOCATION:Arden Curling Club
END:VEVENT
BEGIN:VEVENT
DTSTART;TZID=America/Winnipeg:20230407T170000
DTEND;TZID=America/Winnipeg:20230409T170000
DTSTAMP:20260425T095014
CREATED:20220919T160249Z
LAST-MODIFIED:20220923T163742Z
UID:9424-1680886800-1681059600@curlmanitoba.org
SUMMARY:Mixed Doubles Tour Championship
DESCRIPTION:Entry Fee is $400 \nPurse is $10\,000 \nContact for entry; \nSteven Michaleski\n204-803-1288\nmbmdtour@protonmail.com
URL:https://curlmanitoba.org/event/mb-md-tour-championship/
LOCATION:Morris Curling Club\, 215 Montreal Ave\, Morris\, Manitoba\, R0G1K0\, Canada
ORGANIZER;CN="Stevem Michaleske":MAILTO:mbmdtour@protonmail.com
END:VEVENT
BEGIN:VEVENT
DTSTART;TZID=America/Winnipeg:20230406T170000
DTEND;TZID=America/Winnipeg:20230409T170000
DTSTAMP:20260425T095014
CREATED:20221129T150658Z
LAST-MODIFIED:20221129T150702Z
UID:9593-1680800400-1681059600@curlmanitoba.org
SUMMARY:Granite Rock & Roll Bonspiel
DESCRIPTION:
URL:https://curlmanitoba.org/event/granite-rock-roll-bonspiel/
LOCATION:Granite Curling Club\, 1 Granite Way\, Winnipeg\, Manitoba\, Canada
ORGANIZER;CN="Jamie Hay":MAILTO:curl@granitecurlingclub.ca
END:VEVENT
BEGIN:VEVENT
DTSTART;TZID=America/Winnipeg:20230406T170000
DTEND;TZID=America/Winnipeg:20230409T170000
DTSTAMP:20260425T095014
CREATED:20221018T183012Z
LAST-MODIFIED:20221018T183034Z
UID:9488-1680800400-1681059600@curlmanitoba.org
SUMMARY:Pilot Mound Open Bonspiel
DESCRIPTION:
URL:https://curlmanitoba.org/event/pilot-mound-open-bonspiel/
LOCATION:Pilot Mound Curling Club
END:VEVENT
BEGIN:VEVENT
DTSTART;TZID=America/Winnipeg:20230401T080000
DTEND;TZID=America/Winnipeg:20230402T170000
DTSTAMP:20260425T095014
CREATED:20230216T190814Z
LAST-MODIFIED:20230216T204505Z
UID:10097-1680336000-1680454800@curlmanitoba.org
SUMMARY:Killarney Last Chance Bonspiel
DESCRIPTION:
URL:https://curlmanitoba.org/event/killarney-last-chance-bonspiel/
LOCATION:Killarney Curling Club
END:VEVENT
BEGIN:VEVENT
DTSTART;TZID=America/Winnipeg:20230331T170000
DTEND;TZID=America/Winnipeg:20230402T170000
DTSTAMP:20260425T095014
CREATED:20230315T171417Z
LAST-MODIFIED:20230315T171422Z
UID:10141-1680282000-1680454800@curlmanitoba.org
SUMMARY:Gimli Mixed Bonspiel
DESCRIPTION:
URL:https://curlmanitoba.org/event/gimli-mixed-bonspiel-2/
LOCATION:Gimli Rec Centre
END:VEVENT
BEGIN:VEVENT
DTSTART;TZID=America/Winnipeg:20230331T170000
DTEND;TZID=America/Winnipeg:20230402T170000
DTSTAMP:20260425T095014
CREATED:20230223T172753Z
LAST-MODIFIED:20230223T172758Z
UID:10121-1680282000-1680454800@curlmanitoba.org
SUMMARY:Gimli Mixed Bonspiel
DESCRIPTION:
URL:https://curlmanitoba.org/event/gimli-mixed-bonspiel/
LOCATION:Gimli Rec Centre
END:VEVENT
BEGIN:VEVENT
DTSTART;TZID=America/Winnipeg:20230331T170000
DTEND;TZID=America/Winnipeg:20230402T170000
DTSTAMP:20260425T095014
CREATED:20230221T155347Z
LAST-MODIFIED:20230221T155352Z
UID:10106-1680282000-1680454800@curlmanitoba.org
SUMMARY:Swan Lake Open Bonspiel
DESCRIPTION:
URL:https://curlmanitoba.org/event/swan-lake-open-bonspiel-2/
LOCATION:Swan Lake Curling Club\, Swan Lake\, Manitoba\, R0G 2S0\, Canada
END:VEVENT
BEGIN:VEVENT
DTSTART;TZID=America/Winnipeg:20230331T170000
DTEND;TZID=America/Winnipeg:20230402T170000
DTSTAMP:20260425T095014
CREATED:20230202T162018Z
LAST-MODIFIED:20230202T162104Z
UID:10021-1680282000-1680454800@curlmanitoba.org
SUMMARY:Portage Last Chance Bonspiel
DESCRIPTION:3
URL:https://curlmanitoba.org/event/portage-last-chance-bonspiel/
LOCATION:Portage Curling Club\, 2401 Saskatchewan Ave W\, Portage la Prairie\, Manitoba\, R1N 3B7\, Canada
ORGANIZER;CN="Portage Curling Cub":MAILTO:manager@portagecurlingclub.com
END:VEVENT
BEGIN:VEVENT
DTSTART;TZID=America/Winnipeg:20230331T170000
DTEND;TZID=America/Winnipeg:20230402T170000
DTSTAMP:20260425T095014
CREATED:20230116T205504Z
LAST-MODIFIED:20230116T205511Z
UID:9885-1680282000-1680454800@curlmanitoba.org
SUMMARY:Swan Lake Open Bonspiel
DESCRIPTION:
URL:https://curlmanitoba.org/event/swan-lake-open-bonspiel/
LOCATION:Swan Lake Curling Club\, Swan Lake\, Manitoba\, R0G 2S0\, Canada
ORGANIZER;CN="Christine Gundrum":MAILTO:cgundrum15@hotmail.com
END:VEVENT
BEGIN:VEVENT
DTSTART;VALUE=DATE:20230330
DTEND;VALUE=DATE:20230403
DTSTAMP:20260425T095014
CREATED:20220601T214508Z
LAST-MODIFIED:20220601T214508Z
UID:9298-1680134400-1680479999@curlmanitoba.org
SUMMARY:Youth Winter Bonspiel (U13 and U15)
DESCRIPTION:
URL:https://curlmanitoba.org/event/youth-winter-bonspiel-u13-and-u15/
END:VEVENT
BEGIN:VEVENT
DTSTART;VALUE=DATE:20230330
DTEND;VALUE=DATE:20230403
DTSTAMP:20260425T095014
CREATED:20210608T164415Z
LAST-MODIFIED:20220601T213954Z
UID:8547-1680134400-1680479999@curlmanitoba.org
SUMMARY:Chicken Chef Mixed Championship
DESCRIPTION:
URL:https://curlmanitoba.org/event/chicken-chef-mixed-championship-2021/
LOCATION:Assiniboine Memorial Curling Club\, 940 Vimy Road\, Winnipeg\, Manitoba\, R2Y0T8\, Canada
END:VEVENT
BEGIN:VEVENT
DTSTART;TZID=America/Winnipeg:20230327T080000
DTEND;TZID=America/Winnipeg:20230330T170000
DTSTAMP:20260425T095014
CREATED:20230116T173057Z
LAST-MODIFIED:20230116T173721Z
UID:9866-1679904000-1680195600@curlmanitoba.org
SUMMARY:2023 Winnipeg Curling Clubs Association Women's\, Men's and 2-person Open Stick Daytime Curling Championship
DESCRIPTION:
URL:https://curlmanitoba.org/event/2023-winnipeg-curling-clubs-association-womens-mens-and-2-person-open-stick-daytime-curling-championship/
ORGANIZER;CN="Paul Batchelor":MAILTO:dpbatch823@gmail.com
END:VEVENT
BEGIN:VEVENT
DTSTART;TZID=America/Winnipeg:20230324T170000
DTEND;TZID=America/Winnipeg:20230326T170000
DTSTAMP:20260425T095014
CREATED:20230110T201129Z
LAST-MODIFIED:20230110T202010Z
UID:9735-1679677200-1679850000@curlmanitoba.org
SUMMARY:Clearwater Mixed Bonspiel
DESCRIPTION:
URL:https://curlmanitoba.org/event/clearwater-mixed-bonspiel/
LOCATION:Clearwater Crling Club
END:VEVENT
BEGIN:VEVENT
DTSTART;TZID=America/Winnipeg:20230324T170000
DTEND;TZID=America/Winnipeg:20230326T170000
DTSTAMP:20260425T095014
CREATED:20221201T214803Z
LAST-MODIFIED:20221201T214812Z
UID:9620-1679677200-1679850000@curlmanitoba.org
SUMMARY:Winnipeg Beach "What the Heck" Bonspiel
DESCRIPTION:
URL:https://curlmanitoba.org/event/winnipeg-beach-what-the-heck-bonspiel/
LOCATION:Winnipeg Beach Curling Club
END:VEVENT
BEGIN:VEVENT
DTSTART;TZID=America/Winnipeg:20230324T170000
DTEND;TZID=America/Winnipeg:20230326T170000
DTSTAMP:20260425T095014
CREATED:20221128T153528Z
LAST-MODIFIED:20221128T153841Z
UID:9589-1679677200-1679850000@curlmanitoba.org
SUMMARY:Beausejour Open Bonspiel
DESCRIPTION:
URL:https://curlmanitoba.org/event/beausejour-open-bonspiel-2/
LOCATION:Beausejour Curling Club\, 360 Veteran's Lane\, Beausejour\, Manitoba\, R0E 0C0\, Canada
ORGANIZER;CN="Beausejour Curling Club":MAILTO:beausejourcurlingclub@gmail.com
END:VEVENT
END:VCALENDAR