BEGIN:VCALENDAR
VERSION:2.0
PRODID:-//CurlManitoba - ECPv6.15.17.1//NONSGML v1.0//EN
CALSCALE:GREGORIAN
METHOD:PUBLISH
X-WR-CALNAME:CurlManitoba
X-ORIGINAL-URL:https://curlmanitoba.org
X-WR-CALDESC:Events for CurlManitoba
REFRESH-INTERVAL;VALUE=DURATION:PT1H
X-Robots-Tag:noindex
X-PUBLISHED-TTL:PT1H
BEGIN:VTIMEZONE
TZID:America/Winnipeg
BEGIN:DAYLIGHT
TZOFFSETFROM:-0600
TZOFFSETTO:-0500
TZNAME:CDT
DTSTART:20220313T080000
END:DAYLIGHT
BEGIN:STANDARD
TZOFFSETFROM:-0500
TZOFFSETTO:-0600
TZNAME:CST
DTSTART:20221106T070000
END:STANDARD
BEGIN:DAYLIGHT
TZOFFSETFROM:-0600
TZOFFSETTO:-0500
TZNAME:CDT
DTSTART:20230312T080000
END:DAYLIGHT
BEGIN:STANDARD
TZOFFSETFROM:-0500
TZOFFSETTO:-0600
TZNAME:CST
DTSTART:20231105T070000
END:STANDARD
BEGIN:DAYLIGHT
TZOFFSETFROM:-0600
TZOFFSETTO:-0500
TZNAME:CDT
DTSTART:20240310T080000
END:DAYLIGHT
BEGIN:STANDARD
TZOFFSETFROM:-0500
TZOFFSETTO:-0600
TZNAME:CST
DTSTART:20241103T070000
END:STANDARD
END:VTIMEZONE
BEGIN:VEVENT
DTSTART;TZID=America/Winnipeg:20230317T170000
DTEND;TZID=America/Winnipeg:20230319T170000
DTSTAMP:20260425T064518
CREATED:20230127T172202Z
LAST-MODIFIED:20230127T172207Z
UID:9987-1679072400-1679245200@curlmanitoba.org
SUMMARY:Swan River Ladies "Disney on Ice" Bonspiel
DESCRIPTION:
URL:https://curlmanitoba.org/event/swan-river-ladies-disney-on-ice-bonspiel/
LOCATION:Swan River Curling Club\, 1010 1 St N\, Swan River\, Manitoba\, Canada
END:VEVENT
BEGIN:VEVENT
DTSTART;TZID=America/Winnipeg:20230317T170000
DTEND;TZID=America/Winnipeg:20230319T170000
DTSTAMP:20260425T064518
CREATED:20221019T170156Z
LAST-MODIFIED:20230105T152001Z
UID:9499-1679072400-1679245200@curlmanitoba.org
SUMMARY:La Salle Ladies Bonspiel
DESCRIPTION:
URL:https://curlmanitoba.org/event/la-salle-ladies-bonspiel/
LOCATION:La Salle Curling Club
ORGANIZER;CN="La Salle Curling Club":MAILTO:lasallecurlingclubmb@gmail.com
END:VEVENT
BEGIN:VEVENT
DTSTART;TZID=America/Winnipeg:20230316T170000
DTEND;TZID=America/Winnipeg:20230319T170000
DTSTAMP:20260425T064518
CREATED:20221230T153747Z
LAST-MODIFIED:20221230T153752Z
UID:9678-1678986000-1679245200@curlmanitoba.org
SUMMARY:Lorette Open Bonspiel
DESCRIPTION:
URL:https://curlmanitoba.org/event/lorette-open-bonspiel/
LOCATION:Lorette Curling Club
ORGANIZER;CN="Joe Fouasse":MAILTO:jnfouasse@icloud.com
END:VEVENT
BEGIN:VEVENT
DTSTART;VALUE=DATE:20230316
DTEND;VALUE=DATE:20230320
DTSTAMP:20260425T064518
CREATED:20220601T214405Z
LAST-MODIFIED:20220601T214405Z
UID:9297-1678924800-1679270399@curlmanitoba.org
SUMMARY:Curling Club Men's & Women's Regional Qualifiers
DESCRIPTION:
URL:https://curlmanitoba.org/event/curling-club-mens-womens-regional-qualifiers/
LOCATION:Various Manitoba Clubs
END:VEVENT
BEGIN:VEVENT
DTSTART;TZID=America/Winnipeg:20230314T170000
DTEND;TZID=America/Winnipeg:20230319T170000
DTSTAMP:20260425T064518
CREATED:20230202T163438Z
LAST-MODIFIED:20230202T163559Z
UID:10023-1678813200-1679245200@curlmanitoba.org
SUMMARY:123rd Virden Men's Bonspiel
DESCRIPTION:
URL:https://curlmanitoba.org/event/123rd-virden-mens-bonspiel/
LOCATION:Virden Curling Club
END:VEVENT
BEGIN:VEVENT
DTSTART;TZID=America/Winnipeg:20230311T090000
DTEND;TZID=America/Winnipeg:20230311T210000
DTSTAMP:20260425T064518
CREATED:20230217T212959Z
LAST-MODIFIED:20230217T213004Z
UID:10101-1678525200-1678568400@curlmanitoba.org
SUMMARY:Carberry Junior Bonspiel
DESCRIPTION:
URL:https://curlmanitoba.org/event/carberry-junior-bonspiel/
LOCATION:Carberry Curling Club
ORGANIZER;CN="Carberry Curling Club":MAILTO:leahcbryant@hotmail.com
END:VEVENT
BEGIN:VEVENT
DTSTART;TZID=America/Winnipeg:20230310T170000
DTEND;TZID=America/Winnipeg:20230312T170000
DTSTAMP:20260425T064518
CREATED:20230223T172453Z
LAST-MODIFIED:20230223T172524Z
UID:10119-1678467600-1678640400@curlmanitoba.org
SUMMARY:Gimli Men's Bonspiel
DESCRIPTION:
URL:https://curlmanitoba.org/event/gimli-mens-bonspiel/
LOCATION:Gimli Rec Centre
END:VEVENT
BEGIN:VEVENT
DTSTART;TZID=America/Winnipeg:20230309T170000
DTEND;TZID=America/Winnipeg:20230312T170000
DTSTAMP:20260425T064518
CREATED:20230202T164146Z
LAST-MODIFIED:20230202T164152Z
UID:10025-1678381200-1678640400@curlmanitoba.org
SUMMARY:Stonewall Men's Bonspiel
DESCRIPTION:
URL:https://curlmanitoba.org/event/stonewall-mens-bonspiel-2/
LOCATION:Access Curling Club – Stonewall\, 500 Main Street\, Stonewall\, Manitoba\, R0C 2Z0\, Canada
ORGANIZER;CN="Matthew Dunlop":MAILTO:mdunlop1455@gmail.com
END:VEVENT
BEGIN:VEVENT
DTSTART;TZID=America/Winnipeg:20230309T170000
DTEND;TZID=America/Winnipeg:20230312T170000
DTSTAMP:20260425T064518
CREATED:20221108T205206Z
LAST-MODIFIED:20221108T205212Z
UID:9544-1678381200-1678640400@curlmanitoba.org
SUMMARY:Stonewall Men's Bonspiel
DESCRIPTION:
URL:https://curlmanitoba.org/event/stonewall-mens-bonspiel/
LOCATION:Access Curling Club – Stonewall\, 500 Main Street\, Stonewall\, Manitoba\, R0C 2Z0\, Canada
ORGANIZER;CN="Matt Dunlop":MAILTO:mdunlop1455@gmail.com
END:VEVENT
BEGIN:VEVENT
DTSTART;VALUE=DATE:20230308
DTEND;VALUE=DATE:20230314
DTSTAMP:20260425T064518
CREATED:20220601T214251Z
LAST-MODIFIED:20220602T143906Z
UID:9296-1678233600-1678751999@curlmanitoba.org
SUMMARY:Manitoba Credit Unions Master Men's & Women's Championship
DESCRIPTION:
URL:https://curlmanitoba.org/event/manitoba-credit-unions-master-mens-womens-championship/
LOCATION:Burntwood – Thompson
END:VEVENT
BEGIN:VEVENT
DTSTART;TZID=America/Winnipeg:20230303T180000
DTEND;TZID=America/Winnipeg:20230305T180000
DTSTAMP:20260425T064518
CREATED:20221116T152635Z
LAST-MODIFIED:20221116T152635Z
UID:9563-1677866400-1678039200@curlmanitoba.org
SUMMARY:Selkirk Men's Bonspiel
DESCRIPTION:For more information/details\, contact Shayne Merritt at shaynemerritt21@hotmail.com and 204-391-1562
URL:https://curlmanitoba.org/event/selkirk-mens-bonspiel/
LOCATION:Selkirk Curling club\, 381 Jemima Street\, Selkirk\, Manitoba\, R1A 0R2\, Canada
ORGANIZER;CN="Shayne Merritt":MAILTO:shayne123423@hotmail.com
END:VEVENT
BEGIN:VEVENT
DTSTART;TZID=America/Winnipeg:20230303T170000
DTEND;TZID=America/Winnipeg:20230305T170000
DTSTAMP:20260425T064518
CREATED:20230127T171753Z
LAST-MODIFIED:20230127T171800Z
UID:9983-1677862800-1678035600@curlmanitoba.org
SUMMARY:Swan River Men's Bonspiel
DESCRIPTION:
URL:https://curlmanitoba.org/event/swan-river-mens-bonspiel/
LOCATION:Swan River Curling Club\, 1010 1 St N\, Swan River\, Manitoba\, Canada
END:VEVENT
BEGIN:VEVENT
DTSTART;TZID=America/Winnipeg:20230303T170000
DTEND;TZID=America/Winnipeg:20230305T170000
DTSTAMP:20260425T064518
CREATED:20230118T172649Z
LAST-MODIFIED:20230118T172702Z
UID:9915-1677862800-1678035600@curlmanitoba.org
SUMMARY:Pinawa Men's and Women's Simultaneous Bonspiel
DESCRIPTION:
URL:https://curlmanitoba.org/event/pinawa-mens-and-womens-simultaneous-bonspiel/
LOCATION:Pinawa Curling Club
ORGANIZER;CN="Brandy":MAILTO:pinawa.curling@outlook.com
END:VEVENT
BEGIN:VEVENT
DTSTART;TZID=America/Winnipeg:20230303T170000
DTEND;TZID=America/Winnipeg:20230305T170000
DTSTAMP:20260425T064518
CREATED:20221215T210900Z
LAST-MODIFIED:20221215T210900Z
UID:9644-1677862800-1678035600@curlmanitoba.org
SUMMARY:Portage "That 70's" Bonspiel
DESCRIPTION:
URL:https://curlmanitoba.org/event/portage-that-70s-bonspiel/
LOCATION:Portage Curling Club\, 2401 Saskatchewan Ave W\, Portage la Prairie\, Manitoba\, R1N 3B7\, Canada
ORGANIZER;CN="Breanna":MAILTO:breannajoellemiller@gmail.com
END:VEVENT
BEGIN:VEVENT
DTSTART;TZID=America/Winnipeg:20230303T170000
DTEND;TZID=America/Winnipeg:20230305T170000
DTSTAMP:20260425T064518
CREATED:20221019T170033Z
LAST-MODIFIED:20221019T170047Z
UID:9498-1677862800-1678035600@curlmanitoba.org
SUMMARY:La Salle Family Bonspiel
DESCRIPTION:
URL:https://curlmanitoba.org/event/la-salle-family-bonspiel/
LOCATION:La Salle Curling Club
ORGANIZER;CN="La Salle Curling Club":MAILTO:lasallecurlingclubmb@gmail.com
END:VEVENT
BEGIN:VEVENT
DTSTART;TZID=America/Winnipeg:20230303T170000
DTEND;TZID=America/Winnipeg:20230304T170000
DTSTAMP:20260425T064518
CREATED:20230223T172138Z
LAST-MODIFIED:20230223T172200Z
UID:10117-1677862800-1677949200@curlmanitoba.org
SUMMARY:Gimli "Ice FestiSpiel" Doubles Bonspiel
DESCRIPTION:
URL:https://curlmanitoba.org/event/gimli-ice-festispiel-doubles-bonspiel/
LOCATION:Gimli Rec Centre
END:VEVENT
BEGIN:VEVENT
DTSTART;TZID=America/Winnipeg:20230224T170000
DTEND;TZID=America/Winnipeg:20230226T170000
DTSTAMP:20260425T064518
CREATED:20230117T152617Z
LAST-MODIFIED:20230117T152623Z
UID:9893-1677258000-1677430800@curlmanitoba.org
SUMMARY:Baldur Ladies Bonspiel
DESCRIPTION:
URL:https://curlmanitoba.org/event/baldur-ladies-bonspiel/
LOCATION:Baldur Curling Club
END:VEVENT
BEGIN:VEVENT
DTSTART;TZID=America/Winnipeg:20230224T170000
DTEND;TZID=America/Winnipeg:20230226T170000
DTSTAMP:20260425T064518
CREATED:20221219T221147Z
LAST-MODIFIED:20221219T221235Z
UID:9663-1677258000-1677430800@curlmanitoba.org
SUMMARY:Stonewall Ladies Bonspiel
DESCRIPTION:
URL:https://curlmanitoba.org/event/stonewall-ladies-bonspiel/
LOCATION:Access Curling Club – Stonewall\, 500 Main Street\, Stonewall\, Manitoba\, R0C 2Z0\, Canada
ORGANIZER;CN="Laurie Ellwood":MAILTO:ljellwood82@gmail.com
END:VEVENT
BEGIN:VEVENT
DTSTART;TZID=America/Winnipeg:20230224T170000
DTEND;TZID=America/Winnipeg:20230226T170000
DTSTAMP:20260425T064518
CREATED:20221201T215336Z
LAST-MODIFIED:20221201T215341Z
UID:9624-1677258000-1677430800@curlmanitoba.org
SUMMARY:Arden Lansdowne Open Bonspiel
DESCRIPTION:
URL:https://curlmanitoba.org/event/arden-lansdowne-open-bonspiel/
LOCATION:Arden Curling Club
END:VEVENT
BEGIN:VEVENT
DTSTART;TZID=America/Winnipeg:20230223T080000
DTEND;TZID=America/Winnipeg:20230226T170000
DTSTAMP:20260425T064518
CREATED:20230110T202616Z
LAST-MODIFIED:20230110T202714Z
UID:9737-1677139200-1677430800@curlmanitoba.org
SUMMARY:CurlCarberry presents the McCain Superspiel
DESCRIPTION:
URL:https://curlmanitoba.org/event/curlcarberry-presents-the-mccain-superspiel/
LOCATION:Carberry Curling Club
END:VEVENT
BEGIN:VEVENT
DTSTART;TZID=America/Winnipeg:20230218T080000
DTEND;TZID=America/Winnipeg:20230220T170000
DTSTAMP:20260425T064518
CREATED:20230109T213313Z
LAST-MODIFIED:20230109T213320Z
UID:9713-1676707200-1676912400@curlmanitoba.org
SUMMARY:St. Adolphe Retro 80's Open Bonspiel
DESCRIPTION:
URL:https://curlmanitoba.org/event/st-adolphe-retro-80s-open-bonspiel/
LOCATION:St. Adolphe Curling Club
ORGANIZER;CN="Kerry":MAILTO:curlstadolphe@gmail.com
END:VEVENT
BEGIN:VEVENT
DTSTART;TZID=America/Winnipeg:20230217T170000
DTEND;TZID=America/Winnipeg:20230219T170000
DTSTAMP:20260425T064518
CREATED:20230110T194054Z
LAST-MODIFIED:20230110T195717Z
UID:9725-1676653200-1676826000@curlmanitoba.org
SUMMARY:Baldur Men's Annual Bonspiel
DESCRIPTION:
URL:https://curlmanitoba.org/event/baldur-mens-annual-bonspiel/
LOCATION:Baldur Curling Clu
END:VEVENT
BEGIN:VEVENT
DTSTART;TZID=America/Winnipeg:20230217T170000
DTEND;TZID=America/Winnipeg:20230219T170000
DTSTAMP:20260425T064518
CREATED:20221201T214325Z
LAST-MODIFIED:20221201T214331Z
UID:9619-1676653200-1676826000@curlmanitoba.org
SUMMARY:Winnipeg Beach Cash & Candy Bonspiel
DESCRIPTION:
URL:https://curlmanitoba.org/event/winnipeg-beach-cash-candy-bonspiel/
LOCATION:Winnipeg Beach Curling Club
END:VEVENT
BEGIN:VEVENT
DTSTART;TZID=America/Winnipeg:20230217T170000
DTEND;TZID=America/Winnipeg:20230219T170000
DTSTAMP:20260425T064518
CREATED:20221128T154904Z
LAST-MODIFIED:20221128T154911Z
UID:9590-1676653200-1676826000@curlmanitoba.org
SUMMARY:Springfield Men's Bonspiel
DESCRIPTION:
URL:https://curlmanitoba.org/event/springfield-mens-bonspiel/
LOCATION:Springfield Curling Club – Dugald
ORGANIZER;CN="Adrian Brown":MAILTO:adrian@hammerdown.ca
END:VEVENT
BEGIN:VEVENT
DTSTART;TZID=America/Winnipeg:20230217T170000
DTEND;TZID=America/Winnipeg:20230219T170000
DTSTAMP:20260425T064518
CREATED:20221110T173503Z
LAST-MODIFIED:20221110T173507Z
UID:9549-1676653200-1676826000@curlmanitoba.org
SUMMARY:Springfield Men's Cash Bonspiel (Dugald\, MB)
DESCRIPTION:
URL:https://curlmanitoba.org/event/springfield-mens-cash-bonspiel-dugald-mb/
LOCATION:Springfield Curling Club – Dugald
ORGANIZER;CN="Adrian Brown":MAILTO:adrian@hammerdown.ca
END:VEVENT
BEGIN:VEVENT
DTSTART;TZID=America/Winnipeg:20230216T080000
DTEND;TZID=America/Winnipeg:20230219T170000
DTSTAMP:20260425T064518
CREATED:20230110T203155Z
LAST-MODIFIED:20230110T203232Z
UID:9738-1676534400-1676826000@curlmanitoba.org
SUMMARY:LGBT2SQ+ Bison Cup Bonspiel - Granite Curling Club
DESCRIPTION:
URL:https://curlmanitoba.org/event/bison-cup-bonspiel-granite-curling-club/
LOCATION:Granite Curling Club\, 1 Granite Way\, Winnipeg\, Manitoba\, Canada
END:VEVENT
BEGIN:VEVENT
DTSTART;VALUE=DATE:20230216
DTEND;VALUE=DATE:20230221
DTSTAMP:20260425T064518
CREATED:20210609T144054Z
LAST-MODIFIED:20220601T212608Z
UID:8583-1676505600-1676937599@curlmanitoba.org
SUMMARY:Dynasty Mixed Doubles Provincial Championship
DESCRIPTION:
URL:https://curlmanitoba.org/event/dynasty-mixed-doubles-provincial-championship/
LOCATION:St. Vital Curling Club\, 286 Regal Ave\, Winnipeg\, Winnipeg\, R2M 3P5\, Canada
END:VEVENT
BEGIN:VEVENT
DTSTART;TZID=America/Winnipeg:20230210T170000
DTEND;TZID=America/Winnipeg:20230212T190000
DTSTAMP:20260425T064518
CREATED:20221101T170742Z
LAST-MODIFIED:20221101T170747Z
UID:9518-1676048400-1676228400@curlmanitoba.org
SUMMARY:Winkler Men's Bonspiel
DESCRIPTION:
URL:https://curlmanitoba.org/event/winkler-mens-bonspiel/
LOCATION:Winkler Curling Club
ORGANIZER;CN="winkler Curling Club":MAILTO:winkler.curlingclub@gmail.com
END:VEVENT
BEGIN:VEVENT
DTSTART;TZID=America/Winnipeg:20230210T170000
DTEND;TZID=America/Winnipeg:20230212T170000
DTSTAMP:20260425T064518
CREATED:20230111T220847Z
LAST-MODIFIED:20230111T220852Z
UID:9743-1676048400-1676221200@curlmanitoba.org
SUMMARY:Valley Fiber presents Winkler Men's Bonspiel
DESCRIPTION:
URL:https://curlmanitoba.org/event/valley-fiber-presents-winkler-mens-bonspiel/
LOCATION:Winkler Curling Club
ORGANIZER;CN="Matt":MAILTO:winkler.curlingclub@gmail.com
END:VEVENT
BEGIN:VEVENT
DTSTART;TZID=America/Winnipeg:20230210T170000
DTEND;TZID=America/Winnipeg:20230212T170000
DTSTAMP:20260425T064518
CREATED:20221212T165135Z
LAST-MODIFIED:20221212T165140Z
UID:9633-1676048400-1676221200@curlmanitoba.org
SUMMARY:Minnedosa Ladies Bonspiel
DESCRIPTION:
URL:https://curlmanitoba.org/event/minnedosa-ladies-bonspiel/
LOCATION:Minnedosa Curling Club\, 61 6th street SW\, Minnedosa\, Manitoba\, R0J 1E0\, Canada
END:VEVENT
END:VCALENDAR