BEGIN:VCALENDAR
VERSION:2.0
PRODID:-//CurlManitoba - ECPv6.15.17.1//NONSGML v1.0//EN
CALSCALE:GREGORIAN
METHOD:PUBLISH
X-WR-CALNAME:CurlManitoba
X-ORIGINAL-URL:https://curlmanitoba.org
X-WR-CALDESC:Events for CurlManitoba
REFRESH-INTERVAL;VALUE=DURATION:PT1H
X-Robots-Tag:noindex
X-PUBLISHED-TTL:PT1H
BEGIN:VTIMEZONE
TZID:America/Winnipeg
BEGIN:DAYLIGHT
TZOFFSETFROM:-0600
TZOFFSETTO:-0500
TZNAME:CDT
DTSTART:20210314T080000
END:DAYLIGHT
BEGIN:STANDARD
TZOFFSETFROM:-0500
TZOFFSETTO:-0600
TZNAME:CST
DTSTART:20211107T070000
END:STANDARD
BEGIN:DAYLIGHT
TZOFFSETFROM:-0600
TZOFFSETTO:-0500
TZNAME:CDT
DTSTART:20220313T080000
END:DAYLIGHT
BEGIN:STANDARD
TZOFFSETFROM:-0500
TZOFFSETTO:-0600
TZNAME:CST
DTSTART:20221106T070000
END:STANDARD
BEGIN:DAYLIGHT
TZOFFSETFROM:-0600
TZOFFSETTO:-0500
TZNAME:CDT
DTSTART:20230312T080000
END:DAYLIGHT
BEGIN:STANDARD
TZOFFSETFROM:-0500
TZOFFSETTO:-0600
TZNAME:CST
DTSTART:20231105T070000
END:STANDARD
END:VTIMEZONE
BEGIN:VEVENT
DTSTART;VALUE=DATE:20221227
DTEND;VALUE=DATE:20230101
DTSTAMP:20260425T191425
CREATED:20220601T211408Z
LAST-MODIFIED:20220601T211408Z
UID:9294-1672099200-1672531199@curlmanitoba.org
SUMMARY:Asham U18 Men's & Women's Open Championship
DESCRIPTION:
URL:https://curlmanitoba.org/event/asham-u18-mens-womens-open-championship/
LOCATION:Manitoba
END:VEVENT
BEGIN:VEVENT
DTSTART;TZID=America/Winnipeg:20221226T080000
DTEND;TZID=America/Winnipeg:20221226T210000
DTSTAMP:20260425T191425
CREATED:20221116T191446Z
LAST-MODIFIED:20221116T191451Z
UID:9567-1672041600-1672088400@curlmanitoba.org
SUMMARY:Neepawa Boxing Day Bonspiel
DESCRIPTION:
URL:https://curlmanitoba.org/event/neepawa-boxing-day-bonspiel/
LOCATION:Neepawa Curling Club
END:VEVENT
BEGIN:VEVENT
DTSTART;TZID=America/Winnipeg:20221226T080000
DTEND;TZID=America/Winnipeg:20221226T170000
DTSTAMP:20260425T191425
CREATED:20221201T214945Z
LAST-MODIFIED:20221201T214950Z
UID:9621-1672041600-1672074000@curlmanitoba.org
SUMMARY:Arden Lansdowne Boxing Day Bonspiel
DESCRIPTION:
URL:https://curlmanitoba.org/event/arden-lansdowne-boxing-day-bonspiel/
LOCATION:Arden Curling Club
END:VEVENT
BEGIN:VEVENT
DTSTART;TZID=America/Winnipeg:20221216T170000
DTEND;TZID=America/Winnipeg:20221218T170000
DTSTAMP:20260425T191425
CREATED:20221107T202321Z
LAST-MODIFIED:20221107T202321Z
UID:9533-1671210000-1671382800@curlmanitoba.org
SUMMARY:U18 Winter Bonspiel
DESCRIPTION:17 years of age maximum on June 30 (born July 1\, 2004 or later) \nMen’s and Women’s divisions \nGreat time for your team to practice prior to U18 Provincials \nFor entry form please visit https://mjct.ca/  \nOr contact Karen Letham at mjctTreasurer@gmail.com
URL:https://curlmanitoba.org/event/u18-winter-bonspiel/
LOCATION:Heather Curling Club\, Canada
END:VEVENT
BEGIN:VEVENT
DTSTART;TZID=America/Winnipeg:20221216T170000
DTEND;TZID=America/Winnipeg:20221218T170000
DTSTAMP:20260425T191425
CREATED:20221106T215421Z
LAST-MODIFIED:20221106T215427Z
UID:9529-1671210000-1671382800@curlmanitoba.org
SUMMARY:MJCT U18 Winter Spiel
DESCRIPTION:
URL:https://curlmanitoba.org/event/mjct-u18-winter-spiel/
LOCATION:Heather Curling Club\, Canada
ORGANIZER;CN="Karen Letham":MAILTO:mjcttreasurer@gmail.com
END:VEVENT
BEGIN:VEVENT
DTSTART;VALUE=DATE:20221215
DTEND;VALUE=DATE:20221219
DTSTAMP:20260425T191425
CREATED:20220601T211440Z
LAST-MODIFIED:20220601T211440Z
UID:9292-1671062400-1671407999@curlmanitoba.org
SUMMARY:Viterra Regional Qualifiers
DESCRIPTION:
URL:https://curlmanitoba.org/event/viterra-regional-qualifiers-2/
LOCATION:Various Manitoba Clubs
END:VEVENT
BEGIN:VEVENT
DTSTART;VALUE=DATE:20221215
DTEND;VALUE=DATE:20221219
DTSTAMP:20260425T191425
CREATED:20220601T211421Z
LAST-MODIFIED:20220601T211421Z
UID:9293-1671062400-1671407999@curlmanitoba.org
SUMMARY:Scotties Regional Qualifiers
DESCRIPTION:
URL:https://curlmanitoba.org/event/scotties-regional-qualifiers-2/
LOCATION:Various Manitoba Clubs
END:VEVENT
BEGIN:VEVENT
DTSTART;VALUE=DATE:20221212
DTEND;VALUE=DATE:20221216
DTSTAMP:20260425T191425
CREATED:20220601T211522Z
LAST-MODIFIED:20220601T211522Z
UID:9291-1670803200-1671148799@curlmanitoba.org
SUMMARY:Manitoba Credit Unions Master Men's Regional Qualifiers
DESCRIPTION:
URL:https://curlmanitoba.org/event/manitoba-credit-unions-master-mens-regional-qualifiers-2/
LOCATION:Various Manitoba Clubs
END:VEVENT
BEGIN:VEVENT
DTSTART;TZID=America/Winnipeg:20221210T080000
DTEND;TZID=America/Winnipeg:20221210T210000
DTSTAMP:20260425T191425
CREATED:20221019T165756Z
LAST-MODIFIED:20221019T165802Z
UID:9496-1670659200-1670706000@curlmanitoba.org
SUMMARY:La Salle Beer Bash Bonspiel
DESCRIPTION:
URL:https://curlmanitoba.org/event/la-salle-beer-bash-bonspiel/
LOCATION:La Salle Curling Club
ORGANIZER;CN="La Salle Curling Club":MAILTO:lasallecurlingclubmb@gmail.com
END:VEVENT
BEGIN:VEVENT
DTSTART;VALUE=DATE:20221208
DTEND;VALUE=DATE:20221212
DTSTAMP:20260425T191425
CREATED:20220601T211538Z
LAST-MODIFIED:20220601T211538Z
UID:9290-1670457600-1670803199@curlmanitoba.org
SUMMARY:Strathcona Trust Senior Men's Regional Qualifiers
DESCRIPTION:
URL:https://curlmanitoba.org/event/strathcona-trust-senior-mens-regional-qualifiers-2/
LOCATION:Various Manitoba Clubs
END:VEVENT
BEGIN:VEVENT
DTSTART;TZID=America/Winnipeg:20221207T080000
DTEND;TZID=America/Winnipeg:20221209T170000
DTSTAMP:20260425T191425
CREATED:20221108T204741Z
LAST-MODIFIED:20221108T204747Z
UID:9539-1670400000-1670605200@curlmanitoba.org
SUMMARY:Stonewall Senior Bonspiel
DESCRIPTION:
URL:https://curlmanitoba.org/event/stonewall-senior-bonspiel/
LOCATION:Access Curling Club – Stonewall\, 500 Main Street\, Stonewall\, Manitoba\, R0C 2Z0\, Canada
ORGANIZER;CN="Elsie Murray":MAILTO:egmurray@shaw.ca
END:VEVENT
BEGIN:VEVENT
DTSTART;TZID=America/Winnipeg:20221203T180000
DTEND;TZID=America/Winnipeg:20221204T180000
DTSTAMP:20260425T191425
CREATED:20220919T155809Z
LAST-MODIFIED:20221005T152453Z
UID:9422-1670090400-1670176800@curlmanitoba.org
SUMMARY:Arborg Mixed Doubles
DESCRIPTION:Entry Fee is $250\nU25 Entry fee is $200 \nPurse is $3000 \nContact for entry; \nSteven Michaleski\n204-803-1288\nmbmdtour@protonmail.com
URL:https://curlmanitoba.org/event/arborg-mixed-doubles/
LOCATION:Arborg Curling Club
ORGANIZER;CN="Stevem Michaleske":MAILTO:mbmdtour@protonmail.com
END:VEVENT
BEGIN:VEVENT
DTSTART;TZID=America/Winnipeg:20221202T170000
DTEND;TZID=America/Winnipeg:20221204T170000
DTSTAMP:20260425T191425
CREATED:20221114T195622Z
LAST-MODIFIED:20221114T195628Z
UID:9555-1670000400-1670173200@curlmanitoba.org
SUMMARY:Killarney Open Bonspiel (celebrating 125 years)
DESCRIPTION:
URL:https://curlmanitoba.org/event/killarney-open-bonspiel-celebrating-125-years/
LOCATION:Killarney Curling Club
END:VEVENT
BEGIN:VEVENT
DTSTART;TZID=America/Winnipeg:20221202T170000
DTEND;TZID=America/Winnipeg:20221204T170000
DTSTAMP:20260425T191425
CREATED:20221025T185107Z
LAST-MODIFIED:20221025T185112Z
UID:9504-1670000400-1670173200@curlmanitoba.org
SUMMARY:Morden Men's Bonspiel
DESCRIPTION:
URL:https://curlmanitoba.org/event/morden-mens-bonspiel/
LOCATION:Morden Curling Club\, 327 2 Street\, Morden\, Manitoba\, R6M 1P3\, Canada
END:VEVENT
BEGIN:VEVENT
DTSTART;TZID=America/Winnipeg:20221126T080000
DTEND;TZID=America/Winnipeg:20221126T210000
DTSTAMP:20260425T191425
CREATED:20221101T170508Z
LAST-MODIFIED:20221101T170514Z
UID:9517-1669449600-1669496400@curlmanitoba.org
SUMMARY:Winkler Ladies Bonspiel
DESCRIPTION:
URL:https://curlmanitoba.org/event/winkler-ladies-bonspiel/
LOCATION:Winkler Curling Club
ORGANIZER;CN="Winkler Curling Club":MAILTO:winkler.curlingclub@gmail.com
END:VEVENT
BEGIN:VEVENT
DTSTART;VALUE=DATE:20221124
DTEND;VALUE=DATE:20221128
DTSTAMP:20260425T191425
CREATED:20220601T211553Z
LAST-MODIFIED:20220601T211553Z
UID:9284-1669248000-1669593599@curlmanitoba.org
SUMMARY:Canada Games Trials- Mixed Doubles
DESCRIPTION:
URL:https://curlmanitoba.org/event/canada-games-trials-mixed-doubles/
LOCATION:Heather Curling Club\, Canada
END:VEVENT
BEGIN:VEVENT
DTSTART;TZID=America/Winnipeg:20221119T170000
DTEND;TZID=America/Winnipeg:20221120T170000
DTSTAMP:20260425T191425
CREATED:20220919T160004Z
LAST-MODIFIED:20221005T152632Z
UID:9423-1668877200-1668963600@curlmanitoba.org
SUMMARY:Dauphin Mixed Doubles Classic presented by NexusBioAg
DESCRIPTION:Entry Fee is $250 \nPurse is $3500 \nContact for entry; \nSteven Michaleski\n204-803-1288\nmbmdtour@protonmail.com
URL:https://curlmanitoba.org/event/nexusbioag-mixed-doubles/
LOCATION:Dauphin Curling Club
ORGANIZER;CN="Stevem Michaleske":MAILTO:mbmdtour@protonmail.com
END:VEVENT
BEGIN:VEVENT
DTSTART;TZID=America/Winnipeg:20221119T080000
DTEND;TZID=America/Winnipeg:20221119T210000
DTSTAMP:20260425T191425
CREATED:20221108T204540Z
LAST-MODIFIED:20221108T204545Z
UID:9537-1668844800-1668891600@curlmanitoba.org
SUMMARY:Stonewall Stick Bonspiel
DESCRIPTION:
URL:https://curlmanitoba.org/event/stonewall-stick-bonspiel/
LOCATION:Access Curling Club – Stonewall\, 500 Main Street\, Stonewall\, Manitoba\, R0C 2Z0\, Canada
ORGANIZER;CN="Don Lewicki":MAILTO:drlewicki@hotmail.com
END:VEVENT
BEGIN:VEVENT
DTSTART;TZID=America/Winnipeg:20221119T080000
DTEND;TZID=America/Winnipeg:20221119T210000
DTSTAMP:20260425T191425
CREATED:20221019T165651Z
LAST-MODIFIED:20221019T165655Z
UID:9495-1668844800-1668891600@curlmanitoba.org
SUMMARY:La Salle Wine Crusher Bonspiel
DESCRIPTION:
URL:https://curlmanitoba.org/event/la-salle-wine-crusher-bonspiel/
LOCATION:La Salle Curling Club
ORGANIZER;CN="La Salle Curling Club":MAILTO:lasallecurlingclubmb@gmail.com
END:VEVENT
BEGIN:VEVENT
DTSTART;VALUE=DATE:20221114
DTEND;VALUE=DATE:20221118
DTSTAMP:20260425T191425
CREATED:20220601T211613Z
LAST-MODIFIED:20220601T211613Z
UID:9288-1668384000-1668729599@curlmanitoba.org
SUMMARY:Manitoba Credit Unions Master Men's Berth Bonspiel
DESCRIPTION:
URL:https://curlmanitoba.org/event/manitoba-credit-unions-master-mens-berth-bonspiel-2/
LOCATION:Manitoba
END:VEVENT
BEGIN:VEVENT
DTSTART;VALUE=DATE:20221110
DTEND;VALUE=DATE:20221114
DTSTAMP:20260425T191425
CREATED:20220601T211501Z
LAST-MODIFIED:20220601T211501Z
UID:9287-1668038400-1668383999@curlmanitoba.org
SUMMARY:Strathcona Trust Senior Men's Berth Bonspiel
DESCRIPTION:
URL:https://curlmanitoba.org/event/strathcona-trust-senior-mens-berth-bonspiel/
LOCATION:Morden Curling Club\, 327 2 Street\, Morden\, Manitoba\, R6M 1P3\, Canada
END:VEVENT
BEGIN:VEVENT
DTSTART;TZID=America/Winnipeg:20221104T170000
DTEND;TZID=America/Winnipeg:20221106T170000
DTSTAMP:20260425T191425
CREATED:20220909T203732Z
LAST-MODIFIED:20220909T203732Z
UID:9402-1667581200-1667754000@curlmanitoba.org
SUMMARY:Springfield Curling Club Ladies Bonspiel
DESCRIPTION:
URL:https://curlmanitoba.org/event/springfield-curling-club-ladies-bonspiel/
LOCATION:Springfield Curling Club – Dugald
ORGANIZER;CN="Carla Osborne":MAILTO:carchris@mymts.net
END:VEVENT
BEGIN:VEVENT
DTSTART;VALUE=DATE:20221103
DTEND;VALUE=DATE:20221107
DTSTAMP:20260425T191425
CREATED:20220601T211629Z
LAST-MODIFIED:20220601T211629Z
UID:9286-1667433600-1667779199@curlmanitoba.org
SUMMARY:Scotties Berth Bonspiel
DESCRIPTION:
URL:https://curlmanitoba.org/event/scotties-berth-bonspiel-2/
LOCATION:Minnedosa Curling Club\, 61 6th street SW\, Minnedosa\, Manitoba\, R0J 1E0\, Canada
END:VEVENT
BEGIN:VEVENT
DTSTART;VALUE=DATE:20221103
DTEND;VALUE=DATE:20221107
DTSTAMP:20260425T191425
CREATED:20220601T205835Z
LAST-MODIFIED:20220601T211716Z
UID:9285-1667433600-1667779199@curlmanitoba.org
SUMMARY:Viterra Berth Bonspiel
DESCRIPTION:
URL:https://curlmanitoba.org/event/viterra-berth-bonspiel-2/
LOCATION:Minnedosa Curling Club\, 61 6th street SW\, Minnedosa\, Manitoba\, R0J 1E0\, Canada
END:VEVENT
BEGIN:VEVENT
DTSTART;VALUE=DATE:20221027
DTEND;VALUE=DATE:20221031
DTSTAMP:20260425T191425
CREATED:20220601T211749Z
LAST-MODIFIED:20220601T211749Z
UID:9281-1666828800-1667174399@curlmanitoba.org
SUMMARY:2022 Curling Club Championship
DESCRIPTION:
URL:https://curlmanitoba.org/event/2022-curling-club-championship/
LOCATION:Charleswood Curling Club\, 4000 Grant Ave\, Winnipeg\, Manitoba\, R3R0L1\, Canada
END:VEVENT
BEGIN:VEVENT
DTSTART;VALUE=DATE:20221027
DTEND;VALUE=DATE:20221030
DTSTAMP:20260425T191425
CREATED:20220601T211733Z
LAST-MODIFIED:20220609T163806Z
UID:9289-1666828800-1667087999@curlmanitoba.org
SUMMARY:Canada Games Trials-4 person
DESCRIPTION:
URL:https://curlmanitoba.org/event/canada-games-trials-4-person/
LOCATION:Manitoba
END:VEVENT
BEGIN:VEVENT
DTSTART;TZID=America/Winnipeg:20221024T190000
DTEND;TZID=America/Winnipeg:20221128T203000
DTSTAMP:20260425T191425
CREATED:20220914T164116Z
LAST-MODIFIED:20220914T164226Z
UID:9411-1666638000-1669667400@curlmanitoba.org
SUMMARY:Beausejour Learn to Curl Evenings (every Monday from October 24 - Nov 28)
DESCRIPTION:
URL:https://curlmanitoba.org/event/beausejour-learn-to-curl-evenings-every-monday-from-october-24-nov-28/
LOCATION:Beausejour Curling Club\, 360 Veteran's Lane\, Beausejour\, Manitoba\, R0E 0C0\, Canada
ORGANIZER;CN="Beausejour Curling Club":MAILTO:beausejourcurlingclub@gmail.com
END:VEVENT
BEGIN:VEVENT
DTSTART;TZID=America/Winnipeg:20221021T190000
DTEND;TZID=America/Winnipeg:20221023T190000
DTSTAMP:20260425T191425
CREATED:20220822T181050Z
LAST-MODIFIED:20220823T193803Z
UID:9378-1666378800-1666551600@curlmanitoba.org
SUMMARY:MJCT U15 Open Bonspiel
DESCRIPTION:12 teams maximum\nOct 21-23. Guarantee 3 games.\nEntry is $150 and deadline for registration is Oct. 14 at 4:30pm. \nContact: mjctbonspielcoordinator@gmail.com or visit www.mjct.ca for more information.
URL:https://curlmanitoba.org/event/mjct-u15-open-bonspiel/
LOCATION:Heather Curling Club\, 120 Youville Street\, Winnipeg\, Manitoba\, R2H 2S1\, Canada
END:VEVENT
BEGIN:VEVENT
DTSTART;TZID=America/Winnipeg:20221021T170000
DTEND;TZID=America/Winnipeg:20221023T170000
DTSTAMP:20260425T191425
CREATED:20221019T165529Z
LAST-MODIFIED:20221019T165534Z
UID:9493-1666371600-1666544400@curlmanitoba.org
SUMMARY:La Salle "Sweep off the Dust" Bonspiel
DESCRIPTION:
URL:https://curlmanitoba.org/event/la-salle-sweep-off-the-dust-bonspiel/
LOCATION:La Salle Curling Club
ORGANIZER;CN="La Salle Curling Club":MAILTO:lasallecurlingclubmb@gmail.com
END:VEVENT
BEGIN:VEVENT
DTSTART;TZID=America/Winnipeg:20221020T170000
DTEND;TZID=America/Winnipeg:20221023T200000
DTSTAMP:20260425T191425
CREATED:20220520T142454Z
LAST-MODIFIED:20220520T142454Z
UID:9271-1666285200-1666555200@curlmanitoba.org
SUMMARY:Granite Senior Men's Bonspiel with a Berth
DESCRIPTION:October 20 – 23\, 2022 \nEntry Fee:  $220.00 (Entry Fee payable to the Granite Curling Club) \n16 team limit \nENTRY DEADLINE: Wednesday\, October 12 at 4 pm. \nDouble knockout \nPlease email the completed registration form and send an e-transfer to curl@granitecurlingclub.ca or mail a cheque with the completed registration form to the Granite Curling Club\, One Granite Way\, Winnipeg\, MB   R3C 0Y9 \nRegistration form is on the GCC website under bonspiels: granitecurlingclub.ca \nContact Club Manager\, Jamie Hay at 204-775-8239 or curl@granitecurlingclub.ca to pay by Visa or MC.
URL:https://curlmanitoba.org/event/granite-senior-mens-bonspiel-with-a-berth-2/
LOCATION:Granite Curling Club\, 1 Granite Way\, Winnipeg\, Manitoba\, Canada
ORGANIZER;CN="Jamie Hay":MAILTO:curl@granitecurlingclub.ca
END:VEVENT
END:VCALENDAR