BEGIN:VCALENDAR
VERSION:2.0
PRODID:-//CurlManitoba - ECPv6.15.17.1//NONSGML v1.0//EN
CALSCALE:GREGORIAN
METHOD:PUBLISH
X-ORIGINAL-URL:https://curlmanitoba.org
X-WR-CALDESC:Events for CurlManitoba
REFRESH-INTERVAL;VALUE=DURATION:PT1H
X-Robots-Tag:noindex
X-PUBLISHED-TTL:PT1H
BEGIN:VTIMEZONE
TZID:America/Winnipeg
BEGIN:DAYLIGHT
TZOFFSETFROM:-0600
TZOFFSETTO:-0500
TZNAME:CDT
DTSTART:20240310T080000
END:DAYLIGHT
BEGIN:STANDARD
TZOFFSETFROM:-0500
TZOFFSETTO:-0600
TZNAME:CST
DTSTART:20241103T070000
END:STANDARD
BEGIN:DAYLIGHT
TZOFFSETFROM:-0600
TZOFFSETTO:-0500
TZNAME:CDT
DTSTART:20250309T080000
END:DAYLIGHT
BEGIN:STANDARD
TZOFFSETFROM:-0500
TZOFFSETTO:-0600
TZNAME:CST
DTSTART:20251102T070000
END:STANDARD
BEGIN:DAYLIGHT
TZOFFSETFROM:-0600
TZOFFSETTO:-0500
TZNAME:CDT
DTSTART:20260308T080000
END:DAYLIGHT
BEGIN:STANDARD
TZOFFSETFROM:-0500
TZOFFSETTO:-0600
TZNAME:CST
DTSTART:20261101T070000
END:STANDARD
END:VTIMEZONE
BEGIN:VEVENT
DTSTART;TZID=America/Winnipeg:20250404T170000
DTEND;TZID=America/Winnipeg:20250406T170000
DTSTAMP:20260425T091555
CREATED:20250210T195644Z
LAST-MODIFIED:20250210T201057Z
UID:12732-1743786000-1743958800@curlmanitoba.org
SUMMARY:Killarney's "Don Chatham" Memorial Bonspiel
DESCRIPTION:
URL:https://curlmanitoba.org/event/killarneys-don-chatham-memorial-bonspiel/
LOCATION:Killarney Curling Club
END:VEVENT
BEGIN:VEVENT
DTSTART;TZID=America/Winnipeg:20250404T170000
DTEND;TZID=America/Winnipeg:20250406T170000
DTSTAMP:20260425T091555
CREATED:20250312T165125Z
LAST-MODIFIED:20250312T165130Z
UID:12875-1743786000-1743958800@curlmanitoba.org
SUMMARY:Don Chatham Memorial Bonspiel - Killarney Curling Club
DESCRIPTION:
URL:https://curlmanitoba.org/event/don-chatham-memorial-bonspiel-killarney-curling-club/
LOCATION:Killarney Curling Club
END:VEVENT
BEGIN:VEVENT
DTSTART;VALUE=DATE:20250923
DTEND;VALUE=DATE:20250927
DTSTAMP:20260425T091555
CREATED:20250609T023752Z
LAST-MODIFIED:20250826T151818Z
UID:13043-1758585600-1758931199@curlmanitoba.org
SUMMARY:Picken Open Masters Bonspiel with a Berth
DESCRIPTION:Entry Fee – $260\nEast St. Paul Curling Club\, 260 Hoddinott Road\, East St. Paul\, Manitoba\n\nWelcoming all curlers 60 years of age or better (men\, women\, mixed teams\, stick curlers). Featuring a Masters Men provincial berth for the highest finishing eligible team AND a Masters Women competition (with a minimum of four entries). \nENTRY DEADLINE is Friday\, September 12\, 2025 at 4:00pm. \nEnter by email to pickenmasters@gmail.com. Entry fee can be sent by e-transfer to the same address. Please include player names and team contact telephone number.
URL:https://curlmanitoba.org/event/picken-open-masters-bonspiel-with-a-berth/
LOCATION:East St. Paul Curling Club\, 260 Hoddinott Rd\, East Saint Paul\, Manitoba\, R2E 0H7\, Canada
END:VEVENT
BEGIN:VEVENT
DTSTART;TZID=America/Winnipeg:20251017T170000
DTEND;TZID=America/Winnipeg:20251019T170000
DTSTAMP:20260425T091555
CREATED:20250905T151751Z
LAST-MODIFIED:20250905T151756Z
UID:13170-1760720400-1760893200@curlmanitoba.org
SUMMARY:Manitoba Stick Curling Tour - East St. Paul Open
DESCRIPTION:
URL:https://curlmanitoba.org/event/manitoba-stick-curling-tour-east-st-paul-open/
LOCATION:East St. Paul Curling Club\, 260 Hoddinott Rd\, East Saint Paul\, Manitoba\, R2E 0H7\, Canada
ORGANIZER;CN="Marilyn Little":MAILTO:marilynlittle53@gmail.com
END:VEVENT
BEGIN:VEVENT
DTSTART;VALUE=DATE:20251021
DTEND;VALUE=DATE:20251027
DTSTAMP:20260425T091555
CREATED:20250611T144645Z
LAST-MODIFIED:20250611T144645Z
UID:13044-1761004800-1761523199@curlmanitoba.org
SUMMARY:Granite Senior Men’s Bonspiel with a Berth
DESCRIPTION:
URL:https://curlmanitoba.org/event/granite-senior-mens-bonspiel-with-a-berth-3/
LOCATION:Granite Curling Club\, 1 Granite Way\, Winnipeg\, Manitoba\, Canada
END:VEVENT
BEGIN:VEVENT
DTSTART;TZID=America/Winnipeg:20251024T170000
DTEND;TZID=America/Winnipeg:20251026T170000
DTSTAMP:20260425T091555
CREATED:20250905T152124Z
LAST-MODIFIED:20250905T152129Z
UID:13172-1761325200-1761498000@curlmanitoba.org
SUMMARY:Manitoba Stick Curling Tour - Gimli Open
DESCRIPTION:
URL:https://curlmanitoba.org/event/manitoba-stick-curling-tour-gimli-open/
LOCATION:Gimli Curling Club\, 45 Centennial Road\, Gimli\, Manitoba\, R0C1B0\, Canada
END:VEVENT
BEGIN:VEVENT
DTSTART;TZID=America/Winnipeg:20251101T170000
DTEND;TZID=America/Winnipeg:20251102T170000
DTSTAMP:20260425T091555
CREATED:20250905T152441Z
LAST-MODIFIED:20250905T152446Z
UID:13174-1762016400-1762102800@curlmanitoba.org
SUMMARY:Manitoba Stick Curling Tour - Red River Stick Bonspiel - Curl Morris
DESCRIPTION:
URL:https://curlmanitoba.org/event/manitoba-stick-curling-tour-red-river-stick-bonspiel-curl-morris/
LOCATION:Morris Curling Club\, 215 Montreal Ave\, Morris\, Manitoba\, R0G1K0\, Canada
ORGANIZER;CN="Morris Curling Club":MAILTO:manager@morriscurlingclub.com
END:VEVENT
BEGIN:VEVENT
DTSTART;VALUE=DATE:20251106
DTEND;VALUE=DATE:20251110
DTSTAMP:20260425T091555
CREATED:20250604T164332Z
LAST-MODIFIED:20250604T164332Z
UID:13046-1762387200-1762732799@curlmanitoba.org
SUMMARY:RME Berth Bonspiel
DESCRIPTION:Up to 2 berths (dependent on number of entries) will be awarded for the 2026 RME Women of the Rings Championship presented by Case IH being held in Rivers\, MB. \nCost $230\nDeadline to enter is October 23\, 2025 \nSee our Electronic entry page or click here to enter. \nCompetitive Team Fees must be paid prior to playing in your first CurlManitoba qualifying event.  When entering your team\, please use the Add-On box to pay your fees.
URL:https://curlmanitoba.org/event/rme-berth-bonspiel-2/
LOCATION:Gimli Curling Club\, 45 Centennial Road\, Gimli\, Manitoba\, R0C1B0\, Canada
END:VEVENT
BEGIN:VEVENT
DTSTART;VALUE=DATE:20251106
DTEND;VALUE=DATE:20251110
DTSTAMP:20260425T091555
CREATED:20250604T163634Z
LAST-MODIFIED:20250911T210820Z
UID:13045-1762387200-1762732799@curlmanitoba.org
SUMMARY:Bunge Berth Bonspiel
DESCRIPTION:Up to 2 berths (dependent on number of entries) will be awarded for the 2026 Bunge Championship being held in Selkirk\, MB. \nCost $230\nDeadline to enter is October 23\, 2025 \nSee our Electronic entry page or click here to enter. \nCompetitive Team Fees must be paid prior to playing in your first CurlManitoba qualifying event.  When entering your team\, please use the Add-On box to pay your fees.
URL:https://curlmanitoba.org/event/viterra-berth-bonspiel-4/
LOCATION:Gimli Curling Club\, 45 Centennial Road\, Gimli\, Manitoba\, R0C1B0\, Canada
END:VEVENT
BEGIN:VEVENT
DTSTART;TZID=America/Winnipeg:20251107T170000
DTEND;TZID=America/Winnipeg:20251108T170000
DTSTAMP:20260425T091555
CREATED:20251015T174828Z
LAST-MODIFIED:20251015T174834Z
UID:13314-1762534800-1762621200@curlmanitoba.org
SUMMARY:Eriksdale Stick Bonspiel
DESCRIPTION:
URL:https://curlmanitoba.org/event/eriksdale-stick-bonspiel/
LOCATION:Eriksdale Curling Club
END:VEVENT
BEGIN:VEVENT
DTSTART;TZID=America/Winnipeg:20251107T170000
DTEND;TZID=America/Winnipeg:20251109T170000
DTSTAMP:20260425T091555
CREATED:20250905T160826Z
LAST-MODIFIED:20250905T160853Z
UID:13201-1762534800-1762707600@curlmanitoba.org
SUMMARY:Manitoba Stick Curling Tour - Arborg Bifrost Open
DESCRIPTION:
URL:https://curlmanitoba.org/event/manitoba-stick-curling-tour-arborg-bifrost-open/
LOCATION:Arborg Curling Club
ORGANIZER;CN="Tom Chwaliboga":MAILTO:recdirector@toenofarborg.com
END:VEVENT
BEGIN:VEVENT
DTSTART;TZID=America/Winnipeg:20251107T170000
DTEND;TZID=America/Winnipeg:20251109T170000
DTSTAMP:20260425T091555
CREATED:20250918T150631Z
LAST-MODIFIED:20250918T150638Z
UID:13254-1762534800-1762707600@curlmanitoba.org
SUMMARY:Springfield Ladies Open Bonspiel
DESCRIPTION:
URL:https://curlmanitoba.org/event/springfield-ladies-open-bonspiel/
LOCATION:Springfield Curling Club – Dugald
ORGANIZER;CN="Carla Osborne":MAILTO:carosborne1@gmail.com
END:VEVENT
BEGIN:VEVENT
DTSTART;TZID=America/Winnipeg:20251107T170000
DTEND;TZID=America/Winnipeg:20251109T170000
DTSTAMP:20260425T091555
CREATED:20250922T190523Z
LAST-MODIFIED:20250922T190538Z
UID:13264-1762534800-1762707600@curlmanitoba.org
SUMMARY:Springfield Ladies Bonspiel "Curling's Got Talent"
DESCRIPTION:
URL:https://curlmanitoba.org/event/springfield-ladies-bonspiel-curlings-got-talent/
LOCATION:Springfield Curling Club – Dugald
ORGANIZER;CN="Carla Osborne":MAILTO:carosborne1@gmail.com
END:VEVENT
BEGIN:VEVENT
DTSTART;TZID=America/Winnipeg:20251108T080000
DTEND;TZID=America/Winnipeg:20251108T210000
DTSTAMP:20260425T091555
CREATED:20251020T143424Z
LAST-MODIFIED:20251020T143428Z
UID:13339-1762588800-1762635600@curlmanitoba.org
SUMMARY:Riverview Family Funspiel
DESCRIPTION:
URL:https://curlmanitoba.org/event/riverview-family-funspiel/
LOCATION:Riverview Curling Club\, 420 Maryland Avenue\, Brandon\, Manitoba\, R7A 6Z8\, Canada
ORGANIZER;CN="Chantal":MAILTO:gm@riverviewcurling.ca
END:VEVENT
BEGIN:VEVENT
DTSTART;TZID=America/Winnipeg:20251108T090000
DTEND;TZID=America/Winnipeg:20251109T170000
DTSTAMP:20260425T091555
CREATED:20251017T153223Z
LAST-MODIFIED:20251017T153226Z
UID:13322-1762592400-1762707600@curlmanitoba.org
SUMMARY:Lorette Open Doubles Bonspiel
DESCRIPTION:
URL:https://curlmanitoba.org/event/lorette-open-doubles-bonspiel/
LOCATION:Lorette Curling Club
ORGANIZER;CN="Tara":MAILTO:president@lorettecurling.ca
END:VEVENT
BEGIN:VEVENT
DTSTART;TZID=America/Winnipeg:20251114T170000
DTEND;TZID=America/Winnipeg:20251116T170000
DTSTAMP:20260425T091555
CREATED:20250905T152657Z
LAST-MODIFIED:20250905T152701Z
UID:13176-1763139600-1763312400@curlmanitoba.org
SUMMARY:Manitoba Stick Curling Tour - Victoria Beach Open
DESCRIPTION:
URL:https://curlmanitoba.org/event/manitoba-stick-curling-tour-victoria-beach-open/
LOCATION:Victoria Beach Curling Club
ORGANIZER;CN="Sherry Gruhle":MAILTO:sggruhle@gmail.com
END:VEVENT
BEGIN:VEVENT
DTSTART;TZID=America/Winnipeg:20251114T170000
DTEND;TZID=America/Winnipeg:20251116T170000
DTSTAMP:20260425T091555
CREATED:20250905T154845Z
LAST-MODIFIED:20250905T155018Z
UID:13191-1763139600-1763312400@curlmanitoba.org
SUMMARY:Manitoba Stick Curling Tour Western Division - Killarney Open
DESCRIPTION:
URL:https://curlmanitoba.org/event/manitoba-stick-curling-tour-western-division-killarney-open/
LOCATION:Killarney Curling Club
ORGANIZER;CN="Rae Cambell":MAILTO:liveforthelake@live.ca
END:VEVENT
BEGIN:VEVENT
DTSTART;TZID=America/Winnipeg:20251115T080000
DTEND;TZID=America/Winnipeg:20251115T220000
DTSTAMP:20260425T091555
CREATED:20251017T175526Z
LAST-MODIFIED:20251017T175545Z
UID:13327-1763193600-1763244000@curlmanitoba.org
SUMMARY:Beausejour "Mickey" Bonspiel
DESCRIPTION:
URL:https://curlmanitoba.org/event/beausejour-mickey-bonspiel/
LOCATION:Beausejour Curling Club\, 360 Veteran's Lane\, Beausejour\, Manitoba\, R0E 0C0\, Canada
ORGANIZER;CN="Paul or Cheryl Millan":MAILTO:cpmillan@mymts.net
END:VEVENT
BEGIN:VEVENT
DTSTART;VALUE=DATE:20251120
DTEND;VALUE=DATE:20251124
DTSTAMP:20260425T091555
CREATED:20250604T165855Z
LAST-MODIFIED:20251112T181659Z
UID:13047-1763596800-1763942399@curlmanitoba.org
SUMMARY:Men’s Curling Club Regional Qualifiers
DESCRIPTION:Cost $180\nEntry deadline is November 6\, 2025 \nTo enter go to our Electronic Entry page or click the following link for your region: \nWinnipeg (St. Vital)\nEast (Selkirk)\nSouth 1 (Portage)\nSouth 2 (Portage)\nWest 1 (Neepawa)\nWest 2 (Brandon)\nNorth (Burntwood) \nCompetitive Team Fees MUST be paid prior to playing in this event.  When entering your team\, please click on the Add-On box in Curling I/O.
URL:https://curlmanitoba.org/event/seagrams-whisky-mens-curling-club-regional-qualifiers-3/
LOCATION:Manitoba
END:VEVENT
BEGIN:VEVENT
DTSTART;VALUE=DATE:20251120
DTEND;VALUE=DATE:20251124
DTSTAMP:20260425T091555
CREATED:20250604T170923Z
LAST-MODIFIED:20251112T181623Z
UID:13048-1763596800-1763942399@curlmanitoba.org
SUMMARY:Women’s Curling Club Regional Qualifiers
DESCRIPTION:Cost $180\nEntry deadline is November 6\, 2025 \nTo enter go to our Electronic Entry page or click the following link for your region: \nWinnipeg (St. Vital)\nEast (Selkirk)\nSouth 1 (Portage)\nSouth 2 (Portage)\nWest 1 (Neepawa)\nWest 2 (Brandon)\nNorth (Burntwood) \nCompetitive Team Fees MUST be paid prior to playing in this event.  When entering your team\, please click on the Add-On box in Curling I/O.
URL:https://curlmanitoba.org/event/seagrams-whisky-womens-curling-club-regional-qualifiers-3/
LOCATION:Manitoba
END:VEVENT
BEGIN:VEVENT
DTSTART;TZID=America/Winnipeg:20251121T170000
DTEND;TZID=America/Winnipeg:20251122T170000
DTSTAMP:20260425T091555
CREATED:20250905T155249Z
LAST-MODIFIED:20250905T155254Z
UID:13193-1763744400-1763830800@curlmanitoba.org
SUMMARY:Manitoba Stick Curling Tour - Western Division - Swan River Open
DESCRIPTION:
URL:https://curlmanitoba.org/event/manitoba-stick-curling-tour-western-division-swan-river-open/
LOCATION:Swan River Curling Club\, 1010 1 St N\, Swan River\, Manitoba\, Canada
ORGANIZER;CN="Brian Cotton":MAILTO:cottonbridgefarm@gmail.com
END:VEVENT
BEGIN:VEVENT
DTSTART;TZID=America/Winnipeg:20251121T170000
DTEND;TZID=America/Winnipeg:20251122T210000
DTSTAMP:20260425T091555
CREATED:20251029T201621Z
LAST-MODIFIED:20251029T201624Z
UID:13375-1763744400-1763845200@curlmanitoba.org
SUMMARY:Springfield Curling Club Mixed Bonspiel - That 70's Spiel
DESCRIPTION:
URL:https://curlmanitoba.org/event/springfield-curling-club-mixed-bonspiel-that-70s-spiel/
LOCATION:Springfield Curling Club – Dugald
ORGANIZER;CN="Erin":MAILTO:ketoews@mymts.net
END:VEVENT
BEGIN:VEVENT
DTSTART;TZID=America/Winnipeg:20251121T170000
DTEND;TZID=America/Winnipeg:20251123T170000
DTSTAMP:20260425T091555
CREATED:20251020T143708Z
LAST-MODIFIED:20251020T143713Z
UID:13341-1763744400-1763917200@curlmanitoba.org
SUMMARY:Riverview Fall Vacation Open
DESCRIPTION:
URL:https://curlmanitoba.org/event/riverview-fall-vacation-open/
LOCATION:Riverview Curling Club\, 420 Maryland Avenue\, Brandon\, Manitoba\, R7A 6Z8\, Canada
ORGANIZER;CN="Chris":MAILTO:gm@riverviewcurling.ca
END:VEVENT
BEGIN:VEVENT
DTSTART;TZID=America/Winnipeg:20251121T180000
DTEND;TZID=America/Winnipeg:20251122T210000
DTSTAMP:20260425T091555
CREATED:20251017T191952Z
LAST-MODIFIED:20251017T191957Z
UID:13331-1763748000-1763845200@curlmanitoba.org
SUMMARY:Curl Balmoral Ladies Bonspiel
DESCRIPTION:
URL:https://curlmanitoba.org/event/curl-balmoral-ladies-bonspiel-3/
LOCATION:Balmoral Curling Club
ORGANIZER;CN="Kelsey Sigfusson":MAILTO:sigfussonk@gmail.com
END:VEVENT
BEGIN:VEVENT
DTSTART;VALUE=DATE:20251124
DTEND;VALUE=DATE:20251128
DTSTAMP:20260425T091555
CREATED:20250609T025604Z
LAST-MODIFIED:20251022T173227Z
UID:13063-1763942400-1764287999@curlmanitoba.org
SUMMARY:Manitoba’s Credit Unions Master Men’s Regional Qualifiers
DESCRIPTION:Cost $180\nEntry deadline is November 6\, 2025 \nThe Winnipeg regional qualifiers will be held November 25-27\, 2025. \nTo enter go to our Electronic Entry page or click the following link for your region: \nWinnipeg (Fort Rouge)\nEast (Selkirk)\nSouth 1 (Manitou)\nSouth 2 (Lorette)\nWest 1 (Minnedosa)\nWest 2 (Virden) \nCompetitive Team Fees MUST be paid prior to playing in this event.  When entering your team\, please click on the Add-On box in Curling I/O.
URL:https://curlmanitoba.org/event/manitobas-credit-unions-master-mens-regional-qualifiers-3/
LOCATION:Manitoba
END:VEVENT
BEGIN:VEVENT
DTSTART;VALUE=DATE:20251128
DTEND;VALUE=DATE:20251201
DTSTAMP:20260425T091555
CREATED:20250609T030638Z
LAST-MODIFIED:20250609T030638Z
UID:13064-1764288000-1764547199@curlmanitoba.org
SUMMARY:Manitoba’s Credit Unions Master Men’s Regional Qualifier – North Sport Region
DESCRIPTION:Cost $180\nEntry deadline is November 6\, 2025 \nTo enter go to our Electronic Entry page or click the following link for your region: \nNorth (The Pas) \nCompetitive Team Fees MUST be paid prior to playing in this event.  When entering your team\, please click on the Add-On box in Curling I/O.
URL:https://curlmanitoba.org/event/manitobas-credit-unions-master-mens-regional-qualifier-north-sport-region-2/
LOCATION:The Pas Curling Club\, 532 Smith Avenue\, The Pas\, Manitoba\, R9A 1L5\, Canada
END:VEVENT
BEGIN:VEVENT
DTSTART;TZID=America/Winnipeg:20251128T170000
DTEND;TZID=America/Winnipeg:20251129T210000
DTSTAMP:20260425T091555
CREATED:20251006T203450Z
LAST-MODIFIED:20251006T203454Z
UID:13294-1764349200-1764450000@curlmanitoba.org
SUMMARY:Minnedosa Ladies Bonspiel
DESCRIPTION:
URL:https://curlmanitoba.org/event/minnedosa-ladies-bonspiel-3/
LOCATION:Minnedosa Curling Club\, 61 6th street SW\, Minnedosa\, Manitoba\, R0J 1E0\, Canada
ORGANIZER;CN="Carissa":MAILTO:carissa.parachoniak@gmail.com
END:VEVENT
BEGIN:VEVENT
DTSTART;TZID=America/Winnipeg:20251128T170000
DTEND;TZID=America/Winnipeg:20251130T170000
DTSTAMP:20260425T091555
CREATED:20250905T152910Z
LAST-MODIFIED:20250905T152917Z
UID:13178-1764349200-1764522000@curlmanitoba.org
SUMMARY:Manitoba Stick Curling Tour - Warren Open
DESCRIPTION:
URL:https://curlmanitoba.org/event/manitoba-stick-curling-tour-warren-open/
LOCATION:Warren Curling Club\, Warren\, Manitoba\, Canada
ORGANIZER;CN="Jim Rouse":MAILTO:rousej@myyahoo.com
END:VEVENT
BEGIN:VEVENT
DTSTART;TZID=America/Winnipeg:20251128T170000
DTEND;TZID=America/Winnipeg:20251130T170000
DTSTAMP:20260425T091555
CREATED:20251021T160032Z
LAST-MODIFIED:20251021T160035Z
UID:13345-1764349200-1764522000@curlmanitoba.org
SUMMARY:Pinawa Modified Mixed Bonspiel
DESCRIPTION:
URL:https://curlmanitoba.org/event/pinawa-modified-mixed-bonspiel-2/
LOCATION:Pinawa Curling Club
ORGANIZER;CN="Brandy Westcott":MAILTO:pinawa.curling@outlook.com
END:VEVENT
BEGIN:VEVENT
DTSTART;TZID=America/Winnipeg:20251128T170000
DTEND;TZID=America/Winnipeg:20251130T170000
DTSTAMP:20260425T091555
CREATED:20251118T155648Z
LAST-MODIFIED:20251118T155713Z
UID:13443-1764349200-1764522000@curlmanitoba.org
SUMMARY:Arden 2 Person Stick Bonspiel
DESCRIPTION:
URL:https://curlmanitoba.org/event/arden-2-person-stick-bonspiel/
LOCATION:Arden Curling Club
END:VEVENT
END:VCALENDAR