BEGIN:VCALENDAR
VERSION:2.0
PRODID:-//CurlManitoba - ECPv6.15.17.1//NONSGML v1.0//EN
CALSCALE:GREGORIAN
METHOD:PUBLISH
X-WR-CALNAME:CurlManitoba
X-ORIGINAL-URL:https://curlmanitoba.org
X-WR-CALDESC:Events for CurlManitoba
REFRESH-INTERVAL;VALUE=DURATION:PT1H
X-Robots-Tag:noindex
X-PUBLISHED-TTL:PT1H
BEGIN:VTIMEZONE
TZID:America/Winnipeg
BEGIN:DAYLIGHT
TZOFFSETFROM:-0600
TZOFFSETTO:-0500
TZNAME:CDT
DTSTART:20240310T080000
END:DAYLIGHT
BEGIN:STANDARD
TZOFFSETFROM:-0500
TZOFFSETTO:-0600
TZNAME:CST
DTSTART:20241103T070000
END:STANDARD
BEGIN:DAYLIGHT
TZOFFSETFROM:-0600
TZOFFSETTO:-0500
TZNAME:CDT
DTSTART:20250309T080000
END:DAYLIGHT
BEGIN:STANDARD
TZOFFSETFROM:-0500
TZOFFSETTO:-0600
TZNAME:CST
DTSTART:20251102T070000
END:STANDARD
BEGIN:DAYLIGHT
TZOFFSETFROM:-0600
TZOFFSETTO:-0500
TZNAME:CDT
DTSTART:20260308T080000
END:DAYLIGHT
BEGIN:STANDARD
TZOFFSETFROM:-0500
TZOFFSETTO:-0600
TZNAME:CST
DTSTART:20261101T070000
END:STANDARD
BEGIN:DAYLIGHT
TZOFFSETFROM:-0600
TZOFFSETTO:-0500
TZNAME:CDT
DTSTART:20270314T080000
END:DAYLIGHT
BEGIN:STANDARD
TZOFFSETFROM:-0500
TZOFFSETTO:-0600
TZNAME:CST
DTSTART:20271107T070000
END:STANDARD
END:VTIMEZONE
BEGIN:VEVENT
DTSTART;TZID=America/Winnipeg:20251121T170000
DTEND;TZID=America/Winnipeg:20251122T210000
DTSTAMP:20260425T103738
CREATED:20251029T201621Z
LAST-MODIFIED:20251029T201624Z
UID:13375-1763744400-1763845200@curlmanitoba.org
SUMMARY:Springfield Curling Club Mixed Bonspiel - That 70's Spiel
DESCRIPTION:
URL:https://curlmanitoba.org/event/springfield-curling-club-mixed-bonspiel-that-70s-spiel/
LOCATION:Springfield Curling Club – Dugald
ORGANIZER;CN="Erin":MAILTO:ketoews@mymts.net
END:VEVENT
BEGIN:VEVENT
DTSTART;TZID=America/Winnipeg:20251121T170000
DTEND;TZID=America/Winnipeg:20251123T170000
DTSTAMP:20260425T103738
CREATED:20251020T143708Z
LAST-MODIFIED:20251020T143713Z
UID:13341-1763744400-1763917200@curlmanitoba.org
SUMMARY:Riverview Fall Vacation Open
DESCRIPTION:
URL:https://curlmanitoba.org/event/riverview-fall-vacation-open/
LOCATION:Riverview Curling Club\, 420 Maryland Avenue\, Brandon\, Manitoba\, R7A 6Z8\, Canada
ORGANIZER;CN="Chris":MAILTO:gm@riverviewcurling.ca
END:VEVENT
BEGIN:VEVENT
DTSTART;TZID=America/Winnipeg:20251121T180000
DTEND;TZID=America/Winnipeg:20251122T210000
DTSTAMP:20260425T103738
CREATED:20251017T191952Z
LAST-MODIFIED:20251017T191957Z
UID:13331-1763748000-1763845200@curlmanitoba.org
SUMMARY:Curl Balmoral Ladies Bonspiel
DESCRIPTION:
URL:https://curlmanitoba.org/event/curl-balmoral-ladies-bonspiel-3/
LOCATION:Balmoral Curling Club
ORGANIZER;CN="Kelsey Sigfusson":MAILTO:sigfussonk@gmail.com
END:VEVENT
BEGIN:VEVENT
DTSTART;VALUE=DATE:20251124
DTEND;VALUE=DATE:20251128
DTSTAMP:20260425T103738
CREATED:20250609T025604Z
LAST-MODIFIED:20251022T173227Z
UID:13063-1763942400-1764287999@curlmanitoba.org
SUMMARY:Manitoba’s Credit Unions Master Men’s Regional Qualifiers
DESCRIPTION:Cost $180\nEntry deadline is November 6\, 2025 \nThe Winnipeg regional qualifiers will be held November 25-27\, 2025. \nTo enter go to our Electronic Entry page or click the following link for your region: \nWinnipeg (Fort Rouge)\nEast (Selkirk)\nSouth 1 (Manitou)\nSouth 2 (Lorette)\nWest 1 (Minnedosa)\nWest 2 (Virden) \nCompetitive Team Fees MUST be paid prior to playing in this event.  When entering your team\, please click on the Add-On box in Curling I/O.
URL:https://curlmanitoba.org/event/manitobas-credit-unions-master-mens-regional-qualifiers-3/
END:VEVENT
BEGIN:VEVENT
DTSTART;VALUE=DATE:20251128
DTEND;VALUE=DATE:20251201
DTSTAMP:20260425T103738
CREATED:20250609T030638Z
LAST-MODIFIED:20250609T030638Z
UID:13064-1764288000-1764547199@curlmanitoba.org
SUMMARY:Manitoba’s Credit Unions Master Men’s Regional Qualifier – North Sport Region
DESCRIPTION:Cost $180\nEntry deadline is November 6\, 2025 \nTo enter go to our Electronic Entry page or click the following link for your region: \nNorth (The Pas) \nCompetitive Team Fees MUST be paid prior to playing in this event.  When entering your team\, please click on the Add-On box in Curling I/O.
URL:https://curlmanitoba.org/event/manitobas-credit-unions-master-mens-regional-qualifier-north-sport-region-2/
LOCATION:The Pas Curling Club\, 532 Smith Avenue\, The Pas\, Manitoba\, R9A 1L5\, Canada
END:VEVENT
BEGIN:VEVENT
DTSTART;TZID=America/Winnipeg:20251128T170000
DTEND;TZID=America/Winnipeg:20251129T210000
DTSTAMP:20260425T103738
CREATED:20251006T203450Z
LAST-MODIFIED:20251006T203454Z
UID:13294-1764349200-1764450000@curlmanitoba.org
SUMMARY:Minnedosa Ladies Bonspiel
DESCRIPTION:
URL:https://curlmanitoba.org/event/minnedosa-ladies-bonspiel-3/
LOCATION:Minnedosa Curling Club\, 61 6th street SW\, Minnedosa\, Manitoba\, R0J 1E0\, Canada
ORGANIZER;CN="Carissa":MAILTO:carissa.parachoniak@gmail.com
END:VEVENT
BEGIN:VEVENT
DTSTART;TZID=America/Winnipeg:20251128T170000
DTEND;TZID=America/Winnipeg:20251130T170000
DTSTAMP:20260425T103738
CREATED:20250905T152910Z
LAST-MODIFIED:20250905T152917Z
UID:13178-1764349200-1764522000@curlmanitoba.org
SUMMARY:Manitoba Stick Curling Tour - Warren Open
DESCRIPTION:
URL:https://curlmanitoba.org/event/manitoba-stick-curling-tour-warren-open/
LOCATION:Warren Curling Club\, Warren\, Manitoba\, Canada
ORGANIZER;CN="Jim Rouse":MAILTO:rousej@myyahoo.com
END:VEVENT
BEGIN:VEVENT
DTSTART;TZID=America/Winnipeg:20251128T170000
DTEND;TZID=America/Winnipeg:20251130T170000
DTSTAMP:20260425T103738
CREATED:20251021T160032Z
LAST-MODIFIED:20251021T160035Z
UID:13345-1764349200-1764522000@curlmanitoba.org
SUMMARY:Pinawa Modified Mixed Bonspiel
DESCRIPTION:
URL:https://curlmanitoba.org/event/pinawa-modified-mixed-bonspiel-2/
LOCATION:Pinawa Curling Club
ORGANIZER;CN="Brandy Westcott":MAILTO:pinawa.curling@outlook.com
END:VEVENT
BEGIN:VEVENT
DTSTART;TZID=America/Winnipeg:20251128T170000
DTEND;TZID=America/Winnipeg:20251130T170000
DTSTAMP:20260425T103738
CREATED:20251118T155648Z
LAST-MODIFIED:20251118T155713Z
UID:13443-1764349200-1764522000@curlmanitoba.org
SUMMARY:Arden 2 Person Stick Bonspiel
DESCRIPTION:
URL:https://curlmanitoba.org/event/arden-2-person-stick-bonspiel/
LOCATION:Arden Curling Club
END:VEVENT
BEGIN:VEVENT
DTSTART;TZID=America/Winnipeg:20251129T080000
DTEND;TZID=America/Winnipeg:20251129T210000
DTSTAMP:20260425T103738
CREATED:20251117T185300Z
LAST-MODIFIED:20251117T185314Z
UID:13435-1764403200-1764450000@curlmanitoba.org
SUMMARY:La Salle Curling Club "Rocks and Beers" Bonspiel
DESCRIPTION:
URL:https://curlmanitoba.org/event/la-salle-curling-club-rocks-and-beers-bonspiel/
LOCATION:La Salle Curling Club
ORGANIZER;CN="Dennis Gerbrandt":MAILTO:dennis.gerbrandt@masterbrand.com
END:VEVENT
BEGIN:VEVENT
DTSTART;VALUE=DATE:20251204
DTEND;VALUE=DATE:20251208
DTSTAMP:20260425T103738
CREATED:20250609T031610Z
LAST-MODIFIED:20250911T210912Z
UID:13066-1764806400-1765151999@curlmanitoba.org
SUMMARY:Bunge Regional Qualifiers
DESCRIPTION:Cost $180\nEntry deadline is November 20\, 2025 \nTo enter go to our Electronic Entry page or click the following link for your region: \nWinnipeg (East St. Paul)\nEast (Beausejour)\nSouth 1 (Morden)\nSouth 2 (Morden)\nWest 1 (Hamiota)\nWest 2 (Carberry)\nNorth (Burntwood) \nCompetitive Team Fees MUST be paid prior to playing in this event.  When entering your team\, please click on the Add-On box in Curling I/O.
URL:https://curlmanitoba.org/event/viterra-regional-qualifiers-4/
END:VEVENT
BEGIN:VEVENT
DTSTART;VALUE=DATE:20251204
DTEND;VALUE=DATE:20251208
DTSTAMP:20260425T103738
CREATED:20250609T032519Z
LAST-MODIFIED:20250818T203622Z
UID:13067-1764806400-1765151999@curlmanitoba.org
SUMMARY:RME Regional Qualifiers
DESCRIPTION:Cost $180\nEntry deadline is November 20\, 2025 \nTo enter go to our Electronic Entry page or click the following link for your region: \nWinnipeg (East St. Paul) This includes entries from the East region\nSouth (Morden)\nWest (Carberry)\nNorth (Burntwood) \nCompetitive Team Fees MUST be paid prior to playing in this event.  When entering your team\, please click on the Add-On box in Curling I/O.
URL:https://curlmanitoba.org/event/rme-regional-qualifiers/
END:VEVENT
BEGIN:VEVENT
DTSTART;TZID=America/Winnipeg:20251205T170000
DTEND;TZID=America/Winnipeg:20251207T170000
DTSTAMP:20260425T103738
CREATED:20250905T155810Z
LAST-MODIFIED:20250905T155815Z
UID:13195-1764954000-1765126800@curlmanitoba.org
SUMMARY:Manitoba Stick Curling Tour - Western Division - Portage la Prairie Open
DESCRIPTION:
URL:https://curlmanitoba.org/event/manitoba-stick-curling-tour-western-division-portage-la-prairie-open/
LOCATION:Portage Curling Club\, 2401 Saskatchewan Ave W\, Portage la Prairie\, Manitoba\, R1N 3B7\, Canada
ORGANIZER;CN="Rae Trimble-Olson":MAILTO:manager@portagecurlingclub.com
END:VEVENT
BEGIN:VEVENT
DTSTART;TZID=America/Winnipeg:20251205T170000
DTEND;TZID=America/Winnipeg:20251207T170000
DTSTAMP:20260425T103738
CREATED:20250925T161833Z
LAST-MODIFIED:20250925T164227Z
UID:13270-1764954000-1765126800@curlmanitoba.org
SUMMARY:Selkirk Curling Club "Wild West Mixed Bonspiel"
DESCRIPTION:
URL:https://curlmanitoba.org/event/selkirk-curling-club-wild-west-mixed-bonspiel/
LOCATION:Selkirk Curling club\, 381 Jemima Street\, Selkirk\, Manitoba\, R1A 0R2\, Canada
ORGANIZER;CN="Allan Typlisk":MAILTO:atypliski@gmail.com
END:VEVENT
BEGIN:VEVENT
DTSTART;TZID=America/Winnipeg:20251205T170000
DTEND;TZID=America/Winnipeg:20251207T170000
DTSTAMP:20260425T103738
CREATED:20251006T192400Z
LAST-MODIFIED:20251006T192404Z
UID:13290-1764954000-1765126800@curlmanitoba.org
SUMMARY:Whiteshell Men's Bonspiel
DESCRIPTION:
URL:https://curlmanitoba.org/event/whiteshell-mens-bonspiel-2/
LOCATION:Whiteshell Curlng Club
ORGANIZER;CN="Janet":MAILTO:mothership@mymts.net
END:VEVENT
BEGIN:VEVENT
DTSTART;TZID=America/Winnipeg:20251205T170000
DTEND;TZID=America/Winnipeg:20251207T170000
DTSTAMP:20260425T103738
CREATED:20251017T153530Z
LAST-MODIFIED:20251017T153533Z
UID:13324-1764954000-1765126800@curlmanitoba.org
SUMMARY:Selkirk "Wild Wild West" Mixed Funspiel
DESCRIPTION:
URL:https://curlmanitoba.org/event/selkirk-wild-wild-west-mixed-funspiel/
LOCATION:Selkirk Curling club\, 381 Jemima Street\, Selkirk\, Manitoba\, R1A 0R2\, Canada
END:VEVENT
BEGIN:VEVENT
DTSTART;TZID=America/Winnipeg:20251205T170000
DTEND;TZID=America/Winnipeg:20251207T170000
DTSTAMP:20260425T103738
CREATED:20251114T211349Z
LAST-MODIFIED:20251114T211353Z
UID:13415-1764954000-1765126800@curlmanitoba.org
SUMMARY:Selkirk Wild Wild West Mixed Funspiel
DESCRIPTION:
URL:https://curlmanitoba.org/event/selkirk-wild-wild-west-mixed-funspiel-2/
LOCATION:Selkirk Curling club\, 381 Jemima Street\, Selkirk\, Manitoba\, R1A 0R2\, Canada
END:VEVENT
BEGIN:VEVENT
DTSTART;TZID=America/Winnipeg:20251205T170000
DTEND;TZID=America/Winnipeg:20251207T170000
DTSTAMP:20260425T103738
CREATED:20251127T164821Z
LAST-MODIFIED:20251127T164835Z
UID:13485-1764954000-1765126800@curlmanitoba.org
SUMMARY:Teulon "Jonathon Watson" CurlManitoba U13 & U15 Bonspiels
DESCRIPTION:
URL:https://curlmanitoba.org/event/teulon-jonathon-watson-curlmanitoba-u13-u15-bonspiels/
LOCATION:Teulon Curling Club
ORGANIZER;CN="Joim Hardy":MAILTO:hardyjim470@gmail.com
END:VEVENT
BEGIN:VEVENT
DTSTART;TZID=America/Winnipeg:20251206T080000
DTEND;TZID=America/Winnipeg:20251206T210000
DTSTAMP:20260425T103738
CREATED:20251110T170607Z
LAST-MODIFIED:20251110T170659Z
UID:13401-1765008000-1765054800@curlmanitoba.org
SUMMARY:Brandon Curling Club 3rd Annual Ugly Sweater Doubles Funspiel
DESCRIPTION:
URL:https://curlmanitoba.org/event/brandon-curling-club-3rd-annual-ugly-sweater-doubles-funspiel/
LOCATION:Brandon Curling Club\, 1175 18th St\, Brandon\, Brandon\, R7A7C5\, Canada
END:VEVENT
BEGIN:VEVENT
DTSTART;TZID=America/Winnipeg:20251210T080000
DTEND;TZID=America/Winnipeg:20251211T210000
DTSTAMP:20260425T103738
CREATED:20251028T200221Z
LAST-MODIFIED:20251028T200227Z
UID:13368-1765353600-1765486800@curlmanitoba.org
SUMMARY:Stonewall Senior Open Bonspiel
DESCRIPTION:
URL:https://curlmanitoba.org/event/stonewall-senior-open-bonspiel-3/
LOCATION:Stonewall Curling Club
ORGANIZER;CN="Elsie Murray":MAILTO:egmurray@shaw.ca
END:VEVENT
BEGIN:VEVENT
DTSTART;VALUE=DATE:20251211
DTEND;VALUE=DATE:20251215
DTSTAMP:20260425T103738
CREATED:20250609T034237Z
LAST-MODIFIED:20250818T203849Z
UID:13069-1765411200-1765756799@curlmanitoba.org
SUMMARY:Strathcona Trust Senior Men’s Regional Qualifiers
DESCRIPTION:Cost $180\nEntry deadline is November 27\, 2025 \nTo enter go to our Electronic Entry page or click the following link for your region: \nWinnipeg (Elmwood)\nEast (Stonewall)\nSouth 1 (St. Claude)\nSouth 2 (St. Claude)\nWest 1 (Dauphin)\nWest 2 (Killarney)\nNorth (Burntwood) \nCompetitive Team Fees MUST be paid prior to playing in this event.  When entering your team\, please click on the Add-On box in Curling I/O.
URL:https://curlmanitoba.org/event/strathcona-trust-senior-mens-regional-qualifiers-4/
END:VEVENT
BEGIN:VEVENT
DTSTART;TZID=America/Winnipeg:20251212T170000
DTEND;TZID=America/Winnipeg:20251214T170000
DTSTAMP:20260425T103738
CREATED:20251110T164401Z
LAST-MODIFIED:20251110T164405Z
UID:13396-1765558800-1765731600@curlmanitoba.org
SUMMARY:Assiniboine Memorial 4th Annual Ugly Sweater Bonspiel
DESCRIPTION:
URL:https://curlmanitoba.org/event/assiniboine-memorial-4th-annual-ugly-sweater-bonspiel/
LOCATION:Assiniboine Memorial Curling Club\, 940 Vimy Road\, Winnipeg\, Manitoba\, R2Y0T8\, Canada
ORGANIZER;CN="Jason Paseska":MAILTO:jason.paseska@curlamcc.com
END:VEVENT
BEGIN:VEVENT
DTSTART;TZID=America/Winnipeg:20251213T090000
DTEND;TZID=America/Winnipeg:20251214T170000
DTSTAMP:20260425T103738
CREATED:20250905T153157Z
LAST-MODIFIED:20251017T192229Z
UID:13180-1765616400-1765731600@curlmanitoba.org
SUMMARY:Manitoba Stick Curling Tour - Balmoral Open
DESCRIPTION:
URL:https://curlmanitoba.org/event/manitoba-stick-curling-tour-balmoral-open/
LOCATION:Balmoral Curling Club
ORGANIZER;CN="Neil Stewart":MAILTO:neilstewart1959@gmail.com
END:VEVENT
BEGIN:VEVENT
DTSTART;VALUE=DATE:20251219
DTEND;VALUE=DATE:20251223
DTSTAMP:20260425T103738
CREATED:20250609T035755Z
LAST-MODIFIED:20250609T035755Z
UID:13070-1766102400-1766447999@curlmanitoba.org
SUMMARY:ASHAM U18 Men’s and Women’s Provincial Championships
DESCRIPTION:Cost per team – $245\nDeadline to enter is December 4\, 2025 \nCompetitive Team Fees MUST be paid prior to playing in this event.  When entering your team\, please click on the Add-On box in Curling I/O. \nTo enter your team\, go to our Electronic Entry page or click the following links: \nASHAM U18 Women’s Championship \nASHAM U18 Men’s Championship
URL:https://curlmanitoba.org/event/asham-u18-mens-and-womens-provincial-championships-3/
LOCATION:Riverton Curling Club\, 175 Reggie Leach Dr\, Riverton\, Manitoba\, R0C 2R0\, Canada
END:VEVENT
BEGIN:VEVENT
DTSTART;TZID=America/Winnipeg:20251219T170000
DTEND;TZID=America/Winnipeg:20251220T170000
DTSTAMP:20260425T103738
CREATED:20251015T174938Z
LAST-MODIFIED:20251015T174942Z
UID:13316-1766163600-1766250000@curlmanitoba.org
SUMMARY:Eriksdale Christmas Mixed Bonspiel
DESCRIPTION:
URL:https://curlmanitoba.org/event/eriksdale-christmas-mixed-bonspiel/
LOCATION:Eriksdale Curling Club
END:VEVENT
BEGIN:VEVENT
DTSTART;TZID=America/Winnipeg:20251226T080000
DTEND;TZID=America/Winnipeg:20251226T200000
DTSTAMP:20260425T103738
CREATED:20251118T155840Z
LAST-MODIFIED:20251118T155843Z
UID:13446-1766736000-1766779200@curlmanitoba.org
SUMMARY:Arden Boxing Day Bonspiel
DESCRIPTION:
URL:https://curlmanitoba.org/event/arden-boxing-day-bonspiel-2/
LOCATION:Arden Curling Club
END:VEVENT
BEGIN:VEVENT
DTSTART;TZID=America/Winnipeg:20251227T080000
DTEND;TZID=America/Winnipeg:20251227T190000
DTSTAMP:20260425T103738
CREATED:20251117T184940Z
LAST-MODIFIED:20251117T184944Z
UID:13434-1766822400-1766862000@curlmanitoba.org
SUMMARY:MInnedosa Funspiel
DESCRIPTION:
URL:https://curlmanitoba.org/event/minnedosa-funspiel/
LOCATION:Minnedosa Curling Club\, 61 6th street SW\, Minnedosa\, Manitoba\, R0J 1E0\, Canada
ORGANIZER;CN="Minnedosa Curling Club":MAILTO:minnedosajuniorcurling@gmail.com
END:VEVENT
BEGIN:VEVENT
DTSTART;VALUE=DATE:20251230
DTEND;VALUE=DATE:20260105
DTSTAMP:20260425T103738
CREATED:20250609T175450Z
LAST-MODIFIED:20250609T175450Z
UID:13080-1767052800-1767571199@curlmanitoba.org
SUMMARY:RME Women of the Rings Championship presented by Case IH
DESCRIPTION:Twelve teams will play to earn the right to represent Manitoba at the Scotties Tournament of Hearts in Mississauga\, ON from January 23 – February 1\, 2026. \nThe competition will take place in the Riverdale Community Centre in Rivers\, MB from December 30 – January 4\, 2026.
URL:https://curlmanitoba.org/event/rme-women-of-the-rings-championship-presented-by-case-ih-2/
LOCATION:Riverdale Community Center\, 101 Main Street\, Rivers\, Manitoba\, Canada
END:VEVENT
BEGIN:VEVENT
DTSTART;TZID=America/Winnipeg:20260101T170000
DTEND;TZID=America/Winnipeg:20260104T170000
DTSTAMP:20260425T103738
CREATED:20251118T160008Z
LAST-MODIFIED:20251118T160012Z
UID:13447-1767286800-1767546000@curlmanitoba.org
SUMMARY:Arden Men's Bonspiel
DESCRIPTION:
URL:https://curlmanitoba.org/event/arden-mens-bonspiel-2/
LOCATION:Arden Curling Club
END:VEVENT
BEGIN:VEVENT
DTSTART;VALUE=DATE:20260102
DTEND;VALUE=DATE:20260105
DTSTAMP:20260425T103738
CREATED:20250609T160925Z
LAST-MODIFIED:20251211T175017Z
UID:13075-1767312000-1767571199@curlmanitoba.org
SUMMARY:Manitoba Games U15 Men's Regional Qualifiers
DESCRIPTION:Cost $180\nEntry deadline is December 18\, 2025 \nTo enter go to our Electronic Entry page or click the following link for your region: \nWinnipeg (Granite)\nEast (Springfield)\nSouth 1 (Steinbach)\nSouth 2 (Steinbach)\nWest 1 (Swan River)\nWest 2 (Brandon)\nNorth (Burntwood) \nManitoba Games is being held March 1-7\, 2026 in Thompson\, MB.
URL:https://curlmanitoba.org/event/manitoba-games-u15-mens-regional-qualifiers/
END:VEVENT
END:VCALENDAR